Workbook

Sheet ปกงวด
F2: รายการรายละเอียดการแบ่งงวดงาน
F3: =ปกราคา!F6 -> ประกอบแบบแปลนการก่อสร้างระบบประปาหมู่บ้าน
F4: =ปกราคา!F7 -> 0
F5: =ปกราคา!F8 -> ปีงบประมาณ 256๖
F11: สถานที่ก่อสร้าง
F12: =ปกราคา!F14 -> บ้านวังใหญ่ หมู่ที่ ๕ ตำบลทุ่งหลวง
F13: =ปกราคา!F15 -> อำเภอเวียงสระ จังหวัดสุราษฎร์ธานี
D20: ออกแบบโดย
E21: ส่วนบริหารจัดการน้ำ
E22: สำนักงานทรัพยากรน้ำภาค 10 จังหวัดสุราษฎร์ธานี
E23: กรมทรัพยากรน้ำ กระทรวงทรัพยากรธรรมชาติและสิ่งแวดล้อม
E24: โทร.0-7720-0788, 0-7727-2942
E25: โทรสาร 0-7720-0788
E26: =ปกราคา!E27 -> 0

Sheet งวดงาน
S1: เอกสารหมายเลข.......................
I2: รายละเอียดการแบ่งงวดงาน
A3: ชื่อโครงการ | D3: =ปร.5!E6 -> ก่อสร้างระบบประปาหมู่บ้าน (ปากน้ำ 3)
A4: =ปร.5!B7 -> สถานที่ก่อสร้าง บ้านปากน้ำ หมู่ที่ ๑3 ตำบลทุ่งหลวง อำเภอเวียงสระ จังหวัดสุราษฎร์ธานี
A5: ระยะเวลาดำเนินงาน......... | E5: ='งวดงาน ส'!Q23 -> 120 | F5: วัน ซึ่งผู้ว่าจ้างตกลงจ้างและผู้รับจ้างตกลงรับเงินค่าจ้าง
A6: เป็นจำนวนเงิน......... | D6: =ปร.6!L19 -> 903720.66 | G6: บาท (............. | I6: =BAHTTEXT(D6) -> เก้าแสนสามพันเจ็ดร้อยยี่สิบบาทหกสิบหกสตางค์ | Q6: .............................................)
A7: ซึ่งได้รวมภาษีมูลค่าเพิ่ม ตลอดจนค่าภาษีอากรอื่นๆ ทั้งปวงด้วยแล้ว โดยถือราคาเหมารวมเป็นเกณฑ์ และกำหนด
A8: การจ่ายเงินเป็นงวดๆ ดังนี้
A9: งวดที่ ๑ จะจ่ายเงินให้ร้อยละ ๒๐ ของราคาค่าก่อสร้างแต่ต้องไม่เกินราคากลางที่ทางราชการประมาณการไว้
B10: เป็นเงิน........ | D10: =0.2*D6 -> 180744.13 | G10: บาท (............. | I10: =BAHTTEXT(D10) -> หนึ่งแสนแปดหมื่นเจ็ดร้อยสี่สิบสี่บาทสิบสามสตางค์ | Q10: .................................)
B11: ๑.๑ งานอาคาร, งานโครงสร้างคอนกรีตเสริมเหล็ก และงานสาธารณูปโภค
C12: เป็นเงิน........ | E12: ...................... | G12: บาท (..................................................................... | Q12: ..........................................)
C13: ๑.๑.๑ ดินถม ตามรายการรายละเอียดเฉพาะแห่ง คิดเป็น ๐.๕ % ของงวดงาน
C14: เมื่อผู้รับจ้างได้ทำการปรับเกลี่ยแต่งพื้นที่บริเวณที่ตั้งระบบประปาแล้วเสร็จ
C15: ๑.๑.๒ บ่อบาดาล PVC. ขนาด ฦ ๖ นิ้ว แบบเลขที่ สบน.10-007 คิดเป็น ๖๒.๑ % ของงวดงาน
C16: เมื่อผู้รับจ้างได้ทำการเจาะบ่อบาดาล PVC. ขนาด ฦ ๖ นิ้ว แล้วเสร็จ
C17: ๑.๑.๓ ถังกรองสนิมเหล็ก ขนาด ๗ ลบ.ม./ชม. แบบเลขที่ สบน.10-1007 คิดเป็น ๒.๐ % ของงวดงาน
C18: เมื่อผู้รับจ้างได้ทำการผูกเหล็กประกอบแบบ เทคอนกรีตพื้นรองถังกรองแล้วเสร็จ
C19: ๑.๑.๔ หอถังสูงเหล็กทรงรูปถ้วยเชมเปญ ขนาดจุ ๑๕ ลบ.ม. ตามแบบเลขที่ 3212015
C20: คิดเป็น ๒๙.๐ % ของงวดงาน
C21: เมื่อผู้รับจ้างได้ทำการตอกเสาเข็ม(ถ้ามี) ผูกเหล็กประกอบแบบ เทคอนกรีต ฐานราก ตอม่อ พื้นรองถัง
C22: แล้วเสร็จ
C23: ๑.๑.๕ ทดสอบความสามารถในการรับน้ำหนักบรรทุกของดิน ตามรายการรายละเอียดเฉพาะแห่ง
C24: คิดเป็น ๖.๔ % ของงวดงาน
... C30: ก่อนส่งงวดงาน
A31: ซึ่งจะแล้วเสร็จภายใน ๖๐ วัน นับถัดจากวันลงนามในสัญญา
A33: งวดที่ ๒ จะจ่ายเงินให้ร้อยละ ๓๕ ของราคาค่าก่อสร้างแต่ต้องไม่เกินราคากลางที่ทางราชการประมาณการไว้
B34: เป็นเงิน........ | D34: =0.35*D6 -> 316302.23 | G34: บาท (............. | I34: =BAHTTEXT(D34) -> สามแสนหนึ่งหมื่นหกพันสามร้อยสองบาทยี่สิบสามสตางค์ | Q34: .......................................)
B37: ๒.๑ งานอาคาร, งานโครงสร้างคอนกรีตเสริมเหล็ก และงานสาธารณูปโภค
C38: เป็นเงิน........ | E38: ................... | G38: บาท (..................................................................... | Q38: .......................................)
C39: ๒.๑.๑ บ่อบาดาล PVC. ขนาด ฦ ๖ นิ้ว แบบเลขที่ สบน.10-007 คิดเป็น ๕.๓ % ของงวดงาน
C40: เมื่อผู้รับจ้างได้ทำการก่อสร้างบ่อบาดาล PVC. แล้วเสร็จทั้งหมด เรียบร้อย ถูกต้อง ครบถ้วน
C41: ๒.๑.๒ ถังกรองสนิมเหล็ก ขนาด ๗ ลบ.ม./ชม. แบบเลขที่ สบน.10-1007 คิดเป็น ๙.๕ % ของงวดงาน
C42: เมื่อผู้รับจ้างได้ทำการติดตั้งถังกรองสนิมเหล็ก พร้อมประสานท่อ อุปกรณ์แล้วเสร็จ
C43: ๒.๑.๓ หอถังสูงเหล็กทรงรูปถ้วยเชมเปญ ขนาดจุ ๑๕ ลบ.ม. ตามแบบเลขที่ 3212015
C44: คิดเป็น ๕๗.๒ % ของงวดงาน
C45: เมื่อผู้รับจ้างได้ทำการติดตั้งหอถังสูงเหล็กทรงรูปถ้วยเชมเปญ พร้อมประสานท่อ อุปกรณ์แล้วเสร็จ
C46: ๒.๑.๔ ระบบท่อจ่ายน้ำประปา แบบเลขที่ อบต.พลูเถื่อน คิดเป็น ๒๘.๐ % ของงวดงาน
C47: เมื่อผู้รับจ้างได้ทำการจัดหาและวางท่อจ่ายน้ำประปาแล้วเสร็จดังนี้
C48: ๑. ท่อ PVC. ยาว ๔ ม. ชั้นคุณภาพ ๘.๕ ขนาด dia ๓" ความยาว ๑,๐๐๐ เมตร
...

Sheet งวดงาน ส
B1: สรุปรายละเอียดการแบ่งงวดงาน……………………………….. | F1: =ปร.5!B7 -> สถานที่ก่อสร้าง บ้านปากน้ำ หมู่ที่ ๑3 ตำบลทุ่งหลวง อำเภอเวียงสระ จังหวัดสุราษฎร์ธานี
A2: ลำดับ | B2: รายการ | G2: ราคากลาง | I2: งวดงานที่ ๑ ( ๖๐ วัน) | M2: งวดงานที่ ๒ ( 3๐ วัน) | Q2: งวดงานที่ ๓ ( 3๐ วัน)
A3: ที่ | G3: (บาท) | I3: % งวด | J3: % งาน | K3: ค่างาน(บาท) | M3: % งวด | N3: % งาน | O3: ค่างาน(บาท) | Q3: % งวด | R3: % งาน | S3: ค่างาน(บาท)
A4: 1 | B4: ประเภทงานอาคาร, โครงสร้างคอนกรีตเสริมเหล็ก และสาธารณูปโภค | I4: 0.2 | K4: =I4*G22 -> #REF! | M4: 0.35 | O4: =M4*G22 -> #REF! | Q4: 0.45 | S4: =Q4*G22 -> #REF! | W4: =I4+M4+Q4 -> 1
B5: ๑.๑ ป้ายการประปา จำนวน ๑ ป้าย แบบเลขที่ ๙๒๑๐๐๑ | G5: =ปร.5!L15 -> 5683.5561 | K5: =J5*$K$4 -> #REF! | O5: =N5*$O$4 -> #REF! | R5: 0.008 | S5: =R5*$S$4 -> #REF! | W5: =K5+O5+S5 -> #REF!
B6: ๑.๒ รั้ว, ประตูรั้ว ความยาว ๓๖ เมตร แบบเลขที่ ๙๒๑๐๐๑, ๙๑๑๐๔๓ | G6: =ปร.5!L16 -> 26740.069 | K6: =J6*$K$4 -> #REF! | O6: =N6*$O$4 -> #REF! | R6: 0.042 | S6: =R6*$S$4 -> #REF! | W6: =K6+O6+S6 -> #REF!
B7: ๑.๓ การประสานท่อระหว่างระบบ แบบเลขที่ ๙๑๑๐๔๓, ๙๙๑๐๔๔ | G7: =ปร.5!L17 -> 0 | K7: =J7*$K$4 -> #REF! | O7: =N7*$O$4 -> #REF! | R7: 0.052 | S7: =R7*$S$4 -> #REF! | W7: =K7+O7+S7 -> #REF!
B8: ๑.๔ การประสานท่อที่ปากบ่อบาดาล แบบเลขที่ สบน.10-1007 | G8: =ปร.5!L18 -> 17662.05 | K8: =J8*$K$4 -> #REF! | O8: =N8*$O$4 -> #REF! | R8: 0.018 | S8: =R8*$S$4 -> #REF! | W8: =K8+O8+S8 -> #REF!
B9: ๑.๕ ดินถม จำนวน ๑ รายการ | G9: =ปร.5!L19 -> 9488.4458 | J9: 0.005 | K9: =J9*$K$4 -> #REF! | O9: =N9*$O$4 -> #REF! | R9: 0.001 | S9: =R9*$S$4 -> #REF! | W9: =K9+O9+S9 -> #REF!
B10: ๑.๖ ทดสอบการรับน้ำหนักบรรทุกของดิน จำนวน ๑ จุด | G10: =ปร.5!L20 -> 272309.28 | J10: 0.064 | K10: =J10*$K$4 -> #REF! | O10: =N10*$O$4 -> #REF! | S10: =R10*$S$4 -> #REF! | W10: =K10+O10+S10 -> #REF!
B11: ๑.๗ การประสานระบบไฟฟ้าภายใน จำนวน ๑ ระบบ | G11: =ปร.5!L21 -> 81272.198 | K11: =J11*$K$4 -> #REF! | O11: =N11*$O$4 -> #REF! | R11: 0.019 | S11: =R11*$S$4 -> #REF! | W11: =K11+O11+S11 -> #REF!
B12: ๑.๘ บ่อบาดาล PVC. ขนาด ฦ ๖ นิ้ว จำนวน ๑ บ่อ แบบเลขที่ สบน.10-007 | G12: =ปร.5!L22 -> 422357.47 | J12: 0.621 | K12: =J12*$K$4 -> #REF! | N12: 0.053 | O12: =N12*$O$4 -> #REF! | S12: =R12*$S$4 -> #REF! | W12: =K12+O12+S12 -> #REF!
B13: ๑.๙ ถังกรองสนิมเหล็ก ขนาด ๗ ลบ.ม./ชม. จำนวน ๑ ถัง แบบเลขที่ สบน.10-007 | G13: =ปร.5!L23 -> 1203.0342 | J13: 0.02 | K13: =J13*$K$4 -> #REF! | N13: 0.095 | O13: =N13*$O$4 -> #REF! | R13: 0.022 | S13: =R13*$S$4 -> #REF! | W13: =K13+O13+S13 -> #REF!
B14: ๑.๑๐ หอถังสูงเหล็กทรงรูปถ้วยเชมเปญ ขนาดจุ ๑๕ ลบ.ม. แบบเลขที่ 3212015 | G14: =ปร.5!L24 -> 10485.567 | J14: 0.29 | K14: =J14*$K$4 -> #REF! | N14: 0.572 | O14: =N14*$O$4 -> #REF! | R14: 0.057 | S14: =R14*$S$4 -> #REF! | W14: =K14+O14+S14 -> #REF!
B15: ๑.๑๑ ระบบท่อส่งน้ำดิบ จำนวน ๑ ระบบ แบบเลขที่ อบต.พลูเถื่อน | G15: =ปร.5!L25 -> 3000 | K15: =J15*$K$4 -> #REF! | O15: =N15*$O$4 -> #REF! | R15: 0.007 | S15: =R15*$S$4 -> #REF! | W15: =K15+O15+S15 -> #REF!
B16: ๑.๑๒ ระบบท่อจ่ายน้ำประปา ความยาว ๔,๐๐๐ ม. แบบเลขที่ อบต.พลูเถื่อน | G16: =ปร.5!#REF! -> #REF! | K16: =J16*$K$4 -> #REF! | N16: 0.28 | O16: =N16*$O$4 -> #REF! | R16: 0.665 | S16: =R16*$S$4 -> #REF! | W16: =K16+O16+S16 -> #REF!
A17: 2 | B17: ประเภทงานครุภัณฑ์จัดซื้อหรือสั่งซื้อ
B18: ๒.๑ จัดหาและติดตั้งเครื่องสูบน้ำบาดาลพร้อมอุปกรณ์ควบคุม จำนวน ๑ ชุด | G18: ='ปร.5 (2)'!L18 -> 52768.976 | K18: =J18*$K$4 -> #REF! | O18: =N18*$O$4 -> #REF! | R18: 0.075 | S18: =R18*$S$4 -> #REF! | W18: =K18+O18+S18 -> #REF!
B19: ๒.๒ จัดหาและส่งมอบเครื่องมือประจำการประปา จำนวน ๑ ชุด | G19: ='ปร.5 (2)'!L19 -> 0 | K19: =J19*$K$4 -> #REF! | O19: =N19*$O$4 -> #REF! | R19: 0.014 | S19: =R19*$S$4 -> #REF! | W19: =K19+O19+S19 -> #REF!
B20: ๒.๓ จัดหาและส่งมอบเครื่องมือตรวจวัด จำนวน ๑ ชุด | G20: ='ปร.5 (2)'!L20 -> 0 | K20: =J20*$K$4 -> #REF! | O20: =N20*$O$4 -> #REF! | R20: 0.01 | S20: =R20*$S$4 -> #REF! | W20: =K20+O20+S20 -> #REF!
B21: ๒.๔ การประสานระบบไฟฟ้าภายนอก จำนวน ๑ ระบบ | G21: ='ปร.5 (2)'!L21 -> 750 | K21: =J21*$K$4 -> #REF! | O21: =N21*$O$4 -> #REF! | R21: 0.01 | S21: =R21*$S$4 -> #REF! | W21: =K21+O21+S21 -> #REF!
A22: รวมค่าก่อสร้าง, (%) ของงวดงาน | G22: =SUM(G5:H21) -> #REF! | I22: =SUM(I4:I21) -> 0.2 | J22: =SUM(J5:J21) -> 1 | K22: =SUM(K5:L21) -> #REF! | M22: =SUM(M4:M21) -> 0.35 | N22: =SUM(N5:N21) -> 1 | O22: =SUM(O5:P21) -> #REF! | Q22: =SUM(Q4:Q21) -> 0.45 | R22: =SUM(R5:R21) -> 1 | S22: =SUM(S5:T21) -> #REF! | W22: =K22+O22+S22 -> #REF!
A23: ระยะเวลานับจากวันเริ่มสัญญาก่อสร้าง (วัน) | G23: =Q23 -> 120 | I23: 60 | M23: =I23+30 -> 90 | Q23: =M23+30 -> 120

Sheet ค่า K
A1: เงื่อนไข หลักเกณฑ์ ประเภทงานก่อสร้าง สูตรและวิธีการคำนวณที่ใช้กับสัญญาแบบปรับราคาได้
A2: ก. | B2: เงื่อนไขและหลักเกณฑ์
B3: 1. สัญญาแบบปรับราคา ได้นี้ให้ใช้กับงานก่อสร้างทุกประเภท รวมถึงงานปรับปรุงและซ่อมแซม
A4: ซึ่งเบิกจ่ายค่างานในลักษณะ หมวดค่าครุภัณฑ์ ที่ดินและสิ่งก่อสร้าง หมวดเงินอุดหนุนและหมวดรายจ่ายอื่นที่เบิกจ่าย
A5: ในลักษณะค่าที่ดินและสิ่งก่อสร้าง ที่อยู่ในเงื่อนไขและหลักเกณฑ์ตามที่ได้กำหนดนี้
B6: 2. สัญญาแบบปรับราคาได้นี้ให้ใช้ทั้งในกรณีเพิ่มหรือลดค่างานจากค่างานเดิมตามสัญญา เมื่อดัชนีราคาซึ่งจัดทำ
A7: ขึ้นโดยกระทรวงพาณิชย์ มีการเปลี่ยนแปลงสูงขึ้น หรือลดลงจากเดิม ขณะเมื่อวันที่เปิดซองประกวดราคาสำหรับกรณี
A8: ที่จัดจ้างโดยวิธีอื่น ให้ใช้วันเปิดซองราคาแทน
B9: 3. การนำสัญญาแบบปรับราคาได้ไปใช้นั้น ผู้ว่าจ้างต้องแจ้ง และประกาศให้ผู้รับจ้างทราบ เช่น ในประกาศ
A10: ประกวดราคาฯ และต้องระบุในสัญญาจ้างด้วยว่างานจ้างเหมานั้นๆ จะใช้สัญญาแบบปรับราคาพร้อมทั้งกำหนดประเภท
A11: ของงานก่อสร้าง สูตรและวิธีการคำนวณ ที่ให้มีการปรับเพิ่มหรือลดค่างานไว้ให้ชัดเจน
B12: ในกรณีที่มีงานก่อสร้างหลายประเภทในงานจ้างคราวเดียวกัน จะต้องแยกประเภทงานก่อสร้างแต่ละประเภทให้
A13: ชัดเจนตามลักษณะของงานก่อสร้างนั้นๆ และให้สอดคล้องกับสูตรที่กำหนดไว้
B14: 4. การขอเงินเพิ่มค่างานก่อสร้างตามสัญญาแบบปรับราคาได้นี้ เป็นหน้าที่ของผู้รับจ้างที่จะต้องเรียกร้องภายใน
A15: กำหนด 90 วัน นับตั้งแต่วันที่ผู้รับจ้างได้ส่งมอบงานงวดสุดท้าย หากพ้นกำหนดนี้ไปแล้วผู้รับจ้างไม่มีสิทธิที่จะเรียกร้อง
A16: เงินเพิ่มค่างานก่อสร้างจากผู้ว่าจ้างได้อีกต่อไป และในกรณีที่ผู้ว่าจ้างจะต้องเรียกเงินคืนจากผู้รับจ้าง ให้ผู้ว่าจ้างที่เป็นคู่
A17: สัญญารีบเรียกเงินคืนจากผู้รับจ้างโดยเร็ว หรือให้หักค่างานของงวดต่อไป หรือให้หักเงินจากหลักประกันสัญญา
A18: แล้วแต่กรณี
B19: 5. การพิจารณาคำนวนเงินเพิ่มหรือลด และการจ่ายเงินเพิ่มหรือเรียกเงินคืนจากผู้รับจ้าง ตามเงื่อนไขของสัญญา
A20: แบบปรับราคาได้ ต้องได้รับการตรวจสอบและเห็นชอบจากสำนักงานงบประมาณและให้ถือการพิจารณาวินิจฉัยของ
A21: สำนักงานงบประมาณเป็นที่สิ้นสุด
B22: ข. ประเภทงานก่อสร้างและสูตรที่ใช้กับสัญญาแบบปรับราคาได้
A23: ในการพิจารณาเพิ่มหรือลดราคาค่าจ้างเหมาก่อสร้าง ให้คำนวณตามสูตรดังนี้
D24: P = (Po) X (K)
A25: กำหนดให้ | D25: P = ราคาค่างานต่อหน่วยหรือราคาค่างานเป็นงวดที่จะต้องจ่ายให้ผู้รับจ้าง
D26: Po = ราคาค่างานต่อหน่วยที่ผู้รับจ้างประมูลได้ หรือราคาค่างานเป็นงวดซึ่ง
D27: ระบุไว้ในสัญญาแล้วแต่กรณี
D28: K = ESCALATION FATOR ที่หักด้วย 4% เมื่อต้องเพิ่มค่างานหรือบวกเพิ่ม 4%
D29: เมื่อต้องเรียกค่างานคืน
A30: ESCALATION FATOR K หาได้จากสูตร ซึ่งแบ่งตามประเภทและลักษณะงาน ดังนี้
B31: หมวดที่ 1 งานอาคาร
B32: งานอาคาร หมายถึง ตัวอาคาร เช่น ที่ทำการ โรงเรียน โรงพยาบาล หอพัก ที่พักอาศัย หอประชุม
A33: อัฒจันทร์ ยิมเนเซียม สระว่ายน้ำ โรงอาหาร คลังพัสดุ โรงงานรั้ว เป็นต้น และให้หมายความรวมถึง
B34: 1.1 ไฟฟ้าของอาคารบรรจบถึงสายเมนจำหน่าย แต่ไม่รวมถึงหม้อแปลงและระบบไฟฟ้าภายในบริเวณ
B35: 1.2 ประปาของอาคารบรรจบถึงท่อเมนจำหน่าย แต่ไม่รวมถึงระบบประปาภายในบริเวณ
B37: 1.3 ระบบท่อหรือระบบสายต่างๆ ที่ติดหรือฝังอยู่ในส่วนของอาคาร เช่น ท่อปรับอากาศ ท่อก๊าซสายไฟฟ้า
A38: สำหรับเครื่องปรับอากาศ สายล่อฟ้า ฯลฯ
B39: 1.4 ทางระบายน้ำของอาคารจนถึงทางระบายน้ำภายนอก
B40: 1.5 ส่วนประกอบที่จำเป็นสำหรับอาคาร เฉพาะส่วนที่ติดกับอาคารโดยต้องสร้างหรือประกอบพร้อมกับการ
A41: ก่อสร้างอาคาร แต่ไม่รวมถึง เครื่องจักรหรือเครื่องมือกลที่นำมาประกอบหรือติดตั้ง เช่น ลิฟท์ เครื่องคอมพิวเตอร์
...

Sheet ปกเฉพาะ
F2: รายการรายละเอียดเฉพาะแห่ง
F3: =ปกราคา!F6 -> ประกอบแบบแปลนการก่อสร้างระบบประปาหมู่บ้าน
F4: =ปกราคา!F7 -> 0
F5: =ปกราคา!F8 -> ปีงบประมาณ 256๖
F11: สถานที่ก่อสร้าง
F12: =ปกราคา!F14 -> บ้านวังใหญ่ หมู่ที่ ๕ ตำบลทุ่งหลวง
F13: =ปกราคา!F15 -> อำเภอเวียงสระ จังหวัดสุราษฎร์ธานี
D20: ออกแบบโดย
E21: ส่วนบริหารจัดการน้ำ
E22: สำนักงานทรัพยากรน้ำภาค 10 จังหวัดสุราษฎร์ธานี
E23: กรมทรัพยากรน้ำ กระทรวงทรัพยากรธรรมชาติและสิ่งแวดล้อม
E24: โทร.0-7720-0788, 0-7727-2942
E25: โทรสาร 0-7720-0788
E26: =ปกราคา!E27 -> 0

Sheet เฉพาะแห่ง
K2: รายการรายละเอียดเฉพาะแห่ง
K3: =ปกราคา!F6 -> ประกอบแบบแปลนการก่อสร้างระบบประปาหมู่บ้าน
K4: =ปกราคา!F7 -> 0
K5: =ปกราคา!F8 -> ปีงบประมาณ 256๖
C7: ในการก่อสร้างระบบประปาหมู่บ้านแห่งนี้ หากเอกสารรายการรายละเอียด รูปแบบ หรือ แบบแปลน
A8: ซึ่งถือเป็นส่วนหนึ่งของสัญญา มีความขัดแย้งกันให้ผู้รับจ้างถือปฏิบัติตามควรก่อนหลัง ดังนี้
C9: ๑. รายการวันชี้สถานที่ก่อสร้าง
C10: ๒. รายการรายละเอียดเฉพาะแห่ง
C11: ๓. รูปแบบหรือแบบแปลน
C12: ๔. รายการรายละเอียดทั่วไปประกอบแบบแปลน
C13: ๕. เอกสารประกอบแบบแปลนการก่อสร้าง
A14: กรณีดำเนินการดังกล่าวแล้วหาข้อยุติไม่ได้ ผู้ว่าจ้างขอสงวนสิทธิ์เป็นผู้ชี้ขาดและเป็นผู้พิจารณาให้เป็นไปตาม
A15: หลักวิชาช่าง โดยผู้รับจ้างต้องแจ้งให้ผู้ว่าจ้างทราบเป็นลายลักษณ์อักษรถึงการที่ไม่สามารถทำงานนั้นๆ ได้โดย
A16: เร็ว และทั้งนี้จะไม่ยกเป็นเหตุอ้างในการต่ออายุสัญญา ผู้รับจ้างต้องปฏิบัติตามคำแนะนำโดยเคร่งครัด ทั้งนี้เพื่อ
A17: ประโยชน์ของผู้รับจ้างเองเป็นสำคัญ
C19: สำหรับรายการรายละเอียดเฉพาะแห่งฯ เล่มนี้ ประกอบด้วยรายละเอียดที่ผู้รับจ้าง
A20: ต้องดำเนินการ เพื่อให้งานก่อสร้างแล้วเสร็จ ถูกต้องตามแบบแปลนทุกประการ ดังนี้
B21: 1 | C21: ข้อกำหนดในการก่อสร้างระบบประปาหมู่บ้าน
B22: 2 | C22: สรุปรายการก่อสร้างและแบบแปลนที่ใช้ในการก่อสร้างระบบประปา
B23: 3 | C23: รายละเอียดที่ผู้รับจ้างต้องดำเนินการก่อสร้าง จัดหา จัดทำ และติดตั้ง
B24: 4 | C24: เอกสารแนบท้าย ประกอบด้วย
C25: 4.1 | D25: ข้อมูลผลการวิเคราะห์คุณภาพน้ำดิบ
C26: 4.2 | D26: เงื่อนไข, หลักเกณฑ์, ประเภทงานก่อสร้าง, สูตร และวิธีการคำนวณที่ใช้กับสัญญาแบบปรับราคา
D27: ได้
C28: 4.3 | D28: แบบฟอร์มรายงานผลการทดสอบปริมาณน้ำ และวิเคราะห์คุณภาพน้ำดิบระบบประปาหมู่บ้าน
A36: 1 | B36: ข้อกำหนดในการก่อสร้างระบบประปาหมู่บ้าน แบบบาดาลขนาดกลาง
B37: =ปร.5!B7 -> สถานที่ก่อสร้าง บ้านปากน้ำ หมู่ที่ ๑3 ตำบลทุ่งหลวง อำเภอเวียงสระ จังหวัดสุราษฎร์ธานี
B38: 1.1 | C38: การชี้สถานที่การก่อสร้าง ผู้ว่าจ้างหรือคณะกรรมการชี้สถานที่ ต้องนำผู้รับจ้างเข้าดูพื้นที่พร้อมแจ้ง
C39: รายละเอียดในการก่อสร้างเพิ่มเติมจากรูปแบบ โดยระบุสถานที่ก่อสร้าง ขนาดที่ตั้งระบบประปา แนว
C40: ท่อจ่ายน้ำ ระบบไฟฟ้า บ่อบาดาล ระดับอ้างอิงในการก่อสร้าง + ๐.๐๐๐ การถมดินหรือการปรับพื้นที่
C41: การรื้อถอน และเคลื่อนย้ายสิ่งกีดขวางการก่อสร้าง การขยายเขตไฟฟ้า ตำแหน่งเสา การทดสอบการรับ
C42: น้ำหนักบรรทุกของดินและปัญหาอื่นๆ ที่ผู้รับจ้างได้สอบถามและผู้ชี้สถานที่ได้ชี้แจงในวันชี้สถานที่
C43: โดยบันทึกเป็นลายลักษณ์อักษร เพื่อเป็นเอกสารประกอบสัญญาการก่อสร้างต่อไป
B44: 1.2 | C44: การถางป่าขุดตอ ปรับพื้นที่ เมื่อผู้รับจ้างรับรู้สถานที่ก่อสร้างจากคณะกรรมการชี้สถานที่แล้ว ผู้รับจ้าง
C45: ต้องทำหนังสือแจ้งขอเข้าทำงานแก่ทางคณะกรรมการตรวจการจ้างก่อนไม่น้อยกว่า ๗ วัน กรณีพื้นที่
C46: การก่อสร้างมีอุปสรรคหรือสิ่งกีดขวาง เช่น ระดับดินเดิมสภาพพื้นที่มีความสูง-ต่ำ มีสิ่งปลูกสร้างหรือ
C47: ต้นไม้กีดขวางอยู่ ผู้รับจ้างต้องทำการแก้ไขปรับสภาพพื้นที่ให้พร้อมและสะดวกในการดำเนินการ
C48: ก่อสร้างต่อไป
B49: 1.3 | C49: การปักผังถ่ายระดับ, การกำหนดขอบเขตการก่อสร้าง เมื่อผู้รับจ้างได้ทำการปรับสภาพพื้นที่เรียบร้อย
C50: แล้ว ผู้รับจ้างต้องทำการปักผังขอบเขตการก่อสร้าง พร้อมกำหนดจุดที่ตั้งของโครงสร้างหลักของระบบ
...

Sheet ปกราคา
F5: รายละเอียดการประมาณราคาค่าก่อสร้าง
F6: ประกอบแบบแปลนการก่อสร้างระบบประปาหมู่บ้าน
A7: (ควนเนียง)
F8: ปีงบประมาณ 256๖
F13: สถานที่ก่อสร้าง
F14: บ้านวังใหญ่ หมู่ที่ ๕ ตำบลทุ่งหลวง
F15: อำเภอเวียงสระ จังหวัดสุราษฎร์ธานี
D21: ประมาณราคาโดย
E22: กองช่าง เทศบาลตำบลทุ่งหลวง

Sheet แบบ ปร.5
A1: สรุปผลการประมาณราคาค่าก่อสร้าง
A2: ส่วนราชการ | B2: ='แบบ ปร.6'!$A$4 -> สำนักบริหารจัดการน้ำ กรมทรัพยากรน้ำ
A3: ประเภท | B3: งานอาคาร
A4: เจ้าของอาคาร
A5: ='แบบ ปร.6'!$A$2 -> สถานที่ก่อสร้าง
A6: หน่วยงานออกแบบแปลนและรายการ | C6: ='แบบ ปร.6'!$A$4 -> สำนักบริหารจัดการน้ำ กรมทรัพยากรน้ำ
A7: แบบเลขที่ | B7: 10002,11010,12100,13030,4001,4003/2,4004/1,4004/2,4005,4006/2 พร้อมด้วยรายการฯ เฉพาะแห่ง,รายการฯ ทั่วไป และ.................
A8: ประมาณราคาตามแบบ ปร.4 | C8: จำนวน | E8: แผ่น
A9: ประมาณราคาเมื่อวันที่ | C9: ='แบบ ปร.6'!$C$5 -> 37950
A11: ลำดับที่ | B11: รายการ | D11: ค่าวัสดุและค่าแรงงานรวมเป็นเงิน (บาท) | E11: FACTOR F | F11: ค่าก่อสร้างทั้งหมดรวมเป็นเงิน (บาท) | G11: หมายเหตุ
A12: 1 | B12: ประเภทงานอาคาร | D12: ='แบบ ปร.6'!$C$26 -> #REF! | E12: ='แบบ ปร.6'!$G$38 -> #REF! | F12: =D12*E12 -> #REF!
A13: 2 | B13: ประเภทงานทาง | D13: ='แบบ ปร.6'!$C$29 -> 8014.65 | E13: 1.3016 | F13: =D13*E13 -> 10431.868
A14: 3 | B14: ประเภทงานชลประทาน
A15: 4 | B15: ประเภทงานสะพานและท่อเหลี่ยม
A16: 5 | B16: ประเภทงานไม่พิจารณาปรับราคา | D16: ='แบบ ปร.6'!$C$62 -> #REF! | E16: 1.07 | F16: =D16*E16 -> #REF!
B17: เงื่อนไข
B18: เงินล่วงหน้าจ่าย | C18: 0.15
B19: เงินประกันผลงานหัก | C19: 0
B20: ดอกเบี้ยเงินกู้ | C20: 0.07
B21: ดอกเบี้ยเงินฝาก
A22: สรุป | B22: รวมค่าก่อสร้างเป็นเงินทั้งสิ้น | F22: =SUM(F12:F21) -> #REF!
B23: คิดเป็นเงินประมาณการ | F23: =ROUNDDOWN(F22,-3) -> #REF!
A24: ตัวอักษร | F24: =BAHTTEXT(F23) -> #REF!
A28: ประมาณการ | B28: ..........................................................….........................................……............…
B29: (……………………………………………………………………………)
A31: ตรวจ | B31: ..........................................................….........................................……............…
B32: (……………………………………………………………………………)
A34: ตรวจ | B34: ..........................................................….........................................……............…
B35: (……………………………………………………………………………)
A37: เห็นชอบ | B37: ..........................................................….........................................……............…
B38: (……………………………………………………………………………)

Sheet แบบ ปร.6
A1: รายประมาณการค่าก่อสร้าง ระบบประปาหมู่บ้านแบบบาดาลขนาดใหญ่ ประจำปีงบประมาณ 2546
A2: สถานที่ก่อสร้าง
A3: แบบเลขที่ | B3: 10002,11010,12100,13030,4001,4003/2,4004/1,4004/2,4005,4006/2 พร้อมด้วยรายการฯ เฉพาะแห่ง,รายการฯ ทั่วไป และ……….. | C3: รายการเลขที่
A4: สำนักบริหารจัดการน้ำ กรมทรัพยากรน้ำ
A5: ประมาณราคาเมื่อวันที่ | C5: 37950
A7: ลำดับที่ | B7: รายการ | C7: ค่าก่อสร้าง (บาท) | D7: หมายเหตุ
A8: 1 | B8: ประเภทงานอาคาร
B9: 1.1 ทดสอบการรับน้ำหนักบรรทุกของดินจำนวน 1 จุด | C9: =ทดสอบดิน!$J$14 -> 13500
B10: 1.2 โรงสูบน้ำแบบ ข | C10: =#REF! -> #REF!
B11: 1.3 ระบบกรองน้ำบาดาลขนาด 10 ม.3/ชม. (ตอกเข็ม) | C11: =#REF! -> #REF!
B12: 1.4 ถังน้ำใสขนาด 100 ม.3 (ตอกเข็ม) | C12: =#REF! -> #REF!
B13: 1.5 ป้ายบอกระดับน้ำในถังน้ำใส | C13: =#REF! -> #REF!
B14: 1.6 หอถังสูงขนาด 30 ม.3 (ตอกเข็ม) | C14: =#REF! -> #REF!
B15: 1.7 รั้ว,ประตูรั้ว (20x20 ม.) | C15: =#REF! -> #REF!
B16: 1.8 ป้ายการประปา | C16: =#REF! -> #REF!
B17: 1.9 ระบบท่อส่งน้ำดิบ | C17: =ท่อส่งน้ำดิบ!$J$24 -> 919.54
B18: 1.10 เครื่องสูบน้ำบาดาลพร้อมอุปกรณ์ควบคุมจำนวน 1 ชุด | C18: =เครื่องสูบน้ำบาดาล!$J$25 -> 49316.8
B19: 1.11 เครื่องสูบน้ำดีพร้อมอุปกรณ์ควบคุมจำนวน 2 ชุด | C19: =#REF! -> #REF!
B20: 1.12 การประสานท่อระหว่างระบบ | C20: ='911043'!$J$32 -> 4344.23
B21: 1.13 การประสานท่อที่ปากบ่อบาดาล | C21: =ประสานปากบ่อ!$J$27 -> 20438.79
B22: 1.14 การประสานท่อภายในโรงสูบน้ำดี 2 ชุด | C22: =#REF! -> #REF!
B23: 1.15 การประสานระบบไฟฟ้า (ภายใน) | C23: =ไฟฟ้า!$J$39 -> 12900
B24: 1.16 ติดตั้งระบบจ่ายสารละลายคลอรีน | C24: =#REF! -> #REF!
B25: 1.17 รางระบายน้ำ | C25: =#REF! -> #REF!
B26: รวมเงิน (1) | C26: =SUM(C8:C25) -> #REF!
A27: 2 | B27: ประเภทงานทาง
B28: 2.1 ระบบท่อจ่ายน้ำประปา | C28: =ท่อจ่ายน้ำ!$J$34 -> 8014.65
B29: รวมเงิน (2) | C29: =SUM(C27:C28) -> 8014.65
B31: ยอดยกไป | C31: =C26+C29 -> #REF!
F32: ค่างาน | G32: FACTOR F | H32: (ผลต่างค่างาน) | I32: (ผลต่างค่า F)
F33: ='FACTOR F'!B11 -> 0.5 | G33: ='FACTOR F'!I11 -> 1.3074 | H33: =F34-F33 -> 0.5 | I33: =G34-G33 -> -0.0024
F34: ='FACTOR F'!B12 -> 1 | G34: ='FACTOR F'!I12 -> 1.305 | H34: =F35-F34 -> 1 | I34: =G35-G34 -> -0.0015
F35: ='FACTOR F'!B13 -> 2 | G35: ='FACTOR F'!I13 -> 1.3035 | H35: =F36-F35 -> 3 | I35: =G36-G35 -> -0.0032
F36: ='FACTOR F'!B14 -> 5 | G36: ='FACTOR F'!I14 -> 1.3003 | H36: =F37-F36 -> 5 | I36: =G37-G36 -> -0.006
A37: ประมาณราคาโดย…………………………………………………… ตรวจ………………………………………………….. | F37: ='FACTOR F'!B15 -> 10 | G37: ='FACTOR F'!I15 -> 1.2943 | H37: =F37 -> 10 | I37: =G37 -> 1.2943
A38: (………………………………………………....) (………………………………………………...) | F38: =C31/1000000 -> #REF! | G38: =IF($F$38<=$F$34,$G$33,IF($F$38<(VLOOKUP($F$38,$F$33:$I$37,1)+(VLOOKUP($F$38,$F$33:$I$37,3)/2)),ROUNDDOWN(VLOOKUP($F$38,$F$33:$I$37,2)-ABS(($F$38-VLOOKUP($F$38,$F$33:$I$37,1))*(VLOOKUP($F$38,$F$33:$I$37,4))/VLOOKUP($F$38,$F$33:$I$37,3)),4),ROUNDDOWN(VLOOKUP(VLOOKUP($F$38,$F$33:$I$37,1)+VLOOKUP($F$38,$F$33:$I$37,3),$F$33:$I$37,2)+(ABS(VLOOKUP($F$38,$F$33:$I$37,4))*((VLOOKUP(VLOOKUP($F$38,$F$33:$I$37,1)+VLOOKUP($F$38,$F$33:$I$37,3),$F$33:$I$37,1))-$F$38)/VLOOKUP($F$38,$F$33:$I$37,3)),4))) -> #REF!
A40: ตรวจ…………………………………………………… เห็นชอบ………………….…………………………..
A41: (………………………………………………....) (………………………………………………...)
A45: รายประมาณการค่าก่อสร้าง ระบบประปาหมู่บ้านแบบบาดาลขนาดใหญ่ ประจำปีงบประมาณ 2546
A46: สถานที่ก่อสร้าง
...

Sheet ปร.6
N1: แบบ ปร.6 แผ่นที่ 1/1
A2: สรุปราคากลางค่าก่อสร้าง
B4: ชื่อโครงการ | E4: =ปร.5!E6 -> ก่อสร้างระบบประปาหมู่บ้าน (ปากน้ำ 3) | P4: –
B5: =ปร.5!B7 -> สถานที่ก่อสร้าง บ้านปากน้ำ หมู่ที่ ๑3 ตำบลทุ่งหลวง อำเภอเวียงสระ จังหวัดสุราษฎร์ธานี
B6: แบบเลขที่
B9: =ปร.5!B9 -> เจ้าของโครงการ เทศบาลตำบลทุ่งหลวง
B10: =ปร.5!B10 -> 0 | L10: =ปร.5!J10 -> เมื่อวันที่ 1 ธันวาคม 2568
N11: หน่วย : บาท
A12: ลำดับที่ | C12: รายการ | L12: ค่าก่อสร้าง (บาท) | N12: หมายเหตุ
B13: 1 | C13: ประเภทงานอาคาร | L13: =ปร.5!L30 -> 850201.68
B14: 2 | C14: ประเภทงานครุภัณฑ์จัดซื้อหรือสั่งซื้อ | L14: ='ปร.5 (2)'!L23 -> 53518.976
F15: - สุดท้าย -
C18: รวมค่าก่อสร้างทั้งโครงการ | L18: =SUM(L13:L14) -> 903720.66
A19: สรุป | C19: คิดเป็นเงินค่าก่อสร้างประมาณ | L19: =L18 -> 903720.66
C20: ( ตัวอักษร ) | H20: =CONCATENATE("(",BAHTTEXT(L19),")") -> (เก้าแสนสามพันเจ็ดร้อยยี่สิบบาทหกสิบหกสตางค์)
B22: =IF([2]ข้อมูลเริ่มต้น!$W$71=1,"คณะกรรมการกำหนดราคากลาง"," ") -> คณะกรรมการกำหนดราคากลาง | E22: ได้ตรวจสอบแล้วเห็นชอบกับราคาค่าก่อสร้างและให้ยึดถือประมาณราคานี้เป็นราคากลาง
B23: คำสั่งที่ 804/2568 ลงวันที่ 21 พฤศจิกายน 2568
A24: ลงชื่อ...............................................ประธานกรรมการ ลงชื่อ..................................................หัวหน้าเจ้าหน้าที่พัสดุ
C25: (นายดุสิต โต๊ะแอ) (นางกรรณิกา ชัยเมือง )
B26: ปลัดเทศบาลตำบลทุ่งหลวง ผู้อำนวยการกองคลัง
A28: ลงชื่อ.......................................................กรรมการ เห็นชอบ............................................................
C29: (นายสุริยาวุธ ทัพพุน) | G29: ( นายดุสิต โต๊ะแอ )
C30: ผู้อำนวยการกองช่าง | G30: ปลัดเทศบาลตำบลทุ่งหลวง
A31: ลงชื่อ.......................................................กรรมการ อนุมัติ............................................................
B32: (นายสมใจ ชัยประดิษฐ์) | H32: ( นายสมศักดิ์ นวลแก้ว)
B33: วิศวกรโยธาปฏิบัติการ | G33: นายกเทศมนตรีตำบลทุ่งหลวง

Sheet ปร.5
N1: แบบ ปร.5 (ก) แผ่นที่ 1/3
A3: สรุปค่าก่อสร้างอาคาร
B5: ส่วนราชการ | E5: เทศบาลตำบลทุ่งหลวง
B6: ชื่อโครงการ | E6: ก่อสร้างระบบประปาหมู่บ้าน (ปากน้ำ 3) | P6: –
B7: สถานที่ก่อสร้าง บ้านปากน้ำ หมู่ที่ ๑3 ตำบลทุ่งหลวง อำเภอเวียงสระ จังหวัดสุราษฎร์ธานี
B8: แบบเลขที่
B9: เจ้าของโครงการ เทศบาลตำบลทุ่งหลวง
J10: เมื่อวันที่ 1 ธันวาคม 2568
A12: ลำดับที่ | C12: รายการ | J12: ค่างานต้นทุน | K12: Factor F | L12: ค่าก่อสร้างรวม | M12: หมายเหตุ
J13: (บาท) | L13: เป็นเงิน(บาท)
A14: 1 | C14: ประเภทงานอาคาร
C15: 1.๑ การประสานท่อระหว่างระบบ | J15: ='911043'!J32 -> 4344.23 | K15: 1.3083 | L15: =J15*K15 -> 5683.5561 | Q15: =J15*1.2721 -> 5526.295
C16: 1.๒ การประสานท่อที่ปากบ่อบาดาล | J16: =ประสานปากบ่อ!J27 -> 20438.79 | K16: =K15 -> 1.3083 | L16: =J16*K16 -> 26740.069 | Q16: =J16*1.2721 -> 26000.185
C17: 1.๓ ดินถม | J17: =งานดิน!J14 -> 0 | K17: =K15 -> 1.3083 | L17: =J17*K17 -> 0 | Q17: =J17*1.2721 -> 0
C18: 1.๔ ทดสอบการรับน้ำหนักบรรทุกของดิน | J18: =ทดสอบดิน!J14 -> 13500 | K18: =K15 -> 1.3083 | L18: =(J18*K18) -> 17662.05 | Q18: =J18*1.2721 -> 17173.35
C19: 1.๕ การประสานระบบไฟฟ้าภายใน | J19: =ไฟฟ้าใน!J26 -> 7252.5 | K19: =K15 -> 1.3083 | L19: =(J19*K19) -> 9488.4458 | Q19: =J19*1.2721 -> 9225.9052
C20: 1.๖ บ่อบาดาล PVC. ขนาด ฦ 6 นิ้ว | J20: ='บ่อบาดาล '!J25 -> 208139.78 | K20: =K15 -> 1.3083 | L20: =J20*K20 -> 272309.28 | Q20: =J20*1.2721 -> 264774.62
C21: 1.๗ ถังกรองสนิมเหล็ก ขนาด 7 ลบ.ม./ชม. | J21: ='สบน.10-1007'!J32 -> 62120.461 | K21: =K15 -> 1.3083 | L21: =J21*K21 -> 81272.198 | Q21: =J21*1.2721 -> 79023.438
C22: 1.๘ หอถังสูงเหล็กทรงรูปถ้วยเชมเปญ ขนาดจุ 15 ลบ.ม. | J22: ='สบจ.10-2015'!J67 -> 322829.22 | K22: =K15 -> 1.3083 | L22: =J22*K22 -> 422357.47 | Q22: =J22*1.2721 -> 410671.06
C23: 1.๙ ระบบท่อส่งน้ำดิบ | J23: =ท่อส่งน้ำดิบ!J24 -> 919.54 | K23: =K15 -> 1.3083 | L23: =J23*K23 -> 1203.0342 | Q23: =J23*1.2721 -> 1169.7468
C24: 1.1๐ ระบบท่อจ่ายน้ำประปา | J24: =ท่อจ่ายน้ำ!J34 -> 8014.65 | K24: =K15 -> 1.3083 | L24: =J24*K24 -> 10485.567 | Q24: =J24*1.2721 -> 10195.436
C25: 1.1๑ ป้ายโครงการ | L25: 3000 | Q25: =L25 -> 3000
C26: เงื่อนไขการใช้ตาราง FACTOR F
C27: ดอกเบี้ยเงินกู้ | F27: 7 | G27: %
C28: ค่าภาษีมูลค่าเพิ่ม(VAT) | F28: 7 | G28: %
C29: รวมเป็นเงิน | J29: =SUM(J15:J28) -> 647559.18 | K29: =K15 -> 1.3083 | L29: =SUM(L15:L28)+0.01 -> 850201.68 | Q29: =SUM(Q15:Q28) -> 826760.03
A30: สรุป | C30: รวมค่าก่อสร้าง | L30: =L29 -> 850201.68 | Q30: =SUM(Q17:Q29) -> 1621993.6
C31: ( ตัวอักษร ) | J31: =CONCATENATE("(",BAHTTEXT(L30),")") -> (แปดแสนห้าหมื่นสองร้อยเอ็ดบาทหกสิบแปดสตางค์) | Q31: =SUM(L14:L28) -> 850201.67
B33: =IF([2]ข้อมูลเริ่มต้น!$W$71=1,"คณะกรรมการกำหนดราคากลาง"," ") -> คณะกรรมการกำหนดราคากลาง | E33: ได้ตรวจสอบแล้วเห็นชอบกับราคาค่าก่อสร้างและให้ยึดถือประมาณราคานี้เป็นราคากลาง
B34: คำสั่งที่804/2568 ลงวันที่ 21 พฤศจิกายน 2568
A35: ลงชื่อ...............................................ประธานกรรมการ ลงชื่อ..................................................หัวหน้าเจ้าหน้าที่พัสดุ
C36: (นายดุสิต โต๊ะแอ) (นางกรรณิกา ชัยเมือง )
B37: ปลัดเทศบาลตำบลทุ่งหลวง ผู้อำนวยการกองคลัง
A39: ลงชื่อ.......................................................กรรมการ เห็นชอบ............................................................
C40: (นายสุริยาวุธ ทัพพุน) | G40: ( นายดุสิต โต๊ะแอ )
C41: ผู้อำนวยการกองช่าง | G41: ปลัดเทศบาลตำบลทุ่งหลวง
A42: ลงชื่อ.......................................................กรรมการ อนุมัติ............................................................
B43: (นายสมใจ ชัยประดิษฐ์) | H43: ( นายสมศักดิ์ นวลแก้ว)
B44: วิศวกรโยธาปฏิบัติการ | G44: นายกเทศมนตรีตำบลทุ่งหลวง

Sheet ปร.5 (2)
N1: แบบ ปร.๕ (ข) แผ่นที่ ๒/๓
A3: สรุปค่าครุภัณฑ์จัดซื้อหรือสั่งซื้อ
B5: ส่วนราชการ | E5: เทศบาลตำบลทุ่งหลวง
B6: ชื่อโครงการ............................ | E6: =ปร.5!E6 -> ก่อสร้างระบบประปาหมู่บ้าน (ปากน้ำ 3) | P6: –
B7: =ปร.5!B7 -> สถานที่ก่อสร้าง บ้านปากน้ำ หมู่ที่ ๑3 ตำบลทุ่งหลวง อำเภอเวียงสระ จังหวัดสุราษฎร์ธานี
B8: แบบเลขที่
B10: =ปร.5!B9 -> เจ้าของโครงการ เทศบาลตำบลทุ่งหลวง
K12: =ปร.5!J10 -> เมื่อวันที่ 1 ธันวาคม 2568
N13: หน่วย : บาท
A15: ลำดับที่ | C15: รายการ | J15: ค่างาน | K15: ภาษี | L15: ค่าก่อสร้าง | M15: หมายเหตุ
J16: (บาท) | K16: มูลค่าเพิ่ม | L16: (บาท)
A17: 2 | C17: ประเภทงานครุภัณฑ์จัดซื้อหรือสั่งซื้อ
C18: ๒.๑ จัดหาและติดตั้งเครื่องสูบน้ำบาดาลพร้อมอุปกรณ์ควบคุม จำนวน ๑ ชุด | J18: =เครื่องสูบน้ำบาดาล!J26 -> 49316.8 | K18: =K$22 -> 1.07 | L18: =J18*K18 -> 52768.976 | Q18: =J18*1.07 -> 52768.976
C19: ๒.๒ จัดหาและส่งมอบเครื่องมือประจำการประปา จำนวน ๑ ชุด | J19: =เครื่องมือฯประปา!J29 -> 0 | K19: =K$22 -> 1.07 | L19: =J19*K19 -> 0 | Q19: =J19*1.07 -> 0
C20: ๒.๓ จัดหาและส่งมอบเครื่องมือตรวจวัด จำนวน ๑ ชุด | J20: ='กรด-ด่าง'!J14 -> 0 | K20: =K$22 -> 1.07 | L20: =J20*K20 -> 0 | Q20: =J20*1.07 -> 0
C21: ๒.๔ การประสานระบบไฟฟ้าภายนอก จำนวน ๑ ระบบ | J21: =ไฟฟ้านอก!J23 -> 750 | K21: 1 | L21: =J21*K21 -> 750 | Q21: =J21*1.07 -> 802.5
C22: รวมเป็นเงิน | J22: =SUM(J17:J21) -> 50066.8 | K22: 1.07 | L22: =SUM(L17:L21) -> 53518.976 | Q22: =SUM(Q17:Q21) -> 53571.476
A23: สรุป | C23: รวมค่าก่อสร้าง | L23: =L22 -> 53518.976 | Q23: =SUM(Q18:Q22) -> 107142.95
C24: ( ตัวอักษร ) | J24: =CONCATENATE("(",BAHTTEXT(L23),")") -> (ห้าหมื่นสามพันห้าร้อยสิบแปดบาทเก้าสิบแปดสตางค์) | Q24: =SUM(L17:L21) -> 53518.976
B26: =IF([2]ข้อมูลเริ่มต้น!$W$71=1,"คณะกรรมการกำหนดราคากลาง"," ") -> คณะกรรมการกำหนดราคากลาง | E26: ได้ตรวจสอบแล้วเห็นชอบกับราคาค่าก่อสร้างและให้ยึดถือประมาณราคานี้เป็นราคากลาง
B27: คำสั่งที่804/2568 ลงวันที่ 21 พฤศจิกายน 2568
A28: ลงชื่อ...............................................ประธานกรรมการ ลงชื่อ..................................................หัวหน้าเจ้าหน้าที่พัสดุ
C29: (นายดุสิต โต๊ะแอ) (นางกรรณิกา ชัยเมือง )
B30: ปลัดเทศบาลตำบลทุ่งหลวง ผู้อำนวยการกองคลัง
A32: ลงชื่อ.......................................................กรรมการ เห็นชอบ............................................................
C33: (นายสุริยาวุธ ทัพพุน) | G33: ( นายดุสิต โต๊ะแอ )
C34: ผู้อำนวยการกองช่าง | G34: ปลัดเทศบาลตำบลทุ่งหลวง
A35: ลงชื่อ.......................................................กรรมการ อนุมัติ............................................................
B36: (นายสมใจ ชัยประดิษฐ์) | H36: ( นายสมศักดิ์ นวลแก้ว)
B37: วิศวกรโยธาปฏิบัติการ | G37: นายกเทศมนตรีตำบลทุ่งหลวง

Sheet ปร.5-2
M1: แบบ ปร.๕ (พ) แผ่นที่ ๓/๓
A3: รายการค่าประมาณการก่อสร้างอาคาร
A5: ส่วนราชการ | C5: ส่วนบริหารจัดการน้ำ | G5: สำนักงานทรัพยากรน้ำภาค ๑๐ | M5: กรมทรัพยากรน้ำ
A6: ชื่อโครงการ............................ | C6: =ปร.5!E6 -> ก่อสร้างระบบประปาหมู่บ้าน (ปากน้ำ 3)
A7: =ปร.5!B7 -> สถานที่ก่อสร้าง บ้านปากน้ำ หมู่ที่ ๑3 ตำบลทุ่งหลวง อำเภอเวียงสระ จังหวัดสุราษฎร์ธานี
A8: แบบเลขที่......... | C8: =ปร.5!D8 -> 0
C9: =ปร.5!#REF! -> #REF!
A10: =ปร.5!B9 -> เจ้าของโครงการ เทศบาลตำบลทุ่งหลวง
A11: =ปร.5!B10 -> 0 | J11: =ปร.5!J10 -> เมื่อวันที่ 1 ธันวาคม 2568
A12: ก) กำหนดคืนเงินค่าใช้จ่ายในการตอกเสาเข็ม กรณีผลการทดสอบดินปรากฎว่าไม่ตอกเข็ม ดังรายการต่อไปนี้
A13: ลำดับที่ | B13: รายการ | F13: ค่าก่อสร้าง (บาท) | G13: หมายเหตุ | I13: ค่าวัสดุ (บาท) (๑) | J13: ค่าแรง (บาท) (๒) | K13: รวม (บาท) (๑)+(๒)+(๓)
A14: 1 | B14: หอถังสูงเหล็ก ขนาด ๑๕ ลบ.ม. สูง ๒๐ ม. | F14: =(I14+J14)*ปร.5!K29 -> 37679.04 | I14: ='สบจ.10-2015'!G56 -> 19200 | J14: ='สบจ.10-2015'!I56+'สบจ.10-2015'!I58 -> 9600 | K14: =I14+J14 -> 28800
A15: 2 | B15: ค่าเคลื่อนย้ายปั้นจั่น | F15: =SUM(I15:J15)*ปร.5!K29 -> 13083 | I15: 0 | J15: ='สบจ.10-2015'!I59 -> 10000 | K15: =I15+J15 -> 10000
B16: เป็นเงิน | F16: =SUM(F14:F15) -> 50762.04 | P16: =ROUNDDOWN(F16,0) -> 50762
A17: ตัวอักษร | F17: =CONCATENATE("(",BAHTTEXT(P16),")") -> (ห้าหมื่นเจ็ดร้อยหกสิบสองบาทถ้วน)
A19: ข) กำหนดคืนเงินค่าใช้จ่ายในการตอกเสาเข็ม กรณีตอกเข็มที่มีความยาวน้อยกว่าที่กำหนดในแบบแปลน ดังรายการต่อไปนี้
A20: ลำดับที่ | B20: รายการ | F20: ค่าก่อสร้าง (บาท) | G20: หมายเหตุ (ราคาต่อเมตร) | I20: ค่าวัสดุ/เมตร (บาท) (๑) | J20: ค่าแรง/เมตร (บาท) (๒) | K20: รวม (บาท) (๑)+(๒) | L20: ตอกเข็มยาว/ต้น (ม.) | M20: รวมความยาวเข็มที่ไม่ได้ตอก (ม.)
A21: 1 | B21: =B14 -> หอถังสูงเหล็ก ขนาด ๑๕ ลบ.ม. สูง ๒๐ ม. | F21: =G21*M21 -> 37679.04 | G21: =F14/96 -> 392.49 | I21: =I14/96 -> 200 | J21: =J14/96 -> 100 | K21: =I21+J21 -> 300 | L21: 0 | M21: =16*(6-L21) -> 96
A22: 2 | B22: ค่าเคลื่อนย้ายปั้นจั่น | F22: =F15 -> 13083
B23: เป็นเงิน | F23: =SUM(F21:F22) -> 50762.04 | P23: =ROUNDDOWN(F23,0) -> 50762
A24: ตัวอักษร | F24: =CONCATENATE("(",BAHTTEXT(P23),")") -> (ห้าหมื่นเจ็ดร้อยหกสิบสองบาทถ้วน)
A26: ค) กำหนดคืนเงินค่าใช้จ่ายในการติดตั้งระบบไฟฟ้าภายนอก หากภายหลังการไฟฟ้าฯ แจ้งว่าไม่ต้องดำเนินการ ดังรายการต่อไปนี้
A27: ลำดับที่ | B27: รายการ | F27: ค่าก่อสร้าง (บาท) | G27: หมายเหตุ
A28: 1 | B28: ขยายเขตไฟฟ้าแรงต่ำ | F28: =ไฟฟ้านอก!K12 -> 0
A29: 2 | B29: ขยายเขตไฟฟ้าแรงสูง | F29: =ไฟฟ้านอก!K16 -> 0
B30: เป็นเงิน | F30: =SUM(F28:F29) -> 0
A31: ตัวหนังสือ | F31: =CONCATENATE("(",BAHTTEXT(F30),")") -> (ศูนย์บาทถ้วน)
A32: ประมาณราคาโดย | G32: ตรวจ
D33: =ปร.5!#REF! -> #REF! | I33: =ปร.5!#REF! -> #REF!
B34: เสนอ | G34: เห็นชอบ
D35: =ปร.5!#REF! -> #REF! | I35: =ปร.5!#REF! -> #REF!

Sheet 921001
A1: ชื่อโครงการ............................ | C1: =ปร.5!E6 -> ก่อสร้างระบบประปาหมู่บ้าน (ปากน้ำ 3)
A2: งานก่อสร้าง............................................ | C2: ป้ายการประปา | I2: รายการเลขที่ | J2: 1
A3: =ปร.5!B7 -> สถานที่ก่อสร้าง บ้านปากน้ำ หมู่ที่ ๑3 ตำบลทุ่งหลวง อำเภอเวียงสระ จังหวัดสุราษฎร์ธานี | I3: แบบเลขที่ | J3: ๙๒๑๐๐๑
A4: =ปร.5!B9 -> เจ้าของโครงการ เทศบาลตำบลทุ่งหลวง
A5: =ปร.5!B10 -> 0 | H5: =ปร.5!J10 -> เมื่อวันที่ 1 ธันวาคม 2568
K6: หน่วย : บาท
A7: ลำดับ | B7: รายการ | D7: จำนวนหน่วย | F7: ค่าวัสดุ | H7: ค่าแรงงาน | J7: ค่าวัสดุและ | K7: หมายเหตุ
A8: ที่ | F8: ราคาต่อหน่วย | G8: เป็นเงิน | H8: ราคาต่อหน่วย | I8: เป็นเงิน | J8: ค่าแรงงาน
A9: 1 | B9: ขุดดินหลุมฐานราก/ถมดิน | D9: 0.3 | E9: ลบ.ม.
A10: 2 | B10: คอนกรีต 1 : 2 : 4 | D10: 0.3 | E10: ลบ.ม. | N10: =1691+(2.04*50*2.4) -> 1935.8
A11: 3 | B11: เหล็กเส้นกลม dia 6 มม. (2.22 กก./เส้น) | D11: 0.002 | E11: ตัน | K11: มอก.
A12: 4 | B12: เหล็กฉาก 40 x 40 x 3 มม. ยาว 6.00 ม. | D12: 1 | E12: เส้น
A13: 5 | B13: ท่อเหล็กอาบสังกะสี dia 2 นิ้ว | D13: 1 | E13: ท่อน
A14: 6 | B14: แผ่นเหล็ก ขนาด 1.20 x 2.40 ม. หนา 1.6 มม. | D14: 0.5 | E14: แผ่น
A15: 7 | B15: น๊อต dia 3/8 นิ้ว ยาว 4 นิ้ว | D15: 4 | E15: ตัว
A16: 8 | B16: หัวเสาธง อลูมิเนียม dia 2 นิ้ว | D16: 2 | E16: ตัว | N16: =SUM(G11:G16) -> 0 | O16: =N16*0.2 -> 0
A17: 9 | B17: ทาสีน้ำมัน | D17: 2.5 | E17: ตร.ม.
A18: 10 | B18: ตัวอักษร สติกเกอร์ | D18: 2 | E18: ตร.ม.
C20: รวมเงิน
C21: คิดเป็นเงินค่างาน
H23: ลงชื่อ........................................ผู้ประมาณราคา

Sheet รั้ว
A1: ชื่อโครงการ............................ | C1: =ปร.5!E6 -> ก่อสร้างระบบประปาหมู่บ้าน (ปากน้ำ 3)
A2: งานก่อสร้าง............................................ | C2: รั้ว-ประตูรั้ว ( ๗ x ๑๑ ม.) | I2: รายการเลขที่ | J2: 2
A3: =ปร.5!B7 -> สถานที่ก่อสร้าง บ้านปากน้ำ หมู่ที่ ๑3 ตำบลทุ่งหลวง อำเภอเวียงสระ จังหวัดสุราษฎร์ธานี | I3: แบบเลขที่ | J3: ๙๒๑๐๐๑, | K3: ๙๑๑๐๔๓
A4: =ปร.5!B9 -> เจ้าของโครงการ เทศบาลตำบลทุ่งหลวง
A5: =ปร.5!B10 -> 0 | H5: =ปร.5!J10 -> เมื่อวันที่ 1 ธันวาคม 2568
K6: หน่วย : บาท
A7: ลำดับ | B7: รายการ | D7: จำนวนหน่วย | F7: ค่าวัสดุ | H7: ค่าแรงงาน | J7: ค่าวัสดุและ | K7: หมายเหตุ
A8: ที่ | F8: ราคาต่อหน่วย | G8: เป็นเงิน | H8: ราคาต่อหน่วย | I8: เป็นเงิน | J8: ค่าแรงงาน
B9: 1. เสา/บานประตูรั้ว
A10: 1.1 | B10: ขุดดินหลุมฐานราก/ถมคืน | D10: 1 | E10: ลบ.ม.
A11: 1.2 | B11: ทรายหยาบ,ทรายหยาบรองพื้น | D11: 0.128 | E11: ลบ.ม.
A12: 1.3 | B12: คอนกรีต 1 : 3 : 5 | D12: 0.128 | E12: ลบ.ม.
A13: 1.4 | B13: คอนกรีต 1 : 2 : 4 (ซีเมนต์ไม่น้อยกว่า 320 กก/ลบ.ม.) | D13: 0.4 | E13: ลบ.ม.
A14: 1.5 | B14: เหล็กเสริม | D14: 0.04761 | E14: ตัน
A15: 1.6 | B15: ลวดผูกเหล็ก No 18 | D15: 0.7 | E15: กก.
A16: 1.7 | B16: ท่อเหล็กอาบสังกะสี ยาว 6.00 ม. dia 1 1/2" | D16: 3 | E16: ท่อน
A17: 1.8 | B17: ลวดตาข่ายสี่เหลี่ยมขนมเปียกปูน dia. 3 มม. ขนาดช่อง 38 มม. | D17: 5.25 | E17: ตร.ม.
A18: 1.9 | B18: บุ๊ชสลักติดบานประตู dia. 1-1/2 นิ้ว | D18: 6 | E18: ตัว
A19: 1.1 | B19: กลอนเหล็กและกุญแจ | D19: 2 | E19: ชุด | M19: =SUM(G16:G19) -> 0 | N19: =M19*0.2 -> 0
A20: 1.11 | B20: ฉาบปูนเรียบธรรมดา | D20: 3 | E20: ตร.ม.
A21: 1.12 | B21: ทาสีน้ำพลาสติก | D21: 3 | E21: ตร.ม.
A22: 1.13 | B22: ทาสีน้ำมัน | D22: 2 | E22: ตร.ม.
A23: 1.14 | B23: ไม้แบบหล่อคอนกรีตทั่วไป 80 % พร้อมไม้คร่าว | D23: 1.14 | E23: ตร.ม.
A24: 1.15 | B24: ตะปู | D24: 0.2 | E24: กก.
C25: รวมเงิน (1) ยอดยกไป
C26: รวมเงิน (1) ยอดยกมา
C27: รวมเงิน (1)
B28: 2. เสามุมรั้วต่อ 1 ต้น
A29: 2.1 | B29: ขุดดินหลุมฐานราก/ถมคืน | D29: 1 | E29: ลบ.ม.
A30: 2.2 | B30: ทรายหยาบ,ทรายหยาบรองพื้น | D30: 0.064 | E30: ลบ.ม.
A31: 2.3 | B31: คอนกรีต 1 : 3 : 5 | D31: 0.064 | E31: ลบ.ม.
A32: 2.4 | B32: คอนกรีต 1 : 2 : 4 (ซีเมนต์ไม่น้อยกว่า 320 กก/ลบ.ม.) | D32: 0.204 | E32: ลบ.ม.
A33: 2.5 | B33: เหล็กเสริม | D33: 0.02991 | E33: ตัน
A34: 2.6 | B34: ลวดผูกเหล็ก No 18 | D34: 0.4 | E34: กก.
A35: 2.7 | B35: ฉาบปูนเรียบธรรมดา | D35: 1.5 | E35: ตร.ม.
A36: 2.8 | B36: ทาสีน้ำพลาสติก | D36: 1.5 | E36: ตร.ม.
A37: 2.9 | B37: ไม้แบบหล่อคอนกรีตทั่วไป 80 % พร้อมไม้คร่าว | D37: 0.57 | E37: ตร.ม.
A38: 2.1 | B38: ตะปู | D38: 0.1 | E38: กก.
C40: รวมเงิน (2)
C41: เสามุมรั้วคิดเป็นเงินรวม | D41: 3 | E41: ต้น
...

Sheet 911043
A1: ชื่อโครงการ............................ | C1: =ปร.5!E6 -> ก่อสร้างระบบประปาหมู่บ้าน (ปากน้ำ 3)
A2: งานก่อสร้าง............................................ | C2: การประสานท่อระหว่างระบบ
A3: =ปร.5!B7 -> สถานที่ก่อสร้าง บ้านปากน้ำ หมู่ที่ ๑3 ตำบลทุ่งหลวง อำเภอเวียงสระ จังหวัดสุราษฎร์ธานี
A4: =ปร.5!B9 -> เจ้าของโครงการ เทศบาลตำบลทุ่งหลวง
A5: =ปร.5!B10 -> 0 | H5: =ปร.5!J10 -> เมื่อวันที่ 1 ธันวาคม 2568
K6: หน่วย : บาท
A7: ลำดับ | B7: รายการ | D7: จำนวนหน่วย | F7: ค่าวัสดุ | H7: ค่าแรงงาน | J7: ค่าวัสดุและ | K7: หมายเหตุ
A8: ที่ | F8: ราคาต่อหน่วย | G8: เป็นเงิน | H8: ราคาต่อหน่วย | I8: เป็นเงิน | J8: ค่าแรงงาน
A9: 1 | B9: ท่อเหล็กอาบสังกะสี dia 3" | D9: 1 | E9: ท่อน | F9: 1722.5 | G9: =IF(F9="-","-",D9*F9) -> 1722.5 | H9: 179 | I9: =IF(H9="-","-",H9*D9) -> 179 | J9: =SUM(G9,I9) -> 1901.5 | M9: 0
A10: 2 | B10: ท่อเหล็กอาบสังกะสี dia 3/4" | D10: 0 | E10: ท่อน | F10: 346.39 | G10: =IF(F10="-","-",D10*F10) -> 0 | H10: =60*6 -> 360 | I10: =IF(H10="-","-",H10*D10) -> 0 | J10: =SUM(G10,I10) -> 0
A11: 3 | B11: ข้องอเหล็กอาบสังกะสี 90 ม-ม dia 3" | D11: 0 | E11: ตัว | F11: 216.92 | G11: =IF(F11="-","-",D11*F11) -> 0 | J11: =SUM(G11,I11) -> 0
A12: 4 | B12: ข้องอเหล็กอาบสังกะสี 90 ม-ม dia 3/4" | D12: 0 | E12: ตัว | F12: 15.37 | G12: =IF(F12="-","-",D12*F12) -> 0 | J12: =SUM(G12,I12) -> 0
A13: 5 | B13: ข้องอเหล็กอาบสังกะสี 90 ม-ม dia2 1/2" | D13: 1 | E13: ตัว | F13: 145 | G13: =IF(F13="-","-",D13*F13) -> 145 | J13: =SUM(G13,I13) -> 145 | M13: 0
A14: 6 | B14: ข้อโค้งเหล็กหล่อ 45 หน้าจาน 2 ด้าน dia 3" | D14: 0 | E14: ตัว | F14: 1495 | G14: =IF(F14="-","-",D14*F14) -> 0 | J14: =SUM(G14,I14) -> 0
A15: 7 | B15: ข้อต่อตรงลดเหล็ก dia 3"ลด2 1/2" | D15: 1 | E15: ตัว | F15: 220 | G15: =IF(F15="-","-",D15*F15) -> 220 | J15: =SUM(G15,I15) -> 220 | M15: 0
A16: 8 | B16: สามทางเหล็กอาบสังกะสี dia 3" | D16: 0 | E16: ตัว | F16: 303.05 | G16: =IF(F16="-","-",D16*F16) -> 0 | I16: 150 | J16: =SUM(G16,I16) -> 150
A17: 9 | B17: หน้าจานเกลียวเหล็กหล่อ dia 3" | D17: 0 | E17: ตัว | F17: 352 | G17: =IF(F17="-","-",D17*F17) -> 0 | J17: =SUM(G17,I17) -> 0
A18: 10 | B18: ประตูน้ำเหล็กหล่อบนดิน หน้าจาน dia 3" แบบพวงมาลัย | D18: 0 | E18: ชุด | F18: 6200 | G18: =IF(F18="-","-",D18*F18) -> 0 | J18: =SUM(G18,I18) -> 0
A19: 11 | B19: มาตรวัดน้ำ (ใบพัด 2 ชั้น) dia 3" | D19: 0 | E19: ชุด | F19: 14000 | G19: =IF(F19="-","-",D19*F19) -> 0 | J19: =SUM(G19,I19) -> 0
A20: 12 | B20: ก๊อกน้ำทองเหลือง dia 3/4" | D20: 0 | E20: ตัว | F20: 177 | G20: =IF(F20="-","-",D20*F20) -> 0 | J20: =SUM(G20,I20) -> 0
A21: 13 | B21: ประเก็นยาง dia 3" | D21: 0 | E21: แผ่น | F21: 20 | G21: =IF(F21="-","-",D21*F21) -> 0 | J21: =SUM(G21,I21) -> 0
A22: 14 | B22: น๊อตยึดหน้าจาน | D22: 0 | E22: ตัว | F22: 30 | G22: =IF(F22="-","-",D22*F22) -> 0 | J22: =SUM(G22,I22) -> 0 | N22: =SUM(G10:G22) -> 365 | O22: =N22*0.2 -> 73
A23: 15 | B23: ทำเกลียว | D23: 3 | E23: จุด | F23: - | G23: =IF(F23="-","-",D23*F23) -> - | H23: 40 | I23: =IF(H23="-","-",H23*D23) -> 120 | J23: =SUM(G23,I23) -> 120 | M23: 0
A24: 16 | B24: เทปพันเกลียว | D24: 2 | E24: ม้วน | F24: 30 | G24: =IF(F24="-","-",D24*F24) -> 60 | J24: =SUM(G24,I24) -> 60
A25: 17 | B25: เทพื้น คสล. ขนาด 0.50 x 0.50 x 0.07 ม., | D25: 0 | E25: ลบ.ม. | F25: =2460+476*4+38.73 -> 4402.73 | G25: =D25*F25 -> 0 | H25: =133*4+500 -> 1032 | I25: =D25*H25 -> 0 | J25: =SUM(G25,I25) -> 0 | O25: =SUM(G31)*0.2 -> 743.046
A26: 18 | B26: ท่อ PVC. ยาว 4.00 ม. ชั้น 13.5 dia 2" | D26: 1 | E26: ท่อน | F26: 291.59 | G26: =IF(F26="-","-",D26*F26) -> 291.59 | H26: 41 | I26: =IF(H26="-","-",H26*D26) -> 41 | J26: =SUM(G26,I26) -> 332.59 | L26: =D26*2.98 -> 2.98 | M26: สฎ
A27: 19 | B27: ท่อ PVC. ยาว 4.00 ม. ชั้น 13.5 dia 3" | D27: 1 | E27: ท่อน | F27: 672.9 | G27: =IF(F27="-","-",D27*F27) -> 672.9 | H27: 77 | I27: =IF(H27="-","-",H27*D27) -> 77 | J27: =SUM(G27,I27) -> 749.9 | L27: =D27*2.98 -> 2.98 | M27: สฎ
A28: 20 | B28: ท่อ PVC. ยาว 4.00 ม. ชั้น 13.5 dia 2 1/2" | D28: 1 | E28: ท่อน | F28: 482.24 | G28: =IF(F28="-","-",D28*F28) -> 482.24 | H28: 62 | I28: =IF(H28="-","-",H28*D28) -> 62 | J28: =SUM(G28,I28) -> 544.24 | L28: =D28*2.98 -> 2.98 | M28: สฎ
A29: 21 | B29: ข้อต่อเกลียวนอก PVC. Dia 2" | D29: 1 | E29: อัน | F29: 56 | G29: =D29*F29 -> 56 | I29: =D29*H29 -> 0 | J29: =SUM(G29,I29) -> 56 | L29: =D29*102.6 -> 102.6 | M29: 0 | N29: =3559+534.47 -> 4093.47 | O29: =21.75*6 -> 130.5 | P29: =15000/O29 -> 114.94253 | Q29: =15000/P29 -> 130.5 | S29: =N29+Q29 -> 4223.97
A30: 21 | B30: ข้อต่อเกลียวนอก PVC. Dia 3" | D30: 1 | E30: อัน | F30: 65 | G30: =D30*F30 -> 65 | I30: =D30*H30 -> 0 | J30: =SUM(G30,I30) -> 65 | L30: =D30*102.6 -> 102.6 | M30: 0 | N30: =3559+534.47 -> 4093.47 | O30: =21.75*6 -> 130.5 | P30: =15000/O30 -> 114.94253 | Q30: =15000/P30 -> 130.5 | S30: =N30+Q30 -> 4223.97
C31: รวมเงิน | G31: =SUM(G9:G30) -> 3715.23 | I31: =SUM(I9:I29) -> 629 | J31: =SUM(J9:J30) -> 4344.23 | M31: =G31+I31 -> 4344.23
C32: คิดเป็นเงินค่างาน | J32: =J31 -> 4344.23

Sheet ประสานปากบ่อ
A1: ชื่อโครงการ............................ | C1: =ปร.5!E6 -> ก่อสร้างระบบประปาหมู่บ้าน (ปากน้ำ 3)
A2: งานก่อสร้าง............................................ | C2: การประสานท่อที่ปากบ่อบาดาล
A3: =ปร.5!B7 -> สถานที่ก่อสร้าง บ้านปากน้ำ หมู่ที่ ๑3 ตำบลทุ่งหลวง อำเภอเวียงสระ จังหวัดสุราษฎร์ธานี
A4: =ปร.5!B9 -> เจ้าของโครงการ เทศบาลตำบลทุ่งหลวง
A5: =ปร.5!B10 -> 0 | H5: =ปร.5!J10 -> เมื่อวันที่ 1 ธันวาคม 2568
K6: หน่วย : บาท
A7: ลำดับ | B7: รายการ | D7: จำนวนหน่วย | F7: ค่าวัสดุ | H7: ค่าแรงงาน | J7: ค่าวัสดุและ | K7: หมายเหตุ
A8: ที่ | F8: ราคาต่อหน่วย | G8: เป็นเงิน | H8: ราคาต่อหน่วย | I8: เป็นเงิน | J8: ค่าแรงงาน
A9: 1 | B9: ท่อเหล็กอาบสังกะสี ยาว 6 ม. dia 2" | D9: 1 | E9: ท่อน | F9: 706.54 | G9: =IF(F9="-","-",D9*F9) -> 706.54 | H9: 113 | I9: =D9*H9 -> 113 | J9: =SUM(G9,I9) -> 819.54 | M9: นศ
A10: 2 | B10: ท่อเหล็กอาบสังกะสี ยาว 6 ม. dia 2" | E10: ท่อน | F10: 706.54 | G10: =IF(F10="-","-",D10*F10) -> 0 | J10: =SUM(G10,I10) -> 0
A11: 3 | B11: สามทางเหล็กอาบสังกะสี dia 2" | D11: 1 | E11: ตัว | F11: 165 | G11: =IF(F11="-","-",D11*F11) -> 165 | J11: =SUM(G11,I11) -> 165 | M11: 0
A12: 4 | B12: ข้องอเหล็กอาบสังกะสี 45,90 ม-ม dia 2" | D12: 3 | E12: ตัว | F12: 50.75 | G12: =IF(F12="-","-",D12*F12) -> 152.25 | J12: =SUM(G12,I12) -> 152.25 | M12: 0
A13: 5 | B13: นิปเปิ้ลเหล็กอาบสังกะสี dia 2" | D13: 7 | E13: ตัว | F13: 44 | G13: =IF(F13="-","-",D13*F13) -> 308 | J13: =SUM(G13,I13) -> 308 | M13: 0
A14: 6 | B14: ยูเนียนเหล็กอาบสังกะสี dia 2" | D14: 1 | E14: ตัว | F14: 150 | G14: =IF(F14="-","-",D14*F14) -> 150 | J14: =SUM(G14,I14) -> 150 | M14: 0
A15: 7 | B15: หน้าจานเกลียวเหล็กหล่อ dia 2" | D15: 2 | E15: ตัว | F15: 352 | G15: =IF(F15="-","-",D15*F15) -> 704 | I15: 1500 | J15: =SUM(G15,I15) -> 2204 | M15: 0
A16: 8 | B16: ชุดประกอบปิดปากบ่อ dia 6" (ป้องกันน้ำท่วม) | D16: 1 | E16: ตัว | F16: 3500 | G16: =IF(F16="-","-",D16*F16) -> 3500 | J16: =SUM(G16,I16) -> 3500 | M16: 0
A17: 9 | B17: เช็ควาล์วทองเหลือง dia 2" | D17: 1 | E17: ตัว | F17: 450 | G17: =IF(F17="-","-",D17*F17) -> 450 | J17: =SUM(G17,I17) -> 450 | M17: 0
A18: 10 | B18: ประตูน้ำบอลวาล์ว dia 2" | D18: 2 | E18: ชุด | F18: 580 | G18: =IF(F18="-","-",D18*F18) -> 1160 | J18: =SUM(G18,I18) -> 1160 | M18: 0
A19: 11 | B19: สวิทซ์น้ำไหล dia 2" | D19: 1 | E19: ชุด | F19: 2500 | G19: =IF(F19="-","-",D19*F19) -> 2500 | J19: =SUM(G19,I19) -> 2500 | M19: 0
A20: 12 | B20: มาตรวัดน้ำแบบแม่เหล็ก 2 ชั้น ขนาด dia 2" | D20: 1 | E20: ตัว | F20: 8500 | G20: =IF(F20="-","-",D20*F20) -> 8500 | J20: =SUM(G20,I20) -> 8500 | M20: 0
A21: 13 | B21: ประเก็นยาง dia 2" | D21: 2 | E21: แผ่น | F21: 25 | G21: =IF(F21="-","-",D21*F21) -> 50 | J21: =SUM(G21,I21) -> 50 | M21: 0
A22: 14 | B22: เทปพันเกลียว | D22: 2 | E22: ม้วน | F22: 30 | G22: =IF(F22="-","-",D22*F22) -> 60 | J22: =SUM(G22,I22) -> 60 | M22: 0 | N22: =SUM(G9:G22) -> 18405.79 | O22: =N22*0.2 -> 3681.158
A23: 15 | B23: ทำเกลียว | D23: 4 | E23: จุด | F23: - | G23: =IF(F23="-","-",D23*F23) -> - | H23: 30 | I23: =IF(H23="-","-",H23*D23) -> 120 | J23: =SUM(G23,I23) -> 120 | M23: 0
A24: 16 | B24: อุปกรณ์อื่นๆ | D24: 1 | E24: งาน | F24: 300 | G24: =IF(F24="-","-",D24*F24) -> 300 | J24: =SUM(G24,I24) -> 300 | M24: 0
C26: รวมเงิน | G26: =SUM(G9:G24) -> 18705.79 | I26: =SUM(I9:I24) -> 1733 | J26: =SUM(J9:J24) -> 20438.79 | M26: =G26+I26 -> 20438.79
C27: คิดเป็นเงินค่างาน | J27: =J26 -> 20438.79

Sheet งานดิน
A1: ชื่อโครงการ............................ | C1: =ปร.5!E6 -> ก่อสร้างระบบประปาหมู่บ้าน (ปากน้ำ 3)
A2: งานก่อสร้าง............................................ | C2: งานดิน
A3: =ปร.5!B7 -> สถานที่ก่อสร้าง บ้านปากน้ำ หมู่ที่ ๑3 ตำบลทุ่งหลวง อำเภอเวียงสระ จังหวัดสุราษฎร์ธานี
A4: =ปร.5!B9 -> เจ้าของโครงการ เทศบาลตำบลทุ่งหลวง
A5: =ปร.5!B10 -> 0 | H5: =ปร.5!J10 -> เมื่อวันที่ 1 ธันวาคม 2568
K6: หน่วย : บาท
A7: ลำดับ | B7: รายการ | D7: จำนวนหน่วย | F7: ค่าวัสดุ | H7: ค่าแรงงาน | J7: ค่าวัสดุและ | K7: หมายเหตุ
A8: ที่ | F8: ราคาต่อหน่วย | G8: เป็นเงิน | H8: ราคาต่อหน่วย | I8: เป็นเงิน | J8: ค่าแรงงาน
B9: 1.งานดินถม
A10: 1.1 | B10: ปรับเกลี่ยแต่งสภาพพื้นที่ภายในระบบประปา | E10: ตร.ม. | F10: - | G10: =IF(F10="-","-",D10*F10) -> - | H10: 15 | I10: =IF(H10="-","-",H10*D10) -> 0 | J10: =SUM(G10,I10) -> 0
A11: 1.2 | B11: ดินถมระบบประปา | E11: ลบ.ม. | F11: 160 | G11: =IF(F11="-","-",D11*F11) -> 0 | H11: 46 | I11: =IF(H11="-","-",H11*D11) -> 0 | J11: =SUM(G11,I11) -> 0
C13: รวมเงิน | G13: =SUM(G9:G12) -> 0 | I13: =SUM(I9:I12) -> 0 | J13: =SUM(J9:J12) -> 0 | M13: =G13+I13 -> 0
C14: คิดเป็นเงิน | J14: =ROUNDDOWN(J13,0) -> 0
H16: ลงชื่อ........................................ผู้ประมาณราคา

Sheet ทดสอบดิน
A1: ชื่อโครงการ............................ | C1: =ปร.5!E6 -> ก่อสร้างระบบประปาหมู่บ้าน (ปากน้ำ 3)
A2: งานก่อสร้าง............................................ | C2: ทดสอบความสามารถในการรับน้ำหนักบรรทุกของดิน
A3: =ปร.5!B7 -> สถานที่ก่อสร้าง บ้านปากน้ำ หมู่ที่ ๑3 ตำบลทุ่งหลวง อำเภอเวียงสระ จังหวัดสุราษฎร์ธานี
A4: =ปร.5!B9 -> เจ้าของโครงการ เทศบาลตำบลทุ่งหลวง
A5: =ปร.5!B10 -> 0 | H5: =ปร.5!J10 -> เมื่อวันที่ 1 ธันวาคม 2568
K6: หน่วย : บาท
A7: ลำดับ | B7: รายการ | D7: จำนวนหน่วย | F7: ค่าวัสดุ | H7: ค่าแรงงาน | J7: ค่าวัสดุและ | K7: หมายเหตุ
A8: ที่ | F8: ราคาต่อหน่วย | G8: เป็นเงิน | H8: ราคาต่อหน่วย | I8: เป็นเงิน | J8: ค่าแรงงาน
A9: 1 | B9: ทดสอบดินวิธี Boring Test (SPT.) | D9: 1 | E9: จุด | F9: - | G9: =IF(F9="-","-",D9*F9) -> - | H9: 13500 | I9: =IF(H9="-","-",H9*D9) -> 13500 | J9: =SUM(G9,I9) -> 13500
C13: รวมเงิน | G13: =SUM(G9:G12) -> 0 | I13: =SUM(I9:I12) -> 13500 | J13: =SUM(J9:J12) -> 13500
C14: คิดเป็นเงินค่างาน | J14: =ROUNDDOWN(J13,-2) -> 13500

Sheet ไฟฟ้าใน
A1: ชื่อโครงการ............................ | C1: =ปร.5!E6 -> ก่อสร้างระบบประปาหมู่บ้าน (ปากน้ำ 3)
A2: งานก่อสร้าง............................................ | C2: การประสานระบบไฟฟ้าภายใน
A3: =ปร.5!B7 -> สถานที่ก่อสร้าง บ้านปากน้ำ หมู่ที่ ๑3 ตำบลทุ่งหลวง อำเภอเวียงสระ จังหวัดสุราษฎร์ธานี
A4: =ปร.5!B9 -> เจ้าของโครงการ เทศบาลตำบลทุ่งหลวง
A5: =ปร.5!B10 -> 0 | H5: =ปร.5!J10 -> เมื่อวันที่ 1 ธันวาคม 2568
K6: หน่วย : บาท
A7: ลำดับ | B7: รายการ | D7: จำนวนหน่วย | F7: ค่าวัสดุ | H7: ค่าแรงงาน | J7: ค่าวัสดุและ | K7: หมายเหตุ
A8: ที่ | F8: ราคาต่อหน่วย | G8: เป็นเงิน | H8: ราคาต่อหน่วย | I8: เป็นเงิน | J8: ค่าแรงงาน
B9: ข. ระบบไฟฟ้าภายใน (ผู้รับจ้างดำเนินการ)
A10: 1 | B10: สาย NYY. ขนาด 2x16 sq.mm. | D10: 20 | E10: ม. | F10: 150 | G10: =D10*F10 -> 3000 | H10: 20 | I10: =D10*H10 -> 400 | J10: =SUM(G10,I10) -> 3400
A11: 2 | B11: สาย VCT. ขนาด 2x1.5 sq.mm. | D11: 15 | E11: ม. | F11: 15 | G11: =D11*F11 -> 225 | H11: 10 | I11: =D11*H11 -> 150 | J11: =SUM(G11,I11) -> 375
A12: 3 | B12: สะพานไฟ ขนาด 100 A. พร้อมระบบกราวด์ | D12: 1 | E12: ชุด | F12: 550 | G12: =D12*F12 -> 550 | H12: 150 | I12: =D12*H12 -> 150 | J12: =SUM(G12,I12) -> 700
A13: 4 | B13: ตู้พลาสติกกันฝน ขนาด 300x280x130 มม. | D13: 1 | E13: ชุด | F13: 350 | G13: =D13*F13 -> 350 | H13: 50 | I13: =D13*H13 -> 50 | J13: =SUM(G13,I13) -> 400
A14: 5 | B14: ข้อต่อกันน้ำ(หัวงูเห่า) | D14: 1 | E14: อัน | F14: 150 | G14: =D14*F14 -> 150 | H14: 0 | I14: =D14*H14 -> 0 | J14: =SUM(G14,I14) -> 150
A15: 6 | B15: ตู้เหล็กกันน้ำมีหลังคา(ใส่ตู้ปรับแรงดันเพิ่มไฟฟ้า)ฝา2ชั้น | D15: 0 | E15: ตู้ | F15: 6219 | G15: =D15*F15 -> 0 | H15: 350 | I15: =D15*H15 -> 0 | J15: =SUM(G15,I15) -> 0
B16: ขนาด 640 x 920 x 250 มม.
A17: 7 | B17: คัตเอาท์หลังเต่า 2P 60A | D17: 0 | E17: ตัว | F17: 440 | G17: =D17*F17 -> 0 | H17: 150 | I17: =D17*H17 -> 0 | J17: =SUM(G17,I17) -> 0
A18: 7 | B18: ท่อ PVC. ร้อยสายไฟ(สีเหลือง) dia 3/4" | D18: 15 | E18: เมตร | F18: 8.5 | G18: =D18*F18 -> 127.5 | H18: 10 | I18: =D18*H18 -> 150 | J18: =SUM(G18,I18) -> 277.5
A19: 8 | B19: เสา คสล. ขนาด 5 นิ้ว ยาว 4 เมตร | D19: 1 | E19: ต้น | F19: 600 | G19: =D19*F19 -> 600 | H19: 250 | I19: =D19*H19 -> 250 | J19: =SUM(G19,I19) -> 850
A20: 9 | B20: ท่อร้อยสายไฟ HDPE. ขนาด 40 มม. | D20: 20 | E20: เมตร | F20: 35 | G20: =D20*F20 -> 700 | H20: 20 | I20: =D20*H20 -> 400 | J20: =SUM(G20,I20) -> 1100
A21: 10 | B21: เครื่องปรับแรงดันไฟฟ้าอัตโนมัติ . | D21: 0 | E21: ชุด | F21: 18500 | G21: =D21*F21 -> 0 | H21: 350 | I21: =D21*H21 -> 0 | J21: =SUM(G21,I21) -> 0
B22: ขนาด 15 KVA
C25: รวมเงิน | G25: =SUM(G10:G22) -> 5702.5 | I25: =SUM(I10:I22) -> 1550 | J25: =SUM(G25,I25) -> 7252.5 | N25: =SUM(J10:J22) -> 7252.5 | O25: =G25*0.2 -> 1140.5
C26: คิดเป็นเงินค่างาน | J26: =J25 -> 7252.5

Sheet บ่อบาดาล 
A1: ชื่อโครงการ............................ | C1: =ปร.5!E6 -> ก่อสร้างระบบประปาหมู่บ้าน (ปากน้ำ 3)
A2: งานก่อสร้าง............................................ | C2: บ่อบาดาล PVC. ขนาด ฦ ๖ นิ้ว ความลึก 10๐ เมตร
A3: =ปร.5!B7 -> สถานที่ก่อสร้าง บ้านปากน้ำ หมู่ที่ ๑3 ตำบลทุ่งหลวง อำเภอเวียงสระ จังหวัดสุราษฎร์ธานี
A4: =ปร.5!B9 -> เจ้าของโครงการ เทศบาลตำบลทุ่งหลวง
A5: =ปร.5!B10 -> 0 | H5: =ปร.5!J10 -> เมื่อวันที่ 1 ธันวาคม 2568
K6: หน่วย : บาท
A7: ลำดับ | B7: รายการ | D7: จำนวนหน่วย | F7: ค่าวัสดุ | H7: ค่าแรงงาน | J7: ค่าวัสดุและ | K7: หมายเหตุ
A8: ที่ | F8: ราคาต่อหน่วย | G8: เป็นเงิน | H8: ราคาต่อหน่วย | I8: เป็นเงิน | J8: ค่าแรงงาน
A9: 1 | B9: ท่อกรุบ่อ PVC. ยาว 4.00 ม. ชั้น 13.5 dia 6" | D9: 20 | E9: ท่อน | F9: 2299.07 | G9: =IF(F9="-","-",D9*F9) -> 45981.4 | H9: - | I9: =IF(H9="-","-",H9*D9) -> - | J9: =SUM(G9,I9) -> 45981.4 | L9: สฎ
A10: 2 | B10: ท่อเซาะร่องกรองน้ำ PVC. ยาว 4.00 ม. ชั้น 13.5 dia 6" | D10: 4 | E10: ท่อน | F10: 2499.07 | G10: =IF(F10="-","-",D10*F10) -> 9996.28 | H10: - | I10: =IF(H10="-","-",H10*D10) -> - | J10: =SUM(G10,I10) -> 9996.28 | L10: สฎ+200
A11: 3 | B11: ท่อตกตะกอน PVC. ยาว 4.00 ม. ชั้น 13.5 dia 6" | D11: 1 | E11: ท่อน | F11: =F9 -> 2299.07 | G11: =IF(F11="-","-",D11*F11) -> 2299.07 | H11: - | I11: =IF(H11="-","-",H11*D11) -> - | J11: =SUM(G11,I11) -> 2299.07 | L11: สฎ
A12: 4 | B12: กรวดกรองน้ำ ขนาด 1/4" - 3/8" | D12: 0.8 | E12: ลบ.ม. | F12: 4000 | G12: =IF(F12="-","-",D12*F12) -> 3200 | H12: 450 | I12: =IF(H12="-","-",H12*D12) -> 360 | J12: =SUM(G12,I12) -> 3560 | L12: 0
A13: 5 | B13: โคลนวิทยาศาสตร์ | D13: 5 | E13: กระสอบ | F13: 1000 | G13: =D13*F13 -> 5000 | H13: - | I13: =IF(H13="-","-",H13*D13) -> - | J13: =SUM(G13,I13) -> 5000 | L13: 0
A14: 6 | B14: น้ำมันเชื้อเพลิง(โซล่า) | D14: 0 | E14: ลิตร | F14: 27 | G14: =D14*F14 -> 0 | H14: - | I14: =IF(H14="-","-",H14*D14) -> - | J14: =SUM(G14,I14) -> 0
A15: 7 | B15: ค่าแรงเจาะบ่อบาดาล | D15: 100 | E15: ม. | F15: - | G15: =IF(F15="-","-",D15*F15) -> - | H15: 1200 | I15: =D15*H15 -> 120000 | J15: =SUM(G15,I15) -> 120000 | L15: 0
A16: 8 | B16: ค่าเป่าล้างบ่อบาดาล | D16: 1 | E16: รายการ | F16: - | G16: =IF(F16="-","-",D16*F16) -> - | H16: 5000 | I16: =D16*H16 -> 5000 | J16: =SUM(G16,I16) -> 5000 | L16: 0
A17: 9 | B17: ค่าทดสอบปริมาณน้ำ และวิเคราะห์คุณภาพน้ำดิบ | D17: 1 | E17: รายการ | F17: - | G17: =IF(F17="-","-",D17*F17) -> - | H17: 12000 | I17: =D17*H17 -> 12000 | J17: =SUM(G17,I17) -> 12000 | L17: 0
A18: 10 | B18: เทชานบ่อ คสล. ขนาด 2.00 x 2.00 x 0.10 ม. | D18: 0.4 | E18: ลบ.ม. | F18: 2411.21 | G18: =D18*F18 -> 964.484 | H18: 329 | I18: =D18*H18 -> 131.6 | J18: =SUM(G18,I18) -> 1096.084 | L18: สฎ
A19: 11 | B19: น้ำยาเชื่อมท่อ PVC. ขนาด 500 กรัม | D19: 2 | E19: กระป่อง | F19: 285.52 | G19: =D19*F19 -> 571.04 | H19: - | I19: =IF(H19="-","-",H19*D19) -> - | J19: =SUM(G19,I19) -> 571.04 | L19: กบ
A20: 12 | B20: สกรูเกลียวปล่อย dia 1.5 หุน | D20: 1 | E20: กล่อง | F20: 250 | G20: =D20*F20 -> 250 | H20: - | I20: =IF(H20="-","-",H20*D20) -> - | J20: =SUM(G20,I20) -> 250 | L20: 0
A21: 13 | B21: คอนกรีต 1 : 2 : 4 | D21: 0.05 | E21: ลบ.ม. | F21: =F18 -> 2411.21 | G21: =D21*F21 -> 120.5605 | H21: 329 | I21: =D21*H21 -> 16.45 | J21: =SUM(G21,I21) -> 137.0105 | L21: สฎ
A22: 14 | B22: ดินเหนียวแห้งหรืออิฐดิบ ทุบละเอียดขนาดเล็กกว่า 1 ซม. | D22: 2 | E22: ลบ.ม. | F22: 1000 | G22: =D22*F22 -> 2000 | H22: - | I22: =IF(H22="-","-",H22*D22) -> - | J22: =SUM(G22,I22) -> 2000 | L22: 0
A23: 14 | B23: เหล็กเส้นกลมผิวเรียบ ขนาด ศก .6 มม. | D23: 8.88 | E23: กก. | F23: 23.13 | G23: =D23*F23 -> 205.3944 | H23: 4.9 | I23: =IF(H23="-","-",H23*D23) -> 43.512 | J23: =SUM(G23,I23)-0.01 -> 248.8964 | L23: สฎ
C24: รวมเงิน | G24: =SUM(G9:G23)-0.01 -> 70588.219 | I24: =SUM(I9:I23) -> 137551.56 | J24: =SUM(J9:J23) -> 208139.78
C25: คิดเป็นเงินค่างาน | J25: =J24 -> 208139.78 | M25: =J25/D15 -> 2081.3978

Sheet สบน.10-1007
A1: ชื่อโครงการ............................ | C1: =ปร.5!E6 -> ก่อสร้างระบบประปาหมู่บ้าน (ปากน้ำ 3)
A2: งานก่อสร้าง............................................ | C2: ถังกรองสนิมเหล็ก ขนาด ๗ ลบ.ม./ชม.
A3: =ปร.5!B7 -> สถานที่ก่อสร้าง บ้านปากน้ำ หมู่ที่ ๑3 ตำบลทุ่งหลวง อำเภอเวียงสระ จังหวัดสุราษฎร์ธานี
A4: =ปร.5!B9 -> เจ้าของโครงการ เทศบาลตำบลทุ่งหลวง
A5: =ปร.5!B10 -> 0 | H5: =ปร.5!J10 -> เมื่อวันที่ 1 ธันวาคม 2568
K6: หน่วย : บาท
A7: ลำดับ | B7: รายการ | D7: จำนวนหน่วย | F7: ค่าวัสดุ | H7: ค่าแรงงาน | J7: ค่าวัสดุและ | K7: หมายเหตุ
A8: ที่ | F8: ราคาต่อหน่วย | G8: เป็นเงิน | H8: ราคาต่อหน่วย | I8: เป็นเงิน | J8: ค่าแรงงาน
B9: 1. งานดิน
A10: 1.1 | B10: ขุดดิน ถมดิน | D10: 0.54 | E10: ลบ.ม. | G10: =IF(F10="-","-",D10*F10) -> 0 | H10: 181 | I10: =IF(H10="-","-",H10*D10) -> 97.74 | J10: =SUM(G10,I10) -> 97.74
B11: 2. งานแบบหล่อ
A12: 2.1 | B12: ไม้แบบหล่อคอนกรีตทั่วไป 80 % พร้อมไม้คร่าว | D12: 1.97 | E12: ตร.ม. | F12: 600 | G12: =IF(F12="-","-",D12*F12) -> 1182 | H12: 163 | I12: =IF(H12="-","-",H12*D12) -> 321.11 | J12: =SUM(G12,I12) -> 1503.11 | L12: สฎ
A13: 2.2 | B13: ตะปู | D13: 1.5 | E13: กก. | F13: 46.73 | G13: =IF(F13="-","-",D13*F13) -> 70.095 | H13: - | I13: =IF(H13="-","-",H13*D13) -> - | J13: =SUM(G13,I13) -> 70.095 | L13: สฎ
B14: 3. งานคอนกรีต
A15: 3.1 | B15: คอนกรีต 1 : 2 : 4 | D15: 0.45 | E15: ลบ.ม. | F15: 2411.21 | G15: =IF(F15="-","-",D15*F15) -> 1085.0445 | H15: 329 | I15: =IF(H15="-","-",H15*D15) -> 148.05 | J15: =SUM(G15,I15) -> 1233.0945 | L15: สฎ
B16: 4. งานเหล็ก
A17: 4.1 | B17: เหล็กเส้นกลม dia. 9 มม. (4.99 กก./เส้น) | D17: 0.034 | E17: ตัน | F17: 23.13 | G17: =IF(F17="-","-",D17*F17) -> 0.78642 | H17: 4.9 | I17: =IF(H17="-","-",H17*D17) -> 0.1666 | J17: =SUM(G17,I17)+0.01 -> 0.96302 | L17: สฎ
A18: 4.2 | B18: ลวดผูกเหล็ก No 18 | D18: 0.6 | E18: กก. | F18: 37.58 | G18: =IF(F18="-","-",D18*F18) -> 22.548 | H18: - | I18: =IF(H18="-","-",H18*D18) -> - | J18: =SUM(G18,I18) -> 22.548 | L18: สฎ
B19: 5. งานอื่นๆ
A20: 5.1 | B20: ถังกรองสนิมเหล็ก ขนาด 7 ลบ.ม./ชม. | D20: 1 | E20: ชุด | F20: 45000 | G20: =IF(F20="-","-",D20*F20) -> 45000 | I20: =IF(H20="-","-",H20*D20) -> 0 | J20: =SUM(G20,I20) -> 45000 | K20: พร้อมวัสดุ | L20: 0
B21: (30 กล./ชม.) | K21: อุปกรณ์
B22: อุปกรณ์ระบบท่อน้ำภายนอกถังกรองสนิมเหล็ก
B23: ท่อเหล็กอาบสังกะสี+ข้อต่อยาว6ม. dia 2 1/2" | D23: 1 | E23: ท่อน | F23: 929.91 | G23: =IF(F23="-","-",D23*F23) -> 929.91 | H23: 138 | I23: =IF(H23="-","-",H23*D23) -> 138 | J23: =SUM(G23,I23) -> 1067.91 | L23: นศ
B24: ข้อต่อยีโบลท์ ขนาด dia 2 1/2" | E24: อัน | F24: 150 | G24: =IF(F24="-","-",D24*F24) -> 0 | J24: =SUM(G24,I24) -> 0
B25: ข้องอฉากเหล็ก ขนาด dia 2 1/2" | D25: 6 | E25: อัน | F25: 145 | G25: =IF(F25="-","-",D25*F25) -> 870 | J25: =SUM(G25,I25) -> 870 | L25: 0
B26: ประตูน้ำแบบบอลล์วาล์ว ขนาด dia 2 1/2" | D26: 5 | E26: ชุด | F26: 1500 | G26: =IF(F26="-","-",D26*F26) -> 7500 | H26: 513 | I26: =IF(H26="-","-",H26*D26) -> 2565 | J26: =SUM(G26,I26) -> 10065 | L26: 0
B27: ยูเนี่ยนเหล็ก ขนาด dia 2 1/2" | D27: 3 | E27: อัน | F27: 180 | G27: =IF(F27="-","-",D27*F27) -> 540 | J27: =SUM(G27,I27) -> 540 | L27: 0
B28: นิปเปิ้ลเหล็ก ขนาด dia 2 1/2" | D28: 11 | E28: อัน | F28: 50 | G28: =IF(F28="-","-",D28*F28) -> 550 | J28: =SUM(G28,I28) -> 550 | L28: 0
B29: ข้อต่อสามทางเหล็ก ขนาด 65X65X65 มิลลิเมตร | D29: 4 | E29: อัน | F29: 200 | G29: =IF(F29="-","-",D29*F29) -> 800 | J29: =SUM(G29,I29) -> 800 | L29: 0
B30: อุปกรณ์อื่นๆ | D30: 1 | E30: งาน | F30: 300 | G30: =IF(F30="-","-",D30*F30) -> 300 | J30: =SUM(G30,I30) -> 300
C31: รวมเงิน | G31: =SUM(G10:G30)+0.01 -> 58850.394 | I31: =SUM(I10:I29) -> 3270.0666 | J31: =SUM(J10:J30) -> 62120.461
C32: คิดเป็นเงินค่างาน | J32: =J31 -> 62120.461

Sheet สบจ.10-2015
A1: ชื่อโครงการ............................ | C1: =ปร.5!E6 -> ก่อสร้างระบบประปาหมู่บ้าน (ปากน้ำ 3)
A2: งานก่อสร้าง............................................ | C2: หอถังสูงเหล็ก ทรงรูปถ้วยเชมเปญ ขนาด ๑๕ ลบ.ม. สูง ๒๐ ม.
A3: =ปร.5!B7 -> สถานที่ก่อสร้าง บ้านปากน้ำ หมู่ที่ ๑3 ตำบลทุ่งหลวง อำเภอเวียงสระ จังหวัดสุราษฎร์ธานี
A4: =ปร.5!B9 -> เจ้าของโครงการ เทศบาลตำบลทุ่งหลวง
A5: =ปร.5!B10 -> 0 | H5: =ปร.5!J10 -> เมื่อวันที่ 1 ธันวาคม 2568
K6: หน่วย : บาท
A7: ลำดับ | B7: รายการ | D7: จำนวนหน่วย | F7: ค่าวัสดุ | H7: ค่าแรงงาน | J7: ค่าวัสดุและ | K7: หมายเหตุ
A8: ที่ | F8: ราคาต่อหน่วย | G8: เป็นเงิน | H8: ราคาต่อหน่วย | I8: เป็นเงิน | J8: ค่าแรงงาน
B9: 1. งานดิน
A10: 1.1 | B10: ขุดดิน | D10: 15.36 | E10: ลบ.ม. | F10: - | G10: =IF(F10="-","-",D10*F10) -> - | H10: 181 | I10: =IF(H10="-","-",H10*D10) -> 2780.16 | J10: =SUM(G10,I10) -> 2780.16
A11: 1.2 | B11: ทรายหยาบ | D11: 2.21 | E11: ลบ.ม. | F11: 551.41 | G11: =IF(F11="-","-",D11*F11) -> 1218.6161 | H11: 112 | I11: =IF(H11="-","-",H11*D11) -> 247.52 | J11: =SUM(G11,I11) -> 1466.1361 | L11: สฎ
B12: 2. งานแบบหล่อ
A13: 2.1 | B13: ไม้แบบหล่อคอนกรีตทั่วไป 80 % พร้อมไม้คร่าว | D13: 14.22 | E13: ตร.ม. | F13: 600 | G13: =IF(F13="-","-",D13*F13) -> 8532 | H13: 163 | I13: =IF(H13="-","-",H13*D13) -> 2317.86 | J13: =SUM(G13,I13) -> 10849.86 | L13: สฎ
A14: 2.2 | B14: ตะปู | D14: =D13/4 -> 3.555 | E14: กก. | F14: 46.73 | G14: =IF(F14="-","-",D14*F14)+0.23 -> 166.35515 | H14: - | I14: =IF(H14="-","-",H14*D14) -> - | J14: =SUM(G14,I14) -> 166.35515 | L14: สฎ
B15: 3. งานคอนกรีต
A16: 3.1 | B16: คอนกรีต 1 : 3 : 5 | D16: 1.02 | E16: ลบ.ม. | F16: 2242.99 | G16: =IF(F16="-","-",D16*F16) -> 2287.8498 | H16: 427 | I16: =IF(H16="-","-",H16*D16) -> 435.54 | J16: =SUM(G16,I16) -> 2723.3898 | L16: สฎ 180
A17: 3.2 | B17: คอนกรีต 1 : 2 : 4 (ซีเมนต์ไม่น้อยกว่า 240 กก/ลบ.ม.) | D17: 5.03 | E17: ลบ.ม. | F17: 2411.21 | G17: =IF(F17="-","-",D17*F17) -> 12128.386 | H17: 329 | I17: =IF(H17="-","-",H17*D17) -> 1654.87 | J17: =SUM(G17,I17) -> 13783.256 | L17: สฎ 240
B18: 4. งานเหล็ก
A19: 4.1 | B19: เหล็กเส้นกลม dia. 12 มม. (8.88 กก./เส้น) | D19: 161 | E19: กก. | F19: 23.99 | G19: =IF(F19="-","-",D19*F19) -> 3862.39 | H19: 3.9 | I19: =IF(H19="-","-",H19*D19) -> 627.9 | J19: =SUM(G19,I19) -> 4490.29 | L19: สฎ
A20: 4.2 | B20: เหล็กเส้นกลม dia. 15 มม. (13.87 กก./เส้น) | D20: 142 | E20: กก. | F20: 21.95 | G20: =IF(F20="-","-",D20*F20) -> 3116.9 | H20: 3.9 | I20: =IF(H20="-","-",H20*D20) -> 553.8 | J20: =SUM(G20,I20) -> 3670.7 | L20: สฎ
A21: 4.2 | B21: ลวดผูกเหล็ก No 18 | D21: =(D19+D20)*30/1000 -> 9.09 | E21: กก. | F21: 37.58 | G21: =IF(F21="-","-",D21*F21) -> 341.6022 | H21: - | I21: =IF(H21="-","-",H21*D21) -> - | J21: =SUM(G21,I21) -> 341.6022 | L21: สฎ
B22: 5. ระบบท่อและอุปกรณ์
A23: 5.1 | B23: ท่อเหล็กอาบสังกะสี+ข้อต่อยาว6ม. dia 3" | D23: 1 | E23: ท่อน | F23: 1722.5 | G23: =IF(F23="-","-",D23*F23) -> 1722.5 | H23: 179 | I23: =IF(H23="-","-",H23*D23) -> 179 | J23: =SUM(G23,I23) -> 1901.5 | L23: 0
A24: 5.2 | B24: ท่อเหล็กอาบสังกะสี+ข้อต่อยาว6ม. dia 2" | D24: 0.5 | E24: ท่อน | F24: 706.54 | G24: =IF(F24="-","-",D24*F24) -> 353.27 | H24: 113 | I24: =IF(H24="-","-",H24*D24) -> 56.5 | J24: =SUM(G24,I24) -> 409.77 | L24: นศ
A25: 5.3 | B25: ท่อเหล็กอาบสังกะสี+ข้อต่อยาว6ม. dia 1/2" | D25: 0.5 | E25: ท่อน | F25: 215.89 | G25: =IF(F25="-","-",D25*F25) -> 107.945 | H25: 31 | I25: =IF(H25="-","-",H25*D25) -> 15.5 | J25: =SUM(G25,I25) -> 123.445 | L25: นศ
A26: 5.4 | B26: ท่อน้ำเข้าถัง PVC. ชั้น 13.5 ยาว 4 ม. dia 2" | D26: 5 | E26: ท่อน | F26: 291.59 | G26: =IF(F26="-","-",D26*F26) -> 1457.95 | H26: 41 | I26: =IF(H26="-","-",H26*D26) -> 205 | J26: =SUM(G26,I26) -> 1662.95 | L26: สฎ
