Workbook

Sheet ปกงวด
F2: รายการรายละเอียดการแบ่งงวดงาน
F3: =ปกราคา!F6 -> ประกอบแบบแปลนการก่อสร้างระบบประปาหมู่บ้าน
F4: =ปกราคา!F7 -> 0
F5: =ปกราคา!F8 -> ปีงบประมาณ 256๖
F11: สถานที่ก่อสร้าง
F12: =ปกราคา!F14 -> บ้านวังใหญ่ หมู่ที่ ๕ ตำบลทุ่งหลวง
F13: =ปกราคา!F15 -> อำเภอเวียงสระ จังหวัดสุราษฎร์ธานี
D20: ออกแบบโดย
E21: ส่วนบริหารจัดการน้ำ
E22: สำนักงานทรัพยากรน้ำภาค 10 จังหวัดสุราษฎร์ธานี
E23: กรมทรัพยากรน้ำ กระทรวงทรัพยากรธรรมชาติและสิ่งแวดล้อม
E24: โทร.0-7720-0788, 0-7727-2942
E25: โทรสาร 0-7720-0788
E26: =ปกราคา!E27 -> 0

Sheet งวดงาน
S1: เอกสารหมายเลข.......................
I2: รายละเอียดการแบ่งงวดงาน
A3: ชื่อโครงการ | D3: =ปร.5!E6 -> ก่อสร้างระบบประปาหมู่บ้าน (ปากน้ำ 3)
A4: =ปร.5!B7 -> สถานที่ก่อสร้าง บ้านปากน้ำ หมู่ที่ ๑3 ตำบลทุ่งหลวง อำเภอเวียงสระ จังหวัดสุราษฎร์ธานี
A5: ระยะเวลาดำเนินงาน......... | E5: ='งวดงาน ส'!Q23 -> 120 | F5: วัน ซึ่งผู้ว่าจ้างตกลงจ้างและผู้รับจ้างตกลงรับเงินค่าจ้าง
A6: เป็นจำนวนเงิน......... | D6: =ปร.6!L19 -> 903720.66 | G6: บาท (............. | I6: =BAHTTEXT(D6) -> เก้าแสนสามพันเจ็ดร้อยยี่สิบบาทหกสิบหกสตางค์ | Q6: .............................................)
A7: ซึ่งได้รวมภาษีมูลค่าเพิ่ม ตลอดจนค่าภาษีอากรอื่นๆ ทั้งปวงด้วยแล้ว โดยถือราคาเหมารวมเป็นเกณฑ์ และกำหนด
A8: การจ่ายเงินเป็นงวดๆ ดังนี้
A9: งวดที่ ๑ จะจ่ายเงินให้ร้อยละ ๒๐ ของราคาค่าก่อสร้างแต่ต้องไม่เกินราคากลางที่ทางราชการประมาณการไว้
B10: เป็นเงิน........ | D10: =0.2*D6 -> 180744.13 | G10: บาท (............. | I10: =BAHTTEXT(D10) -> หนึ่งแสนแปดหมื่นเจ็ดร้อยสี่สิบสี่บาทสิบสามสตางค์ | Q10: .................................)
B11: ๑.๑ งานอาคาร, งานโครงสร้างคอนกรีตเสริมเหล็ก และงานสาธารณูปโภค
C12: เป็นเงิน........ | E12: ...................... | G12: บาท (..................................................................... | Q12: ..........................................)
C13: ๑.๑.๑ ดินถม ตามรายการรายละเอียดเฉพาะแห่ง คิดเป็น ๐.๕ % ของงวดงาน
C14: เมื่อผู้รับจ้างได้ทำการปรับเกลี่ยแต่งพื้นที่บริเวณที่ตั้งระบบประปาแล้วเสร็จ
C15: ๑.๑.๒ บ่อบาดาล PVC. ขนาด ฦ ๖ นิ้ว แบบเลขที่ สบน.10-007 คิดเป็น ๖๒.๑ % ของงวดงาน
C16: เมื่อผู้รับจ้างได้ทำการเจาะบ่อบาดาล PVC. ขนาด ฦ ๖ นิ้ว แล้วเสร็จ
C17: ๑.๑.๓ ถังกรองสนิมเหล็ก ขนาด ๗ ลบ.ม./ชม. แบบเลขที่ สบน.10-1007 คิดเป็น ๒.๐ % ของงวดงาน
C18: เมื่อผู้รับจ้างได้ทำการผูกเหล็กประกอบแบบ เทคอนกรีตพื้นรองถังกรองแล้วเสร็จ
C19: ๑.๑.๔ หอถังสูงเหล็กทรงรูปถ้วยเชมเปญ ขนาดจุ ๑๕ ลบ.ม. ตามแบบเลขที่ 3212015
C20: คิดเป็น ๒๙.๐ % ของงวดงาน
C21: เมื่อผู้รับจ้างได้ทำการตอกเสาเข็ม(ถ้ามี) ผูกเหล็กประกอบแบบ เทคอนกรีต ฐานราก ตอม่อ พื้นรองถัง
C22: แล้วเสร็จ
C23: ๑.๑.๕ ทดสอบความสามารถในการรับน้ำหนักบรรทุกของดิน ตามรายการรายละเอียดเฉพาะแห่ง
C24: คิดเป็น ๖.๔ % ของงวดงาน
... C30: ก่อนส่งงวดงาน
A31: ซึ่งจะแล้วเสร็จภายใน ๖๐ วัน นับถัดจากวันลงนามในสัญญา
A33: งวดที่ ๒ จะจ่ายเงินให้ร้อยละ ๓๕ ของราคาค่าก่อสร้างแต่ต้องไม่เกินราคากลางที่ทางราชการประมาณการไว้
B34: เป็นเงิน........ | D34: =0.35*D6 -> 316302.23 | G34: บาท (............. | I34: =BAHTTEXT(D34) -> สามแสนหนึ่งหมื่นหกพันสามร้อยสองบาทยี่สิบสามสตางค์ | Q34: .......................................)
B37: ๒.๑ งานอาคาร, งานโครงสร้างคอนกรีตเสริมเหล็ก และงานสาธารณูปโภค
C38: เป็นเงิน........ | E38: ................... | G38: บาท (..................................................................... | Q38: .......................................)
C39: ๒.๑.๑ บ่อบาดาล PVC. ขนาด ฦ ๖ นิ้ว แบบเลขที่ สบน.10-007 คิดเป็น ๕.๓ % ของงวดงาน
C40: เมื่อผู้รับจ้างได้ทำการก่อสร้างบ่อบาดาล PVC. แล้วเสร็จทั้งหมด เรียบร้อย ถูกต้อง ครบถ้วน
C41: ๒.๑.๒ ถังกรองสนิมเหล็ก ขนาด ๗ ลบ.ม./ชม. แบบเลขที่ สบน.10-1007 คิดเป็น ๙.๕ % ของงวดงาน
C42: เมื่อผู้รับจ้างได้ทำการติดตั้งถังกรองสนิมเหล็ก พร้อมประสานท่อ อุปกรณ์แล้วเสร็จ
C43: ๒.๑.๓ หอถังสูงเหล็กทรงรูปถ้วยเชมเปญ ขนาดจุ ๑๕ ลบ.ม. ตามแบบเลขที่ 3212015
C44: คิดเป็น ๕๗.๒ % ของงวดงาน
C45: เมื่อผู้รับจ้างได้ทำการติดตั้งหอถังสูงเหล็กทรงรูปถ้วยเชมเปญ พร้อมประสานท่อ อุปกรณ์แล้วเสร็จ
C46: ๒.๑.๔ ระบบท่อจ่ายน้ำประปา แบบเลขที่ อบต.พลูเถื่อน คิดเป็น ๒๘.๐ % ของงวดงาน
C47: เมื่อผู้รับจ้างได้ทำการจัดหาและวางท่อจ่ายน้ำประปาแล้วเสร็จดังนี้
C48: ๑. ท่อ PVC. ยาว ๔ ม. ชั้นคุณภาพ ๘.๕ ขนาด dia ๓" ความยาว ๑,๐๐๐ เมตร
A49: ซึ่งจะแล้วเสร็จภายใน ๙๐ วัน นับถัดจากวันลงนามในสัญญา
A51: งวดที่ ๓ (สุดท้าย) จะจ่ายเงินให้ร้อยละ ๔๕ ของราคาค่าก่อสร้างแต่ต้องไม่เกินราคากลางที่ทางราชการประมาณการไว้
B52: เป็นเงิน........ | D52: =0.45*D6 -> 406674.3 | G52: บาท (............. | I52: =BAHTTEXT(D52) -> สี่แสนหกพันหกร้อยเจ็ดสิบสี่บาทสามสิบสตางค์ | Q52: ..................................)
B53: ๓.๑ งานอาคาร, งานโครงสร้างคอนกรีตเสริมเหล็ก และงานสาธารณูปโภค
C54: เป็นเงิน........ | E54: ..................... | G54: บาท (....................................................................... | Q54: ................................)
C55: ๓.๑.๑ ป้ายการประปา ตามแบบเลขที่ ๙๒๑๐๐๑ คิดเป็น ๐.๘ % ของงวดงาน
C56: เมื่อผู้รับจ้างได้ทำการก่อสร้างอาคารป้ายการประปาแล้วเสร็จทั้งหมด เรียบร้อย ถูกต้อง ครบถ้วน
C57: ตามแบบแปลน รายละเอียดเฉพาะแห่ง และคำชี้แจงประกอบแบบแปลนทุกประการ
C58: ๓.๑.๒ รั้ว, ประตูรั้ว ตามแบบเลขที่ ๙๒๑๐๐๑, ๙๑๑๐๔๓ คิดเป็น ๔.๒ % ของงวดงาน
C59: เมื่อผู้รับจ้างได้ทำการก่อสร้างอาคารรั้ว ประตูรั้วแล้วเสร็จทั้งหมด เรียบร้อย ถูกต้อง ครบถ้วน
C60: ตามแบบแปลน รายละเอียดเฉพาะแห่ง และคำชี้แจงประกอบแบบแปลนทุกประการ
C61: ๓.๑.๓ การประสานท่อระหว่างระบบ ตามแบบเลขที่ ๙๑๑๐๔๓ คิดเป็น ๕.๒ % ของงวดงาน
C62: เมื่อผู้รับจ้างได้ทำการจัดหาและประสานท่อระหว่างระบบแล้วเสร็จทั้งหมด เรียบร้อย ถูกต้อง
C63: ครบถ้วนตามแบบแปลน รายละเอียดเฉพาะแห่ง และคำชี้แจงประกอบแบบแปลนทุกประการ
C64: ๓.๑.๔ การประสานท่อที่ปากบ่อบาดาล ตามแบบเลขที่ สบน.10-1007 คิดเป็น ๑.๘ % ของงวดงาน
C65: เมื่อผู้รับจ้างได้ทำการจัดหาและประสานท่อพร้อมอุปกรณ์ จากเครื่องสูบน้ำดิบ แบบซับเมิสซิเบิ้ล เข้า
C66: กับท่อส่งน้ำดิบ แล้วเสร็จทั้งหมด เรียบร้อย ถูกต้อง ครบถ้วนตามแบบแปลน รายละเอียดเฉพาะแห่ง
... C88: ตามแบบแปลน รายละเอียดเฉพาะแห่ง และคำชี้แจงประกอบแบบแปลนทุกประการ
B89: ๓.๒ งานครุภัณฑ์จัดซื้อหรือสั่งซื้อ
C90: เป็นเงิน........ | E90: .................... | G90: บาท (..................................................................... | Q90: ......................................)
C91: ๓.๒.๑ จัดหาและติดตั้งเครื่องสูบน้ำบาดาล ตามรายละเอียดเฉพาะแห่ง คิดเป็น ๗.๕ % ของงวดงาน
C92: เมื่อผู้รับจ้างได้ทำการจัดหาและติดตั้งเครื่องสูบน้ำดิบ แบบซับเมิสซิเบิ้ล พร้อมอุปกรณ์ควบคุม ประสาน
C93: ท่อในบ่อบาดาลแล้วเสร็จ เรียบร้อยถูกต้องครบถ้วนตามแบบแปลน รายละเอียดเฉพาะแห่งทุกประการ
C94: ๓.๒.๒ จัดหาและส่งมอบเครื่องมือประจำการประปา ตามรายการรายละเอียดเฉพาะแห่ง
C95: คิดเป็น ๑.๔ % ของงวดงาน
C96: เมื่อผู้รับจ้างได้ทำการจัดหาและส่งมอบเครื่องมือประจำการประปา จำนวน ๑ ชุด ให้แก่ผู้ผลิตน้ำประปา
C97: โดยผ่านคณะกรรมการตรวจการจ้างตรวจสอบ และให้ความเห็นชอบแล้วเสร็จ เรียบร้อย ถูกต้อง
C98: ครบถ้วนตามรายการรายละเอียดเฉพาะแห่ง และคำชี้แจงประกอบแบบแปลนทุกประการ
C99: ๓.๒.๓ จัดหาและส่งมอบเครื่องมือตรวจวัด ตามรายการรายละเอียดเฉพาะแห่ง
C100: คิดเป็น ๑.๐ % ของงวดงาน
C101: เมื่อผู้รับจ้างได้ทำการจัดหาและส่งมอบเครื่องมือตรวจวัดสารละลายเหล็กในน้ำพร้อมสารเคมี จำนวน
C102: ๑ ชุด, เครื่องมือตรวจวัดความเป็นกรด-ด่างในน้ำพร้อมสารเคมี จำนวน ๑ ชุด ให้แก่ ผู้ผลิตน้ำประปา
... C107: ถูกต้อง ครบถ้วนตามแบบแปลน รายละเอียดเฉพาะแห่ง และคำชี้แจงประกอบแบบแปลนทุกประการ
A109: - | B109: ส่งมอบต้นฉบับพร้อมทั้งพิมพ์เขียวของ AS BUILT DRAWING จำนวน ๕ ชุด (กรณีถ้ามีการแก้ไขแบบรูป)
B110: ให้แก่คณะกรรมการตรวจการจ้าง และผู้ควบคุมงาน ตรวจสอบ พิจารณาให้ความเห็นชอบ ก่อนวันส่งมอบงาน
B111: งวดสุดท้าย ก่อน ๑๕ วัน
A112: - | B112: ทำการทดสอบการสูบจ่ายน้ำของระบบประปาหมู่บ้านทั้งระบบ ก่อนส่งมอบงานจ้างต่อหน้าคณะกรรมการ
B113: ตรวจการจ้าง จนเป็นที่พอใจแก่คณะกรรมการตรวจการจ้าง
A114: - | B114: ทำการก่อสร้างตามรูปแบบ รายการ และสัญญาการก่อสร้างแล้วเสร็จทุกประการ
A115: ซึ่งจะแล้วเสร็จภายใน ๑๒๐ วัน นับถัดจากวันลงนามในสัญญา
A117: เมื่อผู้รับจ้างได้ปฏิบัติงานก่อสร้างทั้งหมดให้แล้วเสร็จเรียบร้อยตามสัญญา รวมทั้งทำสถานที่ก่อสร้างให้สะอาด
A118: เรียบร้อย จนเป็นที่พอใจแก่คณะกรรมการตรวจการจ้าง
J120: (ลงชื่อ).......……................................ผู้แบ่งงวดงาน
K121: ( นายประเสริฐ บัวดำ )

Sheet งวดงาน ส
B1: สรุปรายละเอียดการแบ่งงวดงาน……………………………….. | F1: =ปร.5!B7 -> สถานที่ก่อสร้าง บ้านปากน้ำ หมู่ที่ ๑3 ตำบลทุ่งหลวง อำเภอเวียงสระ จังหวัดสุราษฎร์ธานี
A2: ลำดับ | B2: รายการ | G2: ราคากลาง | I2: งวดงานที่ ๑ ( ๖๐ วัน) | M2: งวดงานที่ ๒ ( 3๐ วัน) | Q2: งวดงานที่ ๓ ( 3๐ วัน)
A3: ที่ | G3: (บาท) | I3: % งวด | J3: % งาน | K3: ค่างาน(บาท) | M3: % งวด | N3: % งาน | O3: ค่างาน(บาท) | Q3: % งวด | R3: % งาน | S3: ค่างาน(บาท)
A4: 1 | B4: ประเภทงานอาคาร, โครงสร้างคอนกรีตเสริมเหล็ก และสาธารณูปโภค | I4: 0.2 | K4: =I4*G22 -> #REF! | M4: 0.35 | O4: =M4*G22 -> #REF! | Q4: 0.45 | S4: =Q4*G22 -> #REF! | W4: =I4+M4+Q4 -> 1
B5: ๑.๑ ป้ายการประปา จำนวน ๑ ป้าย แบบเลขที่ ๙๒๑๐๐๑ | G5: =ปร.5!L15 -> 5683.5561 | K5: =J5*$K$4 -> #REF! | O5: =N5*$O$4 -> #REF! | R5: 0.008 | S5: =R5*$S$4 -> #REF! | W5: =K5+O5+S5 -> #REF!
B6: ๑.๒ รั้ว, ประตูรั้ว ความยาว ๓๖ เมตร แบบเลขที่ ๙๒๑๐๐๑, ๙๑๑๐๔๓ | G6: =ปร.5!L16 -> 26740.069 | K6: =J6*$K$4 -> #REF! | O6: =N6*$O$4 -> #REF! | R6: 0.042 | S6: =R6*$S$4 -> #REF! | W6: =K6+O6+S6 -> #REF!
B7: ๑.๓ การประสานท่อระหว่างระบบ แบบเลขที่ ๙๑๑๐๔๓, ๙๙๑๐๔๔ | G7: =ปร.5!L17 -> 0 | K7: =J7*$K$4 -> #REF! | O7: =N7*$O$4 -> #REF! | R7: 0.052 | S7: =R7*$S$4 -> #REF! | W7: =K7+O7+S7 -> #REF!
B8: ๑.๔ การประสานท่อที่ปากบ่อบาดาล แบบเลขที่ สบน.10-1007 | G8: =ปร.5!L18 -> 17662.05 | K8: =J8*$K$4 -> #REF! | O8: =N8*$O$4 -> #REF! | R8: 0.018 | S8: =R8*$S$4 -> #REF! | W8: =K8+O8+S8 -> #REF!
B9: ๑.๕ ดินถม จำนวน ๑ รายการ | G9: =ปร.5!L19 -> 9488.4458 | J9: 0.005 | K9: =J9*$K$4 -> #REF! | O9: =N9*$O$4 -> #REF! | R9: 0.001 | S9: =R9*$S$4 -> #REF! | W9: =K9+O9+S9 -> #REF!
B10: ๑.๖ ทดสอบการรับน้ำหนักบรรทุกของดิน จำนวน ๑ จุด | G10: =ปร.5!L20 -> 272309.28 | J10: 0.064 | K10: =J10*$K$4 -> #REF! | O10: =N10*$O$4 -> #REF! | S10: =R10*$S$4 -> #REF! | W10: =K10+O10+S10 -> #REF!
B11: ๑.๗ การประสานระบบไฟฟ้าภายใน จำนวน ๑ ระบบ | G11: =ปร.5!L21 -> 81272.198 | K11: =J11*$K$4 -> #REF! | O11: =N11*$O$4 -> #REF! | R11: 0.019 | S11: =R11*$S$4 -> #REF! | W11: =K11+O11+S11 -> #REF!
B12: ๑.๘ บ่อบาดาล PVC. ขนาด ฦ ๖ นิ้ว จำนวน ๑ บ่อ แบบเลขที่ สบน.10-007 | G12: =ปร.5!L22 -> 422357.47 | J12: 0.621 | K12: =J12*$K$4 -> #REF! | N12: 0.053 | O12: =N12*$O$4 -> #REF! | S12: =R12*$S$4 -> #REF! | W12: =K12+O12+S12 -> #REF!
B13: ๑.๙ ถังกรองสนิมเหล็ก ขนาด ๗ ลบ.ม./ชม. จำนวน ๑ ถัง แบบเลขที่ สบน.10-007 | G13: =ปร.5!L23 -> 1203.0342 | J13: 0.02 | K13: =J13*$K$4 -> #REF! | N13: 0.095 | O13: =N13*$O$4 -> #REF! | R13: 0.022 | S13: =R13*$S$4 -> #REF! | W13: =K13+O13+S13 -> #REF!
B14: ๑.๑๐ หอถังสูงเหล็กทรงรูปถ้วยเชมเปญ ขนาดจุ ๑๕ ลบ.ม. แบบเลขที่ 3212015 | G14: =ปร.5!L24 -> 10485.567 | J14: 0.29 | K14: =J14*$K$4 -> #REF! | N14: 0.572 | O14: =N14*$O$4 -> #REF! | R14: 0.057 | S14: =R14*$S$4 -> #REF! | W14: =K14+O14+S14 -> #REF!
B15: ๑.๑๑ ระบบท่อส่งน้ำดิบ จำนวน ๑ ระบบ แบบเลขที่ อบต.พลูเถื่อน | G15: =ปร.5!L25 -> 3000 | K15: =J15*$K$4 -> #REF! | O15: =N15*$O$4 -> #REF! | R15: 0.007 | S15: =R15*$S$4 -> #REF! | W15: =K15+O15+S15 -> #REF!
B16: ๑.๑๒ ระบบท่อจ่ายน้ำประปา ความยาว ๔,๐๐๐ ม. แบบเลขที่ อบต.พลูเถื่อน | G16: =ปร.5!#REF! -> #REF! | K16: =J16*$K$4 -> #REF! | N16: 0.28 | O16: =N16*$O$4 -> #REF! | R16: 0.665 | S16: =R16*$S$4 -> #REF! | W16: =K16+O16+S16 -> #REF!
A17: 2 | B17: ประเภทงานครุภัณฑ์จัดซื้อหรือสั่งซื้อ
B18: ๒.๑ จัดหาและติดตั้งเครื่องสูบน้ำบาดาลพร้อมอุปกรณ์ควบคุม จำนวน ๑ ชุด | G18: ='ปร.5 (2)'!L18 -> 52768.976 | K18: =J18*$K$4 -> #REF! | O18: =N18*$O$4 -> #REF! | R18: 0.075 | S18: =R18*$S$4 -> #REF! | W18: =K18+O18+S18 -> #REF!
B19: ๒.๒ จัดหาและส่งมอบเครื่องมือประจำการประปา จำนวน ๑ ชุด | G19: ='ปร.5 (2)'!L19 -> 0 | K19: =J19*$K$4 -> #REF! | O19: =N19*$O$4 -> #REF! | R19: 0.014 | S19: =R19*$S$4 -> #REF! | W19: =K19+O19+S19 -> #REF!
B20: ๒.๓ จัดหาและส่งมอบเครื่องมือตรวจวัด จำนวน ๑ ชุด | G20: ='ปร.5 (2)'!L20 -> 0 | K20: =J20*$K$4 -> #REF! | O20: =N20*$O$4 -> #REF! | R20: 0.01 | S20: =R20*$S$4 -> #REF! | W20: =K20+O20+S20 -> #REF!
B21: ๒.๔ การประสานระบบไฟฟ้าภายนอก จำนวน ๑ ระบบ | G21: ='ปร.5 (2)'!L21 -> 750 | K21: =J21*$K$4 -> #REF! | O21: =N21*$O$4 -> #REF! | R21: 0.01 | S21: =R21*$S$4 -> #REF! | W21: =K21+O21+S21 -> #REF!
A22: รวมค่าก่อสร้าง, (%) ของงวดงาน | G22: =SUM(G5:H21) -> #REF! | I22: =SUM(I4:I21) -> 0.2 | J22: =SUM(J5:J21) -> 1 | K22: =SUM(K5:L21) -> #REF! | M22: =SUM(M4:M21) -> 0.35 | N22: =SUM(N5:N21) -> 1 | O22: =SUM(O5:P21) -> #REF! | Q22: =SUM(Q4:Q21) -> 0.45 | R22: =SUM(R5:R21) -> 1 | S22: =SUM(S5:T21) -> #REF! | W22: =K22+O22+S22 -> #REF!
A23: ระยะเวลานับจากวันเริ่มสัญญาก่อสร้าง (วัน) | G23: =Q23 -> 120 | I23: 60 | M23: =I23+30 -> 90 | Q23: =M23+30 -> 120

Sheet ค่า K
A1: เงื่อนไข หลักเกณฑ์ ประเภทงานก่อสร้าง สูตรและวิธีการคำนวณที่ใช้กับสัญญาแบบปรับราคาได้
A2: ก. | B2: เงื่อนไขและหลักเกณฑ์
B3: 1. สัญญาแบบปรับราคา ได้นี้ให้ใช้กับงานก่อสร้างทุกประเภท รวมถึงงานปรับปรุงและซ่อมแซม
A4: ซึ่งเบิกจ่ายค่างานในลักษณะ หมวดค่าครุภัณฑ์ ที่ดินและสิ่งก่อสร้าง หมวดเงินอุดหนุนและหมวดรายจ่ายอื่นที่เบิกจ่าย
A5: ในลักษณะค่าที่ดินและสิ่งก่อสร้าง ที่อยู่ในเงื่อนไขและหลักเกณฑ์ตามที่ได้กำหนดนี้
B6: 2. สัญญาแบบปรับราคาได้นี้ให้ใช้ทั้งในกรณีเพิ่มหรือลดค่างานจากค่างานเดิมตามสัญญา เมื่อดัชนีราคาซึ่งจัดทำ
A7: ขึ้นโดยกระทรวงพาณิชย์ มีการเปลี่ยนแปลงสูงขึ้น หรือลดลงจากเดิม ขณะเมื่อวันที่เปิดซองประกวดราคาสำหรับกรณี
A8: ที่จัดจ้างโดยวิธีอื่น ให้ใช้วันเปิดซองราคาแทน
B9: 3. การนำสัญญาแบบปรับราคาได้ไปใช้นั้น ผู้ว่าจ้างต้องแจ้ง และประกาศให้ผู้รับจ้างทราบ เช่น ในประกาศ
A10: ประกวดราคาฯ และต้องระบุในสัญญาจ้างด้วยว่างานจ้างเหมานั้นๆ จะใช้สัญญาแบบปรับราคาพร้อมทั้งกำหนดประเภท
A11: ของงานก่อสร้าง สูตรและวิธีการคำนวณ ที่ให้มีการปรับเพิ่มหรือลดค่างานไว้ให้ชัดเจน
B12: ในกรณีที่มีงานก่อสร้างหลายประเภทในงานจ้างคราวเดียวกัน จะต้องแยกประเภทงานก่อสร้างแต่ละประเภทให้
A13: ชัดเจนตามลักษณะของงานก่อสร้างนั้นๆ และให้สอดคล้องกับสูตรที่กำหนดไว้
B14: 4. การขอเงินเพิ่มค่างานก่อสร้างตามสัญญาแบบปรับราคาได้นี้ เป็นหน้าที่ของผู้รับจ้างที่จะต้องเรียกร้องภายใน
A15: กำหนด 90 วัน นับตั้งแต่วันที่ผู้รับจ้างได้ส่งมอบงานงวดสุดท้าย หากพ้นกำหนดนี้ไปแล้วผู้รับจ้างไม่มีสิทธิที่จะเรียกร้อง
A16: เงินเพิ่มค่างานก่อสร้างจากผู้ว่าจ้างได้อีกต่อไป และในกรณีที่ผู้ว่าจ้างจะต้องเรียกเงินคืนจากผู้รับจ้าง ให้ผู้ว่าจ้างที่เป็นคู่
A17: สัญญารีบเรียกเงินคืนจากผู้รับจ้างโดยเร็ว หรือให้หักค่างานของงวดต่อไป หรือให้หักเงินจากหลักประกันสัญญา
A18: แล้วแต่กรณี
B19: 5. การพิจารณาคำนวนเงินเพิ่มหรือลด และการจ่ายเงินเพิ่มหรือเรียกเงินคืนจากผู้รับจ้าง ตามเงื่อนไขของสัญญา
A20: แบบปรับราคาได้ ต้องได้รับการตรวจสอบและเห็นชอบจากสำนักงานงบประมาณและให้ถือการพิจารณาวินิจฉัยของ
A21: สำนักงานงบประมาณเป็นที่สิ้นสุด
B22: ข. ประเภทงานก่อสร้างและสูตรที่ใช้กับสัญญาแบบปรับราคาได้
A23: ในการพิจารณาเพิ่มหรือลดราคาค่าจ้างเหมาก่อสร้าง ให้คำนวณตามสูตรดังนี้
D24: P = (Po) X (K)
A25: กำหนดให้ | D25: P = ราคาค่างานต่อหน่วยหรือราคาค่างานเป็นงวดที่จะต้องจ่ายให้ผู้รับจ้าง
D26: Po = ราคาค่างานต่อหน่วยที่ผู้รับจ้างประมูลได้ หรือราคาค่างานเป็นงวดซึ่ง
D27: ระบุไว้ในสัญญาแล้วแต่กรณี
D28: K = ESCALATION FATOR ที่หักด้วย 4% เมื่อต้องเพิ่มค่างานหรือบวกเพิ่ม 4%
D29: เมื่อต้องเรียกค่างานคืน
A30: ESCALATION FATOR K หาได้จากสูตร ซึ่งแบ่งตามประเภทและลักษณะงาน ดังนี้
B31: หมวดที่ 1 งานอาคาร
B32: งานอาคาร หมายถึง ตัวอาคาร เช่น ที่ทำการ โรงเรียน โรงพยาบาล หอพัก ที่พักอาศัย หอประชุม
A33: อัฒจันทร์ ยิมเนเซียม สระว่ายน้ำ โรงอาหาร คลังพัสดุ โรงงานรั้ว เป็นต้น และให้หมายความรวมถึง
B34: 1.1 ไฟฟ้าของอาคารบรรจบถึงสายเมนจำหน่าย แต่ไม่รวมถึงหม้อแปลงและระบบไฟฟ้าภายในบริเวณ
B35: 1.2 ประปาของอาคารบรรจบถึงท่อเมนจำหน่าย แต่ไม่รวมถึงระบบประปาภายในบริเวณ
B37: 1.3 ระบบท่อหรือระบบสายต่างๆ ที่ติดหรือฝังอยู่ในส่วนของอาคาร เช่น ท่อปรับอากาศ ท่อก๊าซสายไฟฟ้า
A38: สำหรับเครื่องปรับอากาศ สายล่อฟ้า ฯลฯ
B39: 1.4 ทางระบายน้ำของอาคารจนถึงทางระบายน้ำภายนอก
B40: 1.5 ส่วนประกอบที่จำเป็นสำหรับอาคาร เฉพาะส่วนที่ติดกับอาคารโดยต้องสร้างหรือประกอบพร้อมกับการ
A41: ก่อสร้างอาคาร แต่ไม่รวมถึง เครื่องจักรหรือเครื่องมือกลที่นำมาประกอบหรือติดตั้ง เช่น ลิฟท์ เครื่องคอมพิวเตอร์
A42: เครื่องสูบน้ำ เครื่องปรับอากาศ พัดลม ฯลฯ
B43: 1.6 ทางเท้ารอบอาคาร ดินถม ดินตัก ห่างจากอาคารโดยรอบไม่เกิน 3 เมตร
A44: ใช้สูตร K1 = 0.25 + 0.15 lt/lo + 0.10Ct/Co + 0.40 Mt/Mo + 0.10 St/So
B45: หมวดที่ 2 งานดิน
B46: 2.2 งานหินเรียง หมายถึง งานหินขนาดใหญ่ที่นำมาเรียงกันเป็นชั้นหินให้เป็นระเบียบ จนได้ความหนาที่ต้องการ
A47: โดยในช่องว่างระหว่างหินใหญ่จะแซมด้วยหินย่อยหรือกรวดขนาดต่างๆ และทรายให้เต็มช่องว่างมีการควบคุมคุณสมบัติ
A48: ของวัสดุและมีข้อกำหนดวิธีการปฎิบัติโดยใช้เครื่องจักรเครื่องมือกลหรือแรงคนและให้หมายความรวมถึงงานหินทิ้ง
A49: งานหินเรียวยาแนว หรืองานหินใหญ่ ที่มีลักษณะคล้ายคลึงกัน เพื่อการป้องกันการกัดเซาะพังทลายของลาดตลิ่งและท้อง
A50: ลำน้ำ
A51: ใช้สูตร K2.2 = 0.40 + 0.20 lt/lo + 0.20 Mt/Mo + 0.20 Ft/Fo
B52: หมวดที่ 5 งานระบบสาธารณูปโภค
B53: 5.1 งานวางท่อ AC และ PVC
C54: 5.1.1 ในกรณีที่ผู้ว่าจ้างเป็นผู้จัดหาท่อและหรืออุปกรณ์ให้
A55: ใช้สูตร K5.1.1 = 0.50 + 0.25 lt/lo + 0.25Mt/Mo
C56: 5.1.2 ในกรณีที่ผู้รับจ้างจัดหาท่อ AC และหรืออุปกรณ์
A57: ใช้สูตร K5.1.2 = 0.40 + 0.10 lt/lo + 0.10Mt/Mo + 0.40Act/Aco
C58: 5.1.3 ในกรณีที่ผู้รับจ้างเป็นผู้จัดหาท่อ PVC และหรืออุปกรณ์
A59: ใช้สูตร K5.1.3 = 0.40 + 0.10 lt/lo + 0.10Mt/Mo + 0.40PVCt/PVCo
B60: 5.2 งานวางท่อเหล็กเหนียวและท่อ HYDENSITY POLYETHYLENE
C61: 5.2.1 ในกรณีที่ผู้ว่าจ้างเป็นผู้จัดหาท่อและหรืออุปกรณ์ให้
A62: ใช้สูตร K5.2.1 = 0.40 + 0.10 lt/lo + 0.15Mt/Mo + 0.20Et/Eo + 0.15Ft/Fo
C63: 5.2.2 ในกรณีที่ผู้รับจ้างเป็นผู้จัดหาท่อเหล็กเหนียวและหรืออุปกรณ์และให้รวมถึงงาน TRANSMIS-
A64: SION CONDUIT
A65: ใช้สูตร K5.2.2 = 0.40 + 0.10 lt/lo + 0.10Mt/Mo + 0.10Et/Eo + 0.30GIPt/GIPo
C67: 5.2.3 ในกรณีที่ผู้รับจ้างเป็นผู้จัดหาท่อ HYDENSITY POLYETHYLENE และหรืออุปกรณ์
A68: ใช้สูตร K5.2.3 = 0.50 + 0.10 lt/lo + 0.10Mt/Mo + 0.30Pet/Peo
B69: 5.4 งานวางท่อ PVC หุ้มด้วยคอนกรีต
A70: ใช้สูตร K5.4 = 0.30 + 0.10 lt/lo + 0.20Ct/Co + 0.05 Mt/Mo + 0.05St/So + 0.30PVCt/PVCo
B71: 5.5 งานวางท่อ PVC กลบทราย
A72: ใช้สูตร K5.5 = 0.25 + 0.05 lt/lo + 0.05 Mt/Mo + 0.65PVCt/PVCo
B74: 5.6 งานวางท่อเหล็กอาบสังกะสี
A75: ใช้สูตร K5.6 = 0.25 + 0.25 lt/lo + 0.50GIPt/GIPo
B76: 5.8 งานหล่อและตอกเสาเข็มคอนกรีตอัดแรง
C77: 5.8.1 งานเสาเข็มคอนกรีตอัดแรง
A78: ใช้สูตร K5.8.1 = 0.35 + 0.15 lt/lo + 0.20Ct/Co + 0.30St/So
C79: 5.8.2 งานเสาเข็มแบบ CAST IN PLACE
A80: ใช้สูตร K5.8.2 = 0.30 + 0.10 lt/lo + 0.25Ct/Co + 0.35St/So
A82: ดัชนีราคาที่ใช้คำนวณตามสูตรที่ใช้กับสัญญาแบบปรับราคาได้ จัดทำขึ้นโดยกระทรวงพาณิชย์
B83: K = ESCALATION FACTOR
B84: lt = ดัชนีราคาผู้บริโภคทั่วไปของประเทศ ในเดือนที่ส่งงานแต่ละงวด
B85: lo = ดัชนีราคาของผู้บริโภคของประเทศ ในเดือนที่เปิดซองประกวดราคา
B86: Ct = ดัชนีราคาซีเมนต์ ในเดือนที่ส่งงานแต่ละงวด
B87: Co = ดัชนีราคาซีเมนต์ ในเดือนที่เปิดซองประกวดราคา
B88: Mt = ดัชนีราคาวัสดุก่อสร้าง (ไม่รวมเหล็กและซีเมนต์) ในเดือนที่ส่งงานแต่ละงวด
B89: Mo = ดัชนีราคาวัสดุก่อสร้าง (ไม่รวมเหล็กและซีเมนต์) ในเดือนที่เปิดซองประกวดราคา
B90: St = ดัชนีราคาเหล็ก ในเดือนที่ส่งงานแต่ละงวด
B91: So = ดัชนีราคาเหล็ก ในเดือนที่เปิดซองประกวดราคา
B92: Gt = ดัชนีราคาเหล็กแผ่นเรียบที่ผลิตในประเทศไทย ในเดือนที่ส่งงานแต่ละงวด
B93: Go = ดัชนีราคาเหล็กแผ่นเรียบที่ผลิตในประเทศ ในเดือนที่เปิดซองประกวดราคา
B94: At = ดัชนีราคาแอสฟัลท์ ในเดือนที่ส่งงานแต่ละงวด
... B112: 1. การคำนวณค่า K จากสูตรตามลักษณะงานนั้น ๆ ให้ใช้ตัวเลขดัชนีราคาวัสดุก่อสร้างของกระทรวงพาณิชย์
A113: โดยใช้ฐานของปี 2530 เป็นเกณฑ์ในการคำนวณ
B114: 2. การคำนวณค่า K สำหรับกรณีที่มีงานก่อสร้างหลายประเภทรวมอยู่ในสัญญาเดียงกันจะต้องแยกค่างานก่อสร้าง
A115: แต่ละประเภทให้ชัดเจนตามลักษณะของงานนั้นและให้สอดคล้องกับสูตรที่ได้กำหนดไว้
B116: 3. กาคำนวณหาค่า K กำหนดให้เลขทศนิยม 3 ตำแหน่งทุกขั้นตอนโดยไม่มีการปัดเศษและกำหนดให้ทำเลข
A117: สัมพันธ์ (เปรียบเทียบ) ให้เป็นผลสำเร็จก่อน แล้วจึงนำผลลัพธ์ไปคูณกับตัวเลขคงที่หน้าเลขสัมพันธ์ นั้น
B118: 4. ให้พิจารณาเงินเพิ่มหรือลดราคาค่างานจากราคาที่ผู้รับจ้างทำสัญญาตกลงกับผู้ว่าจ้างเมื่อค่า K ตามสูตรสำหรับ
A119: งานก่อสร้างนั้นๆ ในเดือนที่ส่งมอบงานที่มีค่าเปลี่ยนแปลงไปจากค่า K ในเดือนเปิดซองราคามากกว่า 4% ขึ้นไป โดย
A120: นำเฉพาะส่วนที่เกิน 4% มาคำนวณปรับเพิ่มหรือลดค่างานแล้วแต่กรณี (โดยไม่คิด 4% แรกให้)
B121: 5. ในกรณีที่ผู้รับจ้างไม่สามารถทำการก่อสร้างให้แล้วเสร็จตามระยะเวลาในสัญญ่า โดยเป็นความผิดของผู้รับจ้าง
...

Sheet ปกเฉพาะ
F2: รายการรายละเอียดเฉพาะแห่ง
F3: =ปกราคา!F6 -> ประกอบแบบแปลนการก่อสร้างระบบประปาหมู่บ้าน
F4: =ปกราคา!F7 -> 0
F5: =ปกราคา!F8 -> ปีงบประมาณ 256๖
F11: สถานที่ก่อสร้าง
F12: =ปกราคา!F14 -> บ้านวังใหญ่ หมู่ที่ ๕ ตำบลทุ่งหลวง
F13: =ปกราคา!F15 -> อำเภอเวียงสระ จังหวัดสุราษฎร์ธานี
D20: ออกแบบโดย
E21: ส่วนบริหารจัดการน้ำ
E22: สำนักงานทรัพยากรน้ำภาค 10 จังหวัดสุราษฎร์ธานี
E23: กรมทรัพยากรน้ำ กระทรวงทรัพยากรธรรมชาติและสิ่งแวดล้อม
E24: โทร.0-7720-0788, 0-7727-2942
E25: โทรสาร 0-7720-0788
E26: =ปกราคา!E27 -> 0

Sheet เฉพาะแห่ง
K2: รายการรายละเอียดเฉพาะแห่ง
K3: =ปกราคา!F6 -> ประกอบแบบแปลนการก่อสร้างระบบประปาหมู่บ้าน
K4: =ปกราคา!F7 -> 0
K5: =ปกราคา!F8 -> ปีงบประมาณ 256๖
C7: ในการก่อสร้างระบบประปาหมู่บ้านแห่งนี้ หากเอกสารรายการรายละเอียด รูปแบบ หรือ แบบแปลน
A8: ซึ่งถือเป็นส่วนหนึ่งของสัญญา มีความขัดแย้งกันให้ผู้รับจ้างถือปฏิบัติตามควรก่อนหลัง ดังนี้
C9: ๑. รายการวันชี้สถานที่ก่อสร้าง
C10: ๒. รายการรายละเอียดเฉพาะแห่ง
C11: ๓. รูปแบบหรือแบบแปลน
C12: ๔. รายการรายละเอียดทั่วไปประกอบแบบแปลน
C13: ๕. เอกสารประกอบแบบแปลนการก่อสร้าง
A14: กรณีดำเนินการดังกล่าวแล้วหาข้อยุติไม่ได้ ผู้ว่าจ้างขอสงวนสิทธิ์เป็นผู้ชี้ขาดและเป็นผู้พิจารณาให้เป็นไปตาม
A15: หลักวิชาช่าง โดยผู้รับจ้างต้องแจ้งให้ผู้ว่าจ้างทราบเป็นลายลักษณ์อักษรถึงการที่ไม่สามารถทำงานนั้นๆ ได้โดย
A16: เร็ว และทั้งนี้จะไม่ยกเป็นเหตุอ้างในการต่ออายุสัญญา ผู้รับจ้างต้องปฏิบัติตามคำแนะนำโดยเคร่งครัด ทั้งนี้เพื่อ
A17: ประโยชน์ของผู้รับจ้างเองเป็นสำคัญ
C19: สำหรับรายการรายละเอียดเฉพาะแห่งฯ เล่มนี้ ประกอบด้วยรายละเอียดที่ผู้รับจ้าง
A20: ต้องดำเนินการ เพื่อให้งานก่อสร้างแล้วเสร็จ ถูกต้องตามแบบแปลนทุกประการ ดังนี้
B21: 1 | C21: ข้อกำหนดในการก่อสร้างระบบประปาหมู่บ้าน
B22: 2 | C22: สรุปรายการก่อสร้างและแบบแปลนที่ใช้ในการก่อสร้างระบบประปา
B23: 3 | C23: รายละเอียดที่ผู้รับจ้างต้องดำเนินการก่อสร้าง จัดหา จัดทำ และติดตั้ง
B24: 4 | C24: เอกสารแนบท้าย ประกอบด้วย
C25: 4.1 | D25: ข้อมูลผลการวิเคราะห์คุณภาพน้ำดิบ
C26: 4.2 | D26: เงื่อนไข, หลักเกณฑ์, ประเภทงานก่อสร้าง, สูตร และวิธีการคำนวณที่ใช้กับสัญญาแบบปรับราคา
D27: ได้
C28: 4.3 | D28: แบบฟอร์มรายงานผลการทดสอบปริมาณน้ำ และวิเคราะห์คุณภาพน้ำดิบระบบประปาหมู่บ้าน
A36: 1 | B36: ข้อกำหนดในการก่อสร้างระบบประปาหมู่บ้าน แบบบาดาลขนาดกลาง
B37: =ปร.5!B7 -> สถานที่ก่อสร้าง บ้านปากน้ำ หมู่ที่ ๑3 ตำบลทุ่งหลวง อำเภอเวียงสระ จังหวัดสุราษฎร์ธานี
B38: 1.1 | C38: การชี้สถานที่การก่อสร้าง ผู้ว่าจ้างหรือคณะกรรมการชี้สถานที่ ต้องนำผู้รับจ้างเข้าดูพื้นที่พร้อมแจ้ง
C39: รายละเอียดในการก่อสร้างเพิ่มเติมจากรูปแบบ โดยระบุสถานที่ก่อสร้าง ขนาดที่ตั้งระบบประปา แนว
C40: ท่อจ่ายน้ำ ระบบไฟฟ้า บ่อบาดาล ระดับอ้างอิงในการก่อสร้าง + ๐.๐๐๐ การถมดินหรือการปรับพื้นที่
C41: การรื้อถอน และเคลื่อนย้ายสิ่งกีดขวางการก่อสร้าง การขยายเขตไฟฟ้า ตำแหน่งเสา การทดสอบการรับ
C42: น้ำหนักบรรทุกของดินและปัญหาอื่นๆ ที่ผู้รับจ้างได้สอบถามและผู้ชี้สถานที่ได้ชี้แจงในวันชี้สถานที่
C43: โดยบันทึกเป็นลายลักษณ์อักษร เพื่อเป็นเอกสารประกอบสัญญาการก่อสร้างต่อไป
B44: 1.2 | C44: การถางป่าขุดตอ ปรับพื้นที่ เมื่อผู้รับจ้างรับรู้สถานที่ก่อสร้างจากคณะกรรมการชี้สถานที่แล้ว ผู้รับจ้าง
C45: ต้องทำหนังสือแจ้งขอเข้าทำงานแก่ทางคณะกรรมการตรวจการจ้างก่อนไม่น้อยกว่า ๗ วัน กรณีพื้นที่
C46: การก่อสร้างมีอุปสรรคหรือสิ่งกีดขวาง เช่น ระดับดินเดิมสภาพพื้นที่มีความสูง-ต่ำ มีสิ่งปลูกสร้างหรือ
C47: ต้นไม้กีดขวางอยู่ ผู้รับจ้างต้องทำการแก้ไขปรับสภาพพื้นที่ให้พร้อมและสะดวกในการดำเนินการ
C48: ก่อสร้างต่อไป
B49: 1.3 | C49: การปักผังถ่ายระดับ, การกำหนดขอบเขตการก่อสร้าง เมื่อผู้รับจ้างได้ทำการปรับสภาพพื้นที่เรียบร้อย
C50: แล้ว ผู้รับจ้างต้องทำการปักผังขอบเขตการก่อสร้าง พร้อมกำหนดจุดที่ตั้งของโครงสร้างหลักของระบบ
C51: ประปานั้นๆ ให้ถูกต้อง ตามแบบเลขที่...... | J51: =Q152 -> 911043 | L51: โดยการโรยด้วยปูนขาว หรือขึงเชือกจากผังที่ได้
C52: ทำการแบ่งจุดศูนย์กลางและตำแหน่งของโครงสร้างหลักไว้ แล้วถ่ายระดับอ้างอิง + ๐.๐๐๐ เข้าพื้นที่
C53: ที่ทำการก่อสร้าง (ผัง) โดยช่างผู้ควบคุมงานต้องตรวจสอบค่าระดับนี้ให้ถูกต้อง เพื่อไว้ใช้อ้างอิง และ
C54: ตรวจสอบค่าระดับต่างๆ เช่น ความลึกของหลุมฐานราก ชั้นงานอื่นๆ ของแต่ละโครงสร้าง ฯลฯ พร้อม
C55: ตรวจสอบความถูกต้องของพื้นที่ที่จะก่อสร้างกับขอบเขตของที่ดินว่าไม่คลาดเคลื่อนออกนอกขอบเขต
C56: ที่ดิน และตรวจสอบความถูกต้องของระยะและตำแหน่งของสิ่งก่อสร้างต่างๆ ตามแบบเลขที่………
C57: =J51 -> 911043 | E57: ให้เรียบร้อยก่อนดำเนินการก่อสร้าง
B58: 1.4 | C58: ให้ผู้รับจ้างทำการเสนอราคาก่อสร้าง แบบตอกเสาเข็ม โดยใช้ฐานรากของสิ่งก่อสร้างต่อไปนี้
C59: ในการคิดราคาค่าก่อสร้าง
C60: ๑.๔.๑ หอถังสูงเหล็กทรงรูปถ้วยเชมเปญ ขนาดจุ ๑๕ ลบ.ม. | M60: ตามแบบเลขที่ | P60: 3212015
B61: 1.5 | C61: ก่อนที่จะจัดหาและนำมาติดตั้ง เครื่องสูบน้ำ เครื่องมือวิเคราะห์คุณภาพน้ำ สี สารกันซึม และกรวดกรอง
C62: ทรายกรองน้ำ ผู้รับจ้างต้องดำเนินการดังนี้
C63: ๑.๕.๑ | D63: จัดส่งรายละเอียดและแคตตาล๊อก เครื่องสูบน้ำดิบ แบบซับเมิสซิเบิ้ล
C64: ๑.๕.๒ | D64: จัดส่งรายละเอียดและแคตตาล๊อก ตู้ควบคุมเครื่องสูบน้ำพร้อมอุปกรณ์ไฟฟ้าภายในทั้งหมด
C65: ๑.๕.๓ | D65: จัดส่งรายละเอียดและแคตตาล๊อก เครื่องมือตรวจวัดความเป็นกรด-ด่างในน้ำ และเครื่องมือตรวจ
D66: วัดสารละลายเหล็กในน้ำ
C67: ๑.๕.๔ จัดส่งรายละเอียดมาตรฐานรับรองคุณภาพ ท่อ ข้อต่อ ประตูน้ำเหล็กหล่อ อุปกรณ์ประปา และวัสดุ
D68: ก่อสร้างที่ขออนุญาตใช้ในโครงการนี้
C69: ๑.๕.๕ จัดส่งรายละเอียดและแคตตาล๊อก สี และสารกันซึมประเภทซีเมนต์เบส
C70: ๑.๕.๖ จัดส่งตัวอย่างกรวดกรอง - ทรายกรอง อย่างละ ๑ กิโลกรัม
C71: โดยระบุยี่ห้อ, รุ่น, แบบ, กราฟแสดงประสิทธิภาพการทำงาน (Performance Curve) หรืออื่นๆ ที่ต้อง
C72: การใช้ (เครื่องสูบน้ำ) โดยมีคุณสมบัติตามรายละเอียดข้อกำหนดในรายการรายละเอียดเฉพาะแห่ง
C73: ประกอบแบบแปลนการก่อสร้างระบบประปาแห่งนี้ ให้แก่คณะกรรมการตรวจการจ้าง ตรวจสอบ
C74: และให้ความเห็นชอบก่อนที่จะจัดหาและนำมาติดตั้งในระบบประปา ทั้งนี้ เพื่อประโยชน์ของผู้รับจ้าง
C75: เองเป็นสำคัญ
B76: 1.6 | C76: หากแบบแปลน, รายการรายละเอียดเฉพาะแห่งฯ, รายการรายละเอียดทั่วไปประกอบแบบแปลนการ
C77: ก่อสร้างระบบประปาหมู่บ้าน, บันทึกการชี้สถานที่ก่อสร้าง หรือรายละเอียดอื่นๆ ที่เกี่ยวข้องกับการ
C78: ก่อสร้างขัดแย้งกันหรือไม่ชัดเจน ผู้ว่าจ้างขอสงวนสิทธิ์การพิจารณาวินิจฉัยให้ ผู้ออกแบบ จากสำนัก
C79: งานทรัพยากรน้ำภาค ๑๐ เป็นผู้ชี้ขาดตามหลักวิชาช่าง โดยผู้รับจ้างจะคิดค่าใช้จ่ายเพิ่มเติมอีกมิได้
B80: 1.7 | C80: การก่อสร้างระบบประปาหมู่บ้าน ในกรณีที่ไม่สามารถกระทำตามแบบมาตรฐานได้ ต้องมีการแก้ไข
C81: เปลี่ยนแปลง ปรับปรุง ให้เหมาะสมกับพื้นที่นั้นๆ เพื่อให้งานก่อสร้างนั้นสำเร็จลุล่วง และเกิดผลดีแก่
C82: ทางราชการ ให้ผู้รับจ้างปฏิบัติตามคำแนะนำของผู้ควบคุมงานการก่อสร้างอย่างเคร่งครัด โดยผ่าน
C83: ความเห็นชอบของผู้ว่าจ้างหรือผู้แทน(คณะกรรมการตรวจการจ้าง) ในกรณีที่เป็นงานโครงสร้าง หาก
C84: สงสัยในคุณภาพวัสดุ หรือความมั่นคงแข็งแรงของสิ่งก่อสร้าง ให้ผู้รับจ้างตรวจสอบหรือทดสอบทันที
C85: ว่ามีคุณสมบัติที่จะทำงานได้ต่อไปหรือไม่ โดยมีวิศวกรที่ได้รับใบประกอบวิชาชีพวิศวกรรมควบคุม
C86: สาขาวิศวกรรมโยธา ประเภทสามัญวิศวกร จากสภาวิศวกรตามพระราชบัญญัติวิศวกร พ.ศ. ๒๕๔๒
C87: เป็นผู้ตรวจสอบ และรับรองผล หากยังหาข้อยุติมิได้ ผู้ออกแบบจากสำนักงานทรัพยากรน้ำภาค ๑๐
C88: เป็นผู้พิจารณาชี้ขาดตามหลักวิชาช่าง โดยผู้รับจ้างจะคิดค่าใช้จ่ายเพิ่มเติมอีกมิได้
B89: 1.8 | C89: ผู้รับจ้างจะต้องทำการทดสอบการทำงานของระบบประปา ตั้งแต่เครื่องสูบน้ำดิบถึงท่อจ่ายน้ำไกลสุด
C90: ๑.๘.๑ | D90: ระบบสูบน้ำดิบ ติดตั้งเครื่องสูบน้ำดิบ ท่อส่งน้ำดิบ จากบ่อบาดาลไปยังหอถังสูง
D91: ขนาด ๗ ลบ.ม. โดยดูการประสานท่อ ชนิดท่อ รอยรั่ว ปริมาณน้ำออก และอื่นๆ
C92: ๑.๘.๒ | D92: ตรวจสอบไม่ให้มีการรั่วซึมของสิ่งก่อสร้างในระบบประปาทั้งหมด เช่น หอถังสูง อุปกรณ์
D93: ประสานท่อ และท่อจ่ายน้ำประปา
C94: ๑.๘.๓ | D94: ระบบไฟฟ้าควบคุมการทำงานของเครื่องสูบน้ำดิบ โดยผู้รับจ้างจะต้องทำการทดสอบการทำงาน
D95: ของระบบประปาดังกล่าวข้างต้นจนใช้งานได้ดี และเป็นที่พอใจแก่คณะกรรมการตรวจการจ้าง
D96: และสอนการควบคุมการทำงานระบบประปา ให้แก่ผู้ผลิต และคณะกรรมการบริหารกิจการ
D97: ประปาจนสามารถใช้งานได้
B98: 1.9 | C98: ผู้รับจ้างจะต้องรับผิดชอบค่าใช้จ่ายทั้งหมด ที่เกิดขึ้นหลังจากดำเนินการก่อสร้างแล้วเสร็จ ไปจนกว่า
C99: คณะกรรมการตรวจการจ้าง จะส่งมอบระบบประปาให้แก่คณะผู้ผลิตน้ำประปา และคณะกรรมการ
C100: บริหารกิจการประปาแห่งนั้นๆ โดยทำเป็นหนังสือราชการ
B101: 1.1 | C101: ผู้รับจ้างจะต้องจัดหาผู้ควบคุมงาน (ปวส.) จำนวน ๑ คน เสมียน (ปวช.) จำนวน ๑ คน ช่างฝีมือ
C102: และแรงงานที่มีความรู้ ความสามารถ ความชำนาญมีฝีมือดีมาดำเนินงานให้เพียงพอ และก่อสร้าง
C103: งานทันเวลาตามสัญญาจ้าง ในกรณีที่งานออกมาไม่ดี ผู้ควบคุมงานหรือคณะกรรมการตรวจการจ้าง
C104: สามารถขอเปลี่ยนช่างหรือคนงานได้ โดยผู้รับจ้างต้องจัดหาคนงานใหม่ที่มีความสามารถโดยเร็ว
C105: สำหรับงานที่แก้ไข และเวลาที่เสียไปเพราะการนี้ ผู้รับจ้างจะถือเป็นข้ออ้างสำหรับเรียกร้องค่าเสีย
C106: หาย หรือขยายเวลาการก่อสร้างมิได้
B107: 1.11 | C107: ท่อ ข้อต่อ และอุปกรณ์ประปา เช่น ประตูน้ำเหล็กหล่อ เช็ควาล์ว หน้าจาน ที่ใช้ในการก่อสร้างระบบ
C108: ประปาแห่งนี้ ถ้ามีมาตรฐาน มอก. กำหนดไว้ ให้ใช้มาตรฐาน มอก. ตามรายการรายละเอียดทั่วไป
C109: ประกอบแบบแปลนการก่อสร้างระบบประปา และเครื่องมือ เครื่องจักรกล ที่นำมาใช้ เช่น เครื่องผสม
C110: คอนกรีต, เครื่องสั่นคอนกรีต, ค้ำยัน, นั่งร้าน, รถเข็น, รอก และรถขุดดิน เป็นต้น จะต้องใช้การได้ดี
...

Sheet ปกราคา
F5: รายละเอียดการประมาณราคาค่าก่อสร้าง
F6: ประกอบแบบแปลนการก่อสร้างระบบประปาหมู่บ้าน
A7: (ควนเนียง)
F8: ปีงบประมาณ 256๖
F13: สถานที่ก่อสร้าง
F14: บ้านวังใหญ่ หมู่ที่ ๕ ตำบลทุ่งหลวง
F15: อำเภอเวียงสระ จังหวัดสุราษฎร์ธานี
D21: ประมาณราคาโดย
E22: กองช่าง เทศบาลตำบลทุ่งหลวง

Sheet แบบ ปร.5
A1: สรุปผลการประมาณราคาค่าก่อสร้าง
A2: ส่วนราชการ | B2: ='แบบ ปร.6'!$A$4 -> สำนักบริหารจัดการน้ำ กรมทรัพยากรน้ำ
A3: ประเภท | B3: งานอาคาร
A4: เจ้าของอาคาร
A5: ='แบบ ปร.6'!$A$2 -> สถานที่ก่อสร้าง
A6: หน่วยงานออกแบบแปลนและรายการ | C6: ='แบบ ปร.6'!$A$4 -> สำนักบริหารจัดการน้ำ กรมทรัพยากรน้ำ
A7: แบบเลขที่ | B7: 10002,11010,12100,13030,4001,4003/2,4004/1,4004/2,4005,4006/2 พร้อมด้วยรายการฯ เฉพาะแห่ง,รายการฯ ทั่วไป และ.................
A8: ประมาณราคาตามแบบ ปร.4 | C8: จำนวน | E8: แผ่น
A9: ประมาณราคาเมื่อวันที่ | C9: ='แบบ ปร.6'!$C$5 -> 37950
A11: ลำดับที่ | B11: รายการ | D11: ค่าวัสดุและค่าแรงงานรวมเป็นเงิน (บาท) | E11: FACTOR F | F11: ค่าก่อสร้างทั้งหมดรวมเป็นเงิน (บาท) | G11: หมายเหตุ
A12: 1 | B12: ประเภทงานอาคาร | D12: ='แบบ ปร.6'!$C$26 -> #REF! | E12: ='แบบ ปร.6'!$G$38 -> #REF! | F12: =D12*E12 -> #REF!
A13: 2 | B13: ประเภทงานทาง | D13: ='แบบ ปร.6'!$C$29 -> 8014.65 | E13: 1.3016 | F13: =D13*E13 -> 10431.868
A14: 3 | B14: ประเภทงานชลประทาน
A15: 4 | B15: ประเภทงานสะพานและท่อเหลี่ยม
A16: 5 | B16: ประเภทงานไม่พิจารณาปรับราคา | D16: ='แบบ ปร.6'!$C$62 -> #REF! | E16: 1.07 | F16: =D16*E16 -> #REF!
B17: เงื่อนไข
B18: เงินล่วงหน้าจ่าย | C18: 0.15
B19: เงินประกันผลงานหัก | C19: 0
B20: ดอกเบี้ยเงินกู้ | C20: 0.07
B21: ดอกเบี้ยเงินฝาก
A22: สรุป | B22: รวมค่าก่อสร้างเป็นเงินทั้งสิ้น | F22: =SUM(F12:F21) -> #REF!
B23: คิดเป็นเงินประมาณการ | F23: =ROUNDDOWN(F22,-3) -> #REF!
A24: ตัวอักษร | F24: =BAHTTEXT(F23) -> #REF!
A28: ประมาณการ | B28: ..........................................................….........................................……............…
B29: (……………………………………………………………………………)
A31: ตรวจ | B31: ..........................................................….........................................……............…
B32: (……………………………………………………………………………)
A34: ตรวจ | B34: ..........................................................….........................................……............…
B35: (……………………………………………………………………………)
A37: เห็นชอบ | B37: ..........................................................….........................................……............…
B38: (……………………………………………………………………………)

Sheet แบบ ปร.6
A1: รายประมาณการค่าก่อสร้าง ระบบประปาหมู่บ้านแบบบาดาลขนาดใหญ่ ประจำปีงบประมาณ 2546
A2: สถานที่ก่อสร้าง
A3: แบบเลขที่ | B3: 10002,11010,12100,13030,4001,4003/2,4004/1,4004/2,4005,4006/2 พร้อมด้วยรายการฯ เฉพาะแห่ง,รายการฯ ทั่วไป และ……….. | C3: รายการเลขที่
A4: สำนักบริหารจัดการน้ำ กรมทรัพยากรน้ำ
A5: ประมาณราคาเมื่อวันที่ | C5: 37950
A7: ลำดับที่ | B7: รายการ | C7: ค่าก่อสร้าง (บาท) | D7: หมายเหตุ
A8: 1 | B8: ประเภทงานอาคาร
B9: 1.1 ทดสอบการรับน้ำหนักบรรทุกของดินจำนวน 1 จุด | C9: =ทดสอบดิน!$J$14 -> 13500
B10: 1.2 โรงสูบน้ำแบบ ข | C10: =#REF! -> #REF!
B11: 1.3 ระบบกรองน้ำบาดาลขนาด 10 ม.3/ชม. (ตอกเข็ม) | C11: =#REF! -> #REF!
B12: 1.4 ถังน้ำใสขนาด 100 ม.3 (ตอกเข็ม) | C12: =#REF! -> #REF!
B13: 1.5 ป้ายบอกระดับน้ำในถังน้ำใส | C13: =#REF! -> #REF!
B14: 1.6 หอถังสูงขนาด 30 ม.3 (ตอกเข็ม) | C14: =#REF! -> #REF!
B15: 1.7 รั้ว,ประตูรั้ว (20x20 ม.) | C15: =#REF! -> #REF!
B16: 1.8 ป้ายการประปา | C16: =#REF! -> #REF!
B17: 1.9 ระบบท่อส่งน้ำดิบ | C17: =ท่อส่งน้ำดิบ!$J$24 -> 919.54
B18: 1.10 เครื่องสูบน้ำบาดาลพร้อมอุปกรณ์ควบคุมจำนวน 1 ชุด | C18: =เครื่องสูบน้ำบาดาล!$J$25 -> 49316.8
B19: 1.11 เครื่องสูบน้ำดีพร้อมอุปกรณ์ควบคุมจำนวน 2 ชุด | C19: =#REF! -> #REF!
B20: 1.12 การประสานท่อระหว่างระบบ | C20: ='911043'!$J$32 -> 4344.23
B21: 1.13 การประสานท่อที่ปากบ่อบาดาล | C21: =ประสานปากบ่อ!$J$27 -> 20438.79
B22: 1.14 การประสานท่อภายในโรงสูบน้ำดี 2 ชุด | C22: =#REF! -> #REF!
B23: 1.15 การประสานระบบไฟฟ้า (ภายใน) | C23: =ไฟฟ้า!$J$39 -> 12900
B24: 1.16 ติดตั้งระบบจ่ายสารละลายคลอรีน | C24: =#REF! -> #REF!
B25: 1.17 รางระบายน้ำ | C25: =#REF! -> #REF!
B26: รวมเงิน (1) | C26: =SUM(C8:C25) -> #REF!
A27: 2 | B27: ประเภทงานทาง
B28: 2.1 ระบบท่อจ่ายน้ำประปา | C28: =ท่อจ่ายน้ำ!$J$34 -> 8014.65
B29: รวมเงิน (2) | C29: =SUM(C27:C28) -> 8014.65
B31: ยอดยกไป | C31: =C26+C29 -> #REF!
F32: ค่างาน | G32: FACTOR F | H32: (ผลต่างค่างาน) | I32: (ผลต่างค่า F)
F33: ='FACTOR F'!B11 -> 0.5 | G33: ='FACTOR F'!I11 -> 1.3074 | H33: =F34-F33 -> 0.5 | I33: =G34-G33 -> -0.0024
F34: ='FACTOR F'!B12 -> 1 | G34: ='FACTOR F'!I12 -> 1.305 | H34: =F35-F34 -> 1 | I34: =G35-G34 -> -0.0015
F35: ='FACTOR F'!B13 -> 2 | G35: ='FACTOR F'!I13 -> 1.3035 | H35: =F36-F35 -> 3 | I35: =G36-G35 -> -0.0032
F36: ='FACTOR F'!B14 -> 5 | G36: ='FACTOR F'!I14 -> 1.3003 | H36: =F37-F36 -> 5 | I36: =G37-G36 -> -0.006
A37: ประมาณราคาโดย…………………………………………………… ตรวจ………………………………………………….. | F37: ='FACTOR F'!B15 -> 10 | G37: ='FACTOR F'!I15 -> 1.2943 | H37: =F37 -> 10 | I37: =G37 -> 1.2943
A38: (………………………………………………....) (………………………………………………...) | F38: =C31/1000000 -> #REF! | G38: =IF($F$38<=$F$34,$G$33,IF($F$38<(VLOOKUP($F$38,$F$33:$I$37,1)+(VLOOKUP($F$38,$F$33:$I$37,3)/2)),ROUNDDOWN(VLOOKUP($F$38,$F$33:$I$37,2)-ABS(($F$38-VLOOKUP($F$38,$F$33:$I$37,1))*(VLOOKUP($F$38,$F$33:$I$37,4))/VLOOKUP($F$38,$F$33:$I$37,3)),4),ROUNDDOWN(VLOOKUP(VLOOKUP($F$38,$F$33:$I$37,1)+VLOOKUP($F$38,$F$33:$I$37,3),$F$33:$I$37,2)+(ABS(VLOOKUP($F$38,$F$33:$I$37,4))*((VLOOKUP(VLOOKUP($F$38,$F$33:$I$37,1)+VLOOKUP($F$38,$F$33:$I$37,3),$F$33:$I$37,1))-$F$38)/VLOOKUP($F$38,$F$33:$I$37,3)),4))) -> #REF!
A40: ตรวจ…………………………………………………… เห็นชอบ………………….…………………………..
A41: (………………………………………………....) (………………………………………………...)
A45: รายประมาณการค่าก่อสร้าง ระบบประปาหมู่บ้านแบบบาดาลขนาดใหญ่ ประจำปีงบประมาณ 2546
A46: สถานที่ก่อสร้าง
A47: แบบเลขที่ | B47: 10002,11010,12100,13030,4001,4003/2,4004/1,4004/2,4005,4006/2 พร้อมด้วยรายการฯ เฉพาะแห่ง,รายการฯ ทั่วไป และ……….. | C47: รายการเลขที่
A48: =$A$4 -> สำนักบริหารจัดการน้ำ กรมทรัพยากรน้ำ
A49: ประมาณราคาเมื่อวันที่ | C49: =$C$5 -> 37950
A51: ลำดับที่ | B51: รายการ | C51: ค่าก่อสร้าง (บาท) | D51: หมายเหตุ
B52: ยอดยกมา | C52: =C31 -> #REF!
A53: 3 | B53: ประเภทงานไม่พิจารณาปรับราคา
B54: 3.1 เครื่องสูบน้ำบาดาล จำนวน 1 ชุด | C54: =เครื่องสูบน้ำบาดาล!$J$13 -> 22500
B55: 3.2 เครื่องสูบน้ำดี จำนวน 2 ชุด | C55: =#REF! -> #REF!
B56: 3.3 การประสานระบบไฟฟ้า (ภายนอก) | C56: =ไฟฟ้า!$J$23 -> 112495
B57: 3.4 ระบบจ่ายสารละลายคลอรีน | C57: =#REF! -> #REF!
B58: 3.5 เครื่องมือประจำการประปา | C58: =เครื่องมือฯประปา!$J$29 -> 0
B59: 3.6 เครื่องมือตรวจวัดสารละลายเหล็กในน้ำ | C59: =งานดิน!$J$14 -> 0
B60: 3.7 เครื่องมือตรวจวัดความเป็นกรด-ด่างในน้ำ | C60: ='กรด-ด่าง'!$J$14 -> 0
B61: 3.8 ค่าขนส่ง | C61: 82600
B62: รวมเงิน (3) | C62: =SUM(C54:C61) -> #REF!
B63: รวมเงิน | C63: =C26+C29+C62 -> #REF!
A64: ตัวอักษร | C64: =BAHTTEXT(C63) -> #REF!
A81: ประมาณราคาโดย…………………………………………………… ตรวจ…………………………………………………..
A82: (………………………………………………....) (………………………………………………...)
A84: ตรวจ…………………………………………………… เห็นชอบ………………….…………………………..
A85: (………………………………………………....) (………………………………………………...)
A89: รายประมาณการค่าก่อสร้าง ระบบประปาหมู่บ้านแบบบาดาลขนาดใหญ่ ประจำปีงบประมาณ 2546
A90: สถานที่ก่อสร้าง
A91: แบบเลขที่ | B91: 10002,11010,12100,13030,4001,4003/2,4004/1,4004/2,4005,4006/2 พร้อมด้วยรายการฯ เฉพาะแห่ง,รายการฯ ทั่วไป และ……….. | C91: รายการเลขที่
A92: =$A$4 -> สำนักบริหารจัดการน้ำ กรมทรัพยากรน้ำ
A93: ประมาณราคาเมื่อวันที่ | C93: 37942
A94: ก) กำหนดคืนเงินค่าใช้จ่ายในการตอกเสาเข็ม กรณีผลการทดสอบดินปรากฎว่าไม่ตอกเสาเข็ม ดังรายการต่อไปนี้
A95: ลำดับที่ | B95: รายการ | C95: ค่าก่อสร้าง (บาท) | D95: หมายเหตุ | F95: ค่าวัสดุ (บาท) (1) | G95: ค่าแรง (บาท) (2) | H95: ค่าขนส่ง (บาท) (3) | I95: รวม (บาท) (1)+(2)+(3)
A96: 1 | B96: โรงสูบน้ำแบบ ข | C96: =TRUNC(I96*$G$38) -> #REF! | F96: =#REF! -> #REF! | G96: =#REF! -> #REF! | I96: =F96+G96+H96 -> #REF!
A97: 2 | B97: ระบบกรองน้ำบาดาลขนาด 10 ม.3/ชม. | C97: =TRUNC(I97*$G$38) -> #REF! | F97: =#REF! -> #REF! | G97: =#REF! -> #REF! | I97: =F97+G97+H97 -> #REF!
A98: 3 | B98: ถังน้ำใสขนาด 100 ม.3 | C98: =TRUNC(I98*$G$38) -> #REF! | F98: =#REF! -> #REF! | G98: =#REF! -> #REF! | I98: =F98+G98+H98 -> #REF!
A99: 4 | B99: หอถังสูงขนาด 30 ม.3 | C99: =TRUNC(I99*$G$38) -> #REF! | F99: =#REF! -> #REF! | G99: =#REF! -> #REF! | I99: =F99+G99+H99 -> #REF!
B100: เป็นเงิน | C100: =SUM(C96:C99) -> #REF!
A101: ตัวอักษร | C101: =BAHTTEXT(C100) -> #REF!
A102: ข) กำหนดคืนเงินค่าใช้จ่ายในการตอกเสาเข็ม กรณีตอกเข็มที่มีความยาวน้อยกว่าที่กำหนดในแบบแปลน ดังรายการต่อไปนี้
A103: ลำดับที่ | B103: รายการ | C103: ค่าก่อสร้าง (บาท) | D103: หมายเหตุ (ราคาต่อเมตร) | F103: ค่าวัสดุ/เมตร (บาท) (1) | G103: ค่าแรง/เมตร (บาท) (2) | H103: ค่าขนส่ง/เมตร (บาท) (3) | I103: รวม (บาท) (1)+(2)+(3) | J103: ตอกเข็มยาว/ต้น (ม.) | K103: รวมความยาวเข็มที่ไม่ได้ตอก (ม.)
A104: 1 | B104: โรงสูบน้ำแบบ ข | C104: =IF(J104=0,"................................",TRUNC(D104*K104)) -> ................................ | D104: =ROUNDDOWN(I104*$G$38,0) -> #REF! | F104: =ROUNDDOWN([1]เสาเข็ม!$D$3/6,0) -> 120 | G104: =ROUNDDOWN([1]เสาเข็ม!$E$3/6,0) -> 21 | I104: =F104+G104+H104 -> 141 | J104: 0 | K104: =8*(6-J104) -> 48
A105: 2 | B105: ระบบกรองน้ำบาดาลขนาด 10 ม.3/ชม. | C105: =IF(J105=0,"................................",TRUNC(D105*K105)) -> ................................ | D105: =ROUNDDOWN(I105*$G$38,0) -> #REF! | F105: =ROUNDDOWN([1]เสาเข็ม!$D$3/6,0) -> 120 | G105: =ROUNDDOWN([1]เสาเข็ม!$E$3/6,0) -> 21 | I105: =F105+G105+H105 -> 141 | J105: 0 | K105: =9*(6-J105) -> 54
A106: 3 | B106: ถังน้ำใสขนาด 100 ม.3 | C106: =IF(J106=0,"................................",TRUNC(D106*K106)) -> ................................ | D106: =ROUNDDOWN(I106*$G$38,0) -> #REF! | F106: =ROUNDDOWN([1]เสาเข็ม!$D$3/6,0) -> 120 | G106: =ROUNDDOWN([1]เสาเข็ม!$E$3/6,0) -> 21 | I106: =F106+G106+H106 -> 141 | J106: 0 | K106: =57*(6-J106) -> 342
A107: 4 | B107: หอถังสูงขนาด 30 ม.3 | C107: =IF(J107=0,"................................",TRUNC(D107*K107)) -> ................................ | D107: =ROUNDDOWN(I107*$G$38,0) -> #REF! | F107: =ROUNDDOWN([1]เสาเข็ม!$D$5/20,0) -> 330 | G107: =ROUNDDOWN([1]เสาเข็ม!$E$5/20,0) -> 62 | I107: =F107+G107+H107 -> 392 | J107: 0 | K107: =8*(20-J107) -> 160
B108: เป็นเงิน | C108: =SUM(C104:C107) -> 0
A109: ตัวอักษร | C109: =BAHTTEXT(C108) -> ศูนย์บาทถ้วน
A110: ค) กำหนดคืนเงินค่าใช้จ่ายในการติดตั้งระบบไฟฟ้าภายนอก หากภายหลังการไฟฟ้าฯ แจ้งว่าไม่ต้องดำเนินการ ดังรายการต่อไปนี้
A111: ลำดับที่ | B111: รายการ | C111: ค่าก่อสร้าง (บาท) | D111: หมายเหตุ
A112: 1 | B112: ขยายเขตไฟฟ้าแรงต่ำ | C112: =ไฟฟ้า!$J$9 -> 0
A113: 2 | B113: ขยายเขตไฟฟ้าแรงสูง | C113: =ไฟฟ้า!$J$12 -> 107837
B114: เป็นเงิน | C114: =SUM(C112:C113) -> 107837
A115: ตัวหนังสือ | C115: =BAHTTEXT(C114) -> หนึ่งแสนเจ็ดพันแปดร้อยสามสิบเจ็ดบาทถ้วน
A122: ประมาณราคาโดย…………………………………………………… ตรวจ…………………………………………………..
A123: (………………………………………………....) (………………………………………………...)
A125: ตรวจ…………………………………………………… เห็นชอบ………………….…………………………..
A126: (………………………………………………....) (………………………………………………...)

Sheet ปร.6
N1: แบบ ปร.6 แผ่นที่ 1/1
A2: สรุปราคากลางค่าก่อสร้าง
B4: ชื่อโครงการ | E4: =ปร.5!E6 -> ก่อสร้างระบบประปาหมู่บ้าน (ปากน้ำ 3) | P4: –
B5: =ปร.5!B7 -> สถานที่ก่อสร้าง บ้านปากน้ำ หมู่ที่ ๑3 ตำบลทุ่งหลวง อำเภอเวียงสระ จังหวัดสุราษฎร์ธานี
B6: แบบเลขที่
B9: =ปร.5!B9 -> เจ้าของโครงการ เทศบาลตำบลทุ่งหลวง
B10: =ปร.5!B10 -> 0 | L10: =ปร.5!J10 -> เมื่อวันที่ 1 ธันวาคม 2568
N11: หน่วย : บาท
A12: ลำดับที่ | C12: รายการ | L12: ค่าก่อสร้าง (บาท) | N12: หมายเหตุ
B13: 1 | C13: ประเภทงานอาคาร | L13: =ปร.5!L30 -> 850201.68
B14: 2 | C14: ประเภทงานครุภัณฑ์จัดซื้อหรือสั่งซื้อ | L14: ='ปร.5 (2)'!L23 -> 53518.976
F15: - สุดท้าย -
C18: รวมค่าก่อสร้างทั้งโครงการ | L18: =SUM(L13:L14) -> 903720.66
A19: สรุป | C19: คิดเป็นเงินค่าก่อสร้างประมาณ | L19: =L18 -> 903720.66
C20: ( ตัวอักษร ) | H20: =CONCATENATE("(",BAHTTEXT(L19),")") -> (เก้าแสนสามพันเจ็ดร้อยยี่สิบบาทหกสิบหกสตางค์)
B22: =IF([2]ข้อมูลเริ่มต้น!$W$71=1,"คณะกรรมการกำหนดราคากลาง"," ") -> คณะกรรมการกำหนดราคากลาง | E22: ได้ตรวจสอบแล้วเห็นชอบกับราคาค่าก่อสร้างและให้ยึดถือประมาณราคานี้เป็นราคากลาง
B23: คำสั่งที่ 804/2568 ลงวันที่ 21 พฤศจิกายน 2568
A24: ลงชื่อ...............................................ประธานกรรมการ ลงชื่อ..................................................หัวหน้าเจ้าหน้าที่พัสดุ
C25: (นายดุสิต โต๊ะแอ) (นางกรรณิกา ชัยเมือง )
B26: ปลัดเทศบาลตำบลทุ่งหลวง ผู้อำนวยการกองคลัง
A28: ลงชื่อ.......................................................กรรมการ เห็นชอบ............................................................
C29: (นายสุริยาวุธ ทัพพุน) | G29: ( นายดุสิต โต๊ะแอ )
C30: ผู้อำนวยการกองช่าง | G30: ปลัดเทศบาลตำบลทุ่งหลวง
A31: ลงชื่อ.......................................................กรรมการ อนุมัติ............................................................
B32: (นายสมใจ ชัยประดิษฐ์) | H32: ( นายสมศักดิ์ นวลแก้ว)
B33: วิศวกรโยธาปฏิบัติการ | G33: นายกเทศมนตรีตำบลทุ่งหลวง

Sheet ปร.5
N1: แบบ ปร.5 (ก) แผ่นที่ 1/3
A3: สรุปค่าก่อสร้างอาคาร
B5: ส่วนราชการ | E5: เทศบาลตำบลทุ่งหลวง
B6: ชื่อโครงการ | E6: ก่อสร้างระบบประปาหมู่บ้าน (ปากน้ำ 3) | P6: –
B7: สถานที่ก่อสร้าง บ้านปากน้ำ หมู่ที่ ๑3 ตำบลทุ่งหลวง อำเภอเวียงสระ จังหวัดสุราษฎร์ธานี
B8: แบบเลขที่
B9: เจ้าของโครงการ เทศบาลตำบลทุ่งหลวง
J10: เมื่อวันที่ 1 ธันวาคม 2568
A12: ลำดับที่ | C12: รายการ | J12: ค่างานต้นทุน | K12: Factor F | L12: ค่าก่อสร้างรวม | M12: หมายเหตุ
J13: (บาท) | L13: เป็นเงิน(บาท)
A14: 1 | C14: ประเภทงานอาคาร
C15: 1.๑ การประสานท่อระหว่างระบบ | J15: ='911043'!J32 -> 4344.23 | K15: 1.3083 | L15: =J15*K15 -> 5683.5561 | Q15: =J15*1.2721 -> 5526.295
C16: 1.๒ การประสานท่อที่ปากบ่อบาดาล | J16: =ประสานปากบ่อ!J27 -> 20438.79 | K16: =K15 -> 1.3083 | L16: =J16*K16 -> 26740.069 | Q16: =J16*1.2721 -> 26000.185
C17: 1.๓ ดินถม | J17: =งานดิน!J14 -> 0 | K17: =K15 -> 1.3083 | L17: =J17*K17 -> 0 | Q17: =J17*1.2721 -> 0
C18: 1.๔ ทดสอบการรับน้ำหนักบรรทุกของดิน | J18: =ทดสอบดิน!J14 -> 13500 | K18: =K15 -> 1.3083 | L18: =(J18*K18) -> 17662.05 | Q18: =J18*1.2721 -> 17173.35
C19: 1.๕ การประสานระบบไฟฟ้าภายใน | J19: =ไฟฟ้าใน!J26 -> 7252.5 | K19: =K15 -> 1.3083 | L19: =(J19*K19) -> 9488.4458 | Q19: =J19*1.2721 -> 9225.9052
C20: 1.๖ บ่อบาดาล PVC. ขนาด ฦ 6 นิ้ว | J20: ='บ่อบาดาล '!J25 -> 208139.78 | K20: =K15 -> 1.3083 | L20: =J20*K20 -> 272309.28 | Q20: =J20*1.2721 -> 264774.62
C21: 1.๗ ถังกรองสนิมเหล็ก ขนาด 7 ลบ.ม./ชม. | J21: ='สบน.10-1007'!J32 -> 62120.461 | K21: =K15 -> 1.3083 | L21: =J21*K21 -> 81272.198 | Q21: =J21*1.2721 -> 79023.438
C22: 1.๘ หอถังสูงเหล็กทรงรูปถ้วยเชมเปญ ขนาดจุ 15 ลบ.ม. | J22: ='สบจ.10-2015'!J67 -> 322829.22 | K22: =K15 -> 1.3083 | L22: =J22*K22 -> 422357.47 | Q22: =J22*1.2721 -> 410671.06
C23: 1.๙ ระบบท่อส่งน้ำดิบ | J23: =ท่อส่งน้ำดิบ!J24 -> 919.54 | K23: =K15 -> 1.3083 | L23: =J23*K23 -> 1203.0342 | Q23: =J23*1.2721 -> 1169.7468
C24: 1.1๐ ระบบท่อจ่ายน้ำประปา | J24: =ท่อจ่ายน้ำ!J34 -> 8014.65 | K24: =K15 -> 1.3083 | L24: =J24*K24 -> 10485.567 | Q24: =J24*1.2721 -> 10195.436
C25: 1.1๑ ป้ายโครงการ | L25: 3000 | Q25: =L25 -> 3000
C26: เงื่อนไขการใช้ตาราง FACTOR F
C27: ดอกเบี้ยเงินกู้ | F27: 7 | G27: %
C28: ค่าภาษีมูลค่าเพิ่ม(VAT) | F28: 7 | G28: %
C29: รวมเป็นเงิน | J29: =SUM(J15:J28) -> 647559.18 | K29: =K15 -> 1.3083 | L29: =SUM(L15:L28)+0.01 -> 850201.68 | Q29: =SUM(Q15:Q28) -> 826760.03
A30: สรุป | C30: รวมค่าก่อสร้าง | L30: =L29 -> 850201.68 | Q30: =SUM(Q17:Q29) -> 1621993.6
C31: ( ตัวอักษร ) | J31: =CONCATENATE("(",BAHTTEXT(L30),")") -> (แปดแสนห้าหมื่นสองร้อยเอ็ดบาทหกสิบแปดสตางค์) | Q31: =SUM(L14:L28) -> 850201.67
B33: =IF([2]ข้อมูลเริ่มต้น!$W$71=1,"คณะกรรมการกำหนดราคากลาง"," ") -> คณะกรรมการกำหนดราคากลาง | E33: ได้ตรวจสอบแล้วเห็นชอบกับราคาค่าก่อสร้างและให้ยึดถือประมาณราคานี้เป็นราคากลาง
B34: คำสั่งที่804/2568 ลงวันที่ 21 พฤศจิกายน 2568
A35: ลงชื่อ...............................................ประธานกรรมการ ลงชื่อ..................................................หัวหน้าเจ้าหน้าที่พัสดุ
C36: (นายดุสิต โต๊ะแอ) (นางกรรณิกา ชัยเมือง )
B37: ปลัดเทศบาลตำบลทุ่งหลวง ผู้อำนวยการกองคลัง
A39: ลงชื่อ.......................................................กรรมการ เห็นชอบ............................................................
C40: (นายสุริยาวุธ ทัพพุน) | G40: ( นายดุสิต โต๊ะแอ )
C41: ผู้อำนวยการกองช่าง | G41: ปลัดเทศบาลตำบลทุ่งหลวง
A42: ลงชื่อ.......................................................กรรมการ อนุมัติ............................................................
B43: (นายสมใจ ชัยประดิษฐ์) | H43: ( นายสมศักดิ์ นวลแก้ว)
B44: วิศวกรโยธาปฏิบัติการ | G44: นายกเทศมนตรีตำบลทุ่งหลวง

Sheet ปร.5 (2)
N1: แบบ ปร.๕ (ข) แผ่นที่ ๒/๓
A3: สรุปค่าครุภัณฑ์จัดซื้อหรือสั่งซื้อ
B5: ส่วนราชการ | E5: เทศบาลตำบลทุ่งหลวง
B6: ชื่อโครงการ............................ | E6: =ปร.5!E6 -> ก่อสร้างระบบประปาหมู่บ้าน (ปากน้ำ 3) | P6: –
B7: =ปร.5!B7 -> สถานที่ก่อสร้าง บ้านปากน้ำ หมู่ที่ ๑3 ตำบลทุ่งหลวง อำเภอเวียงสระ จังหวัดสุราษฎร์ธานี
B8: แบบเลขที่
B10: =ปร.5!B9 -> เจ้าของโครงการ เทศบาลตำบลทุ่งหลวง
K12: =ปร.5!J10 -> เมื่อวันที่ 1 ธันวาคม 2568
N13: หน่วย : บาท
A15: ลำดับที่ | C15: รายการ | J15: ค่างาน | K15: ภาษี | L15: ค่าก่อสร้าง | M15: หมายเหตุ
J16: (บาท) | K16: มูลค่าเพิ่ม | L16: (บาท)
A17: 2 | C17: ประเภทงานครุภัณฑ์จัดซื้อหรือสั่งซื้อ
C18: ๒.๑ จัดหาและติดตั้งเครื่องสูบน้ำบาดาลพร้อมอุปกรณ์ควบคุม จำนวน ๑ ชุด | J18: =เครื่องสูบน้ำบาดาล!J26 -> 49316.8 | K18: =K$22 -> 1.07 | L18: =J18*K18 -> 52768.976 | Q18: =J18*1.07 -> 52768.976
C19: ๒.๒ จัดหาและส่งมอบเครื่องมือประจำการประปา จำนวน ๑ ชุด | J19: =เครื่องมือฯประปา!J29 -> 0 | K19: =K$22 -> 1.07 | L19: =J19*K19 -> 0 | Q19: =J19*1.07 -> 0
C20: ๒.๓ จัดหาและส่งมอบเครื่องมือตรวจวัด จำนวน ๑ ชุด | J20: ='กรด-ด่าง'!J14 -> 0 | K20: =K$22 -> 1.07 | L20: =J20*K20 -> 0 | Q20: =J20*1.07 -> 0
C21: ๒.๔ การประสานระบบไฟฟ้าภายนอก จำนวน ๑ ระบบ | J21: =ไฟฟ้านอก!J23 -> 750 | K21: 1 | L21: =J21*K21 -> 750 | Q21: =J21*1.07 -> 802.5
C22: รวมเป็นเงิน | J22: =SUM(J17:J21) -> 50066.8 | K22: 1.07 | L22: =SUM(L17:L21) -> 53518.976 | Q22: =SUM(Q17:Q21) -> 53571.476
A23: สรุป | C23: รวมค่าก่อสร้าง | L23: =L22 -> 53518.976 | Q23: =SUM(Q18:Q22) -> 107142.95
C24: ( ตัวอักษร ) | J24: =CONCATENATE("(",BAHTTEXT(L23),")") -> (ห้าหมื่นสามพันห้าร้อยสิบแปดบาทเก้าสิบแปดสตางค์) | Q24: =SUM(L17:L21) -> 53518.976
B26: =IF([2]ข้อมูลเริ่มต้น!$W$71=1,"คณะกรรมการกำหนดราคากลาง"," ") -> คณะกรรมการกำหนดราคากลาง | E26: ได้ตรวจสอบแล้วเห็นชอบกับราคาค่าก่อสร้างและให้ยึดถือประมาณราคานี้เป็นราคากลาง
B27: คำสั่งที่804/2568 ลงวันที่ 21 พฤศจิกายน 2568
A28: ลงชื่อ...............................................ประธานกรรมการ ลงชื่อ..................................................หัวหน้าเจ้าหน้าที่พัสดุ
C29: (นายดุสิต โต๊ะแอ) (นางกรรณิกา ชัยเมือง )
B30: ปลัดเทศบาลตำบลทุ่งหลวง ผู้อำนวยการกองคลัง
A32: ลงชื่อ.......................................................กรรมการ เห็นชอบ............................................................
C33: (นายสุริยาวุธ ทัพพุน) | G33: ( นายดุสิต โต๊ะแอ )
C34: ผู้อำนวยการกองช่าง | G34: ปลัดเทศบาลตำบลทุ่งหลวง
A35: ลงชื่อ.......................................................กรรมการ อนุมัติ............................................................
B36: (นายสมใจ ชัยประดิษฐ์) | H36: ( นายสมศักดิ์ นวลแก้ว)
B37: วิศวกรโยธาปฏิบัติการ | G37: นายกเทศมนตรีตำบลทุ่งหลวง

Sheet ปร.5-2
M1: แบบ ปร.๕ (พ) แผ่นที่ ๓/๓
A3: รายการค่าประมาณการก่อสร้างอาคาร
A5: ส่วนราชการ | C5: ส่วนบริหารจัดการน้ำ | G5: สำนักงานทรัพยากรน้ำภาค ๑๐ | M5: กรมทรัพยากรน้ำ
A6: ชื่อโครงการ............................ | C6: =ปร.5!E6 -> ก่อสร้างระบบประปาหมู่บ้าน (ปากน้ำ 3)
A7: =ปร.5!B7 -> สถานที่ก่อสร้าง บ้านปากน้ำ หมู่ที่ ๑3 ตำบลทุ่งหลวง อำเภอเวียงสระ จังหวัดสุราษฎร์ธานี
A8: แบบเลขที่......... | C8: =ปร.5!D8 -> 0
C9: =ปร.5!#REF! -> #REF!
A10: =ปร.5!B9 -> เจ้าของโครงการ เทศบาลตำบลทุ่งหลวง
A11: =ปร.5!B10 -> 0 | J11: =ปร.5!J10 -> เมื่อวันที่ 1 ธันวาคม 2568
A12: ก) กำหนดคืนเงินค่าใช้จ่ายในการตอกเสาเข็ม กรณีผลการทดสอบดินปรากฎว่าไม่ตอกเข็ม ดังรายการต่อไปนี้
A13: ลำดับที่ | B13: รายการ | F13: ค่าก่อสร้าง (บาท) | G13: หมายเหตุ | I13: ค่าวัสดุ (บาท) (๑) | J13: ค่าแรง (บาท) (๒) | K13: รวม (บาท) (๑)+(๒)+(๓)
A14: 1 | B14: หอถังสูงเหล็ก ขนาด ๑๕ ลบ.ม. สูง ๒๐ ม. | F14: =(I14+J14)*ปร.5!K29 -> 37679.04 | I14: ='สบจ.10-2015'!G56 -> 19200 | J14: ='สบจ.10-2015'!I56+'สบจ.10-2015'!I58 -> 9600 | K14: =I14+J14 -> 28800
A15: 2 | B15: ค่าเคลื่อนย้ายปั้นจั่น | F15: =SUM(I15:J15)*ปร.5!K29 -> 13083 | I15: 0 | J15: ='สบจ.10-2015'!I59 -> 10000 | K15: =I15+J15 -> 10000
B16: เป็นเงิน | F16: =SUM(F14:F15) -> 50762.04 | P16: =ROUNDDOWN(F16,0) -> 50762
A17: ตัวอักษร | F17: =CONCATENATE("(",BAHTTEXT(P16),")") -> (ห้าหมื่นเจ็ดร้อยหกสิบสองบาทถ้วน)
A19: ข) กำหนดคืนเงินค่าใช้จ่ายในการตอกเสาเข็ม กรณีตอกเข็มที่มีความยาวน้อยกว่าที่กำหนดในแบบแปลน ดังรายการต่อไปนี้
A20: ลำดับที่ | B20: รายการ | F20: ค่าก่อสร้าง (บาท) | G20: หมายเหตุ (ราคาต่อเมตร) | I20: ค่าวัสดุ/เมตร (บาท) (๑) | J20: ค่าแรง/เมตร (บาท) (๒) | K20: รวม (บาท) (๑)+(๒) | L20: ตอกเข็มยาว/ต้น (ม.) | M20: รวมความยาวเข็มที่ไม่ได้ตอก (ม.)
A21: 1 | B21: =B14 -> หอถังสูงเหล็ก ขนาด ๑๕ ลบ.ม. สูง ๒๐ ม. | F21: =G21*M21 -> 37679.04 | G21: =F14/96 -> 392.49 | I21: =I14/96 -> 200 | J21: =J14/96 -> 100 | K21: =I21+J21 -> 300 | L21: 0 | M21: =16*(6-L21) -> 96
A22: 2 | B22: ค่าเคลื่อนย้ายปั้นจั่น | F22: =F15 -> 13083
B23: เป็นเงิน | F23: =SUM(F21:F22) -> 50762.04 | P23: =ROUNDDOWN(F23,0) -> 50762
A24: ตัวอักษร | F24: =CONCATENATE("(",BAHTTEXT(P23),")") -> (ห้าหมื่นเจ็ดร้อยหกสิบสองบาทถ้วน)
A26: ค) กำหนดคืนเงินค่าใช้จ่ายในการติดตั้งระบบไฟฟ้าภายนอก หากภายหลังการไฟฟ้าฯ แจ้งว่าไม่ต้องดำเนินการ ดังรายการต่อไปนี้
A27: ลำดับที่ | B27: รายการ | F27: ค่าก่อสร้าง (บาท) | G27: หมายเหตุ
A28: 1 | B28: ขยายเขตไฟฟ้าแรงต่ำ | F28: =ไฟฟ้านอก!K12 -> 0
A29: 2 | B29: ขยายเขตไฟฟ้าแรงสูง | F29: =ไฟฟ้านอก!K16 -> 0
B30: เป็นเงิน | F30: =SUM(F28:F29) -> 0
A31: ตัวหนังสือ | F31: =CONCATENATE("(",BAHTTEXT(F30),")") -> (ศูนย์บาทถ้วน)
A32: ประมาณราคาโดย | G32: ตรวจ
D33: =ปร.5!#REF! -> #REF! | I33: =ปร.5!#REF! -> #REF!
B34: เสนอ | G34: เห็นชอบ
D35: =ปร.5!#REF! -> #REF! | I35: =ปร.5!#REF! -> #REF!

Sheet 921001
A1: ชื่อโครงการ............................ | C1: =ปร.5!E6 -> ก่อสร้างระบบประปาหมู่บ้าน (ปากน้ำ 3)
A2: งานก่อสร้าง............................................ | C2: ป้ายการประปา | I2: รายการเลขที่ | J2: 1
A3: =ปร.5!B7 -> สถานที่ก่อสร้าง บ้านปากน้ำ หมู่ที่ ๑3 ตำบลทุ่งหลวง อำเภอเวียงสระ จังหวัดสุราษฎร์ธานี | I3: แบบเลขที่ | J3: ๙๒๑๐๐๑
A4: =ปร.5!B9 -> เจ้าของโครงการ เทศบาลตำบลทุ่งหลวง
A5: =ปร.5!B10 -> 0 | H5: =ปร.5!J10 -> เมื่อวันที่ 1 ธันวาคม 2568
K6: หน่วย : บาท
A7: ลำดับ | B7: รายการ | D7: จำนวนหน่วย | F7: ค่าวัสดุ | H7: ค่าแรงงาน | J7: ค่าวัสดุและ | K7: หมายเหตุ
A8: ที่ | F8: ราคาต่อหน่วย | G8: เป็นเงิน | H8: ราคาต่อหน่วย | I8: เป็นเงิน | J8: ค่าแรงงาน
A9: 1 | B9: ขุดดินหลุมฐานราก/ถมดิน | D9: 0.3 | E9: ลบ.ม.
A10: 2 | B10: คอนกรีต 1 : 2 : 4 | D10: 0.3 | E10: ลบ.ม. | N10: =1691+(2.04*50*2.4) -> 1935.8
A11: 3 | B11: เหล็กเส้นกลม dia 6 มม. (2.22 กก./เส้น) | D11: 0.002 | E11: ตัน | K11: มอก.
A12: 4 | B12: เหล็กฉาก 40 x 40 x 3 มม. ยาว 6.00 ม. | D12: 1 | E12: เส้น
A13: 5 | B13: ท่อเหล็กอาบสังกะสี dia 2 นิ้ว | D13: 1 | E13: ท่อน
A14: 6 | B14: แผ่นเหล็ก ขนาด 1.20 x 2.40 ม. หนา 1.6 มม. | D14: 0.5 | E14: แผ่น
A15: 7 | B15: น๊อต dia 3/8 นิ้ว ยาว 4 นิ้ว | D15: 4 | E15: ตัว
A16: 8 | B16: หัวเสาธง อลูมิเนียม dia 2 นิ้ว | D16: 2 | E16: ตัว | N16: =SUM(G11:G16) -> 0 | O16: =N16*0.2 -> 0
A17: 9 | B17: ทาสีน้ำมัน | D17: 2.5 | E17: ตร.ม.
A18: 10 | B18: ตัวอักษร สติกเกอร์ | D18: 2 | E18: ตร.ม.
C20: รวมเงิน
C21: คิดเป็นเงินค่างาน
H23: ลงชื่อ........................................ผู้ประมาณราคา

Sheet รั้ว
A1: ชื่อโครงการ............................ | C1: =ปร.5!E6 -> ก่อสร้างระบบประปาหมู่บ้าน (ปากน้ำ 3)
A2: งานก่อสร้าง............................................ | C2: รั้ว-ประตูรั้ว ( ๗ x ๑๑ ม.) | I2: รายการเลขที่ | J2: 2
A3: =ปร.5!B7 -> สถานที่ก่อสร้าง บ้านปากน้ำ หมู่ที่ ๑3 ตำบลทุ่งหลวง อำเภอเวียงสระ จังหวัดสุราษฎร์ธานี | I3: แบบเลขที่ | J3: ๙๒๑๐๐๑, | K3: ๙๑๑๐๔๓
A4: =ปร.5!B9 -> เจ้าของโครงการ เทศบาลตำบลทุ่งหลวง
A5: =ปร.5!B10 -> 0 | H5: =ปร.5!J10 -> เมื่อวันที่ 1 ธันวาคม 2568
K6: หน่วย : บาท
A7: ลำดับ | B7: รายการ | D7: จำนวนหน่วย | F7: ค่าวัสดุ | H7: ค่าแรงงาน | J7: ค่าวัสดุและ | K7: หมายเหตุ
A8: ที่ | F8: ราคาต่อหน่วย | G8: เป็นเงิน | H8: ราคาต่อหน่วย | I8: เป็นเงิน | J8: ค่าแรงงาน
B9: 1. เสา/บานประตูรั้ว
A10: 1.1 | B10: ขุดดินหลุมฐานราก/ถมคืน | D10: 1 | E10: ลบ.ม.
A11: 1.2 | B11: ทรายหยาบ,ทรายหยาบรองพื้น | D11: 0.128 | E11: ลบ.ม.
A12: 1.3 | B12: คอนกรีต 1 : 3 : 5 | D12: 0.128 | E12: ลบ.ม.
A13: 1.4 | B13: คอนกรีต 1 : 2 : 4 (ซีเมนต์ไม่น้อยกว่า 320 กก/ลบ.ม.) | D13: 0.4 | E13: ลบ.ม.
A14: 1.5 | B14: เหล็กเสริม | D14: 0.04761 | E14: ตัน
A15: 1.6 | B15: ลวดผูกเหล็ก No 18 | D15: 0.7 | E15: กก.
A16: 1.7 | B16: ท่อเหล็กอาบสังกะสี ยาว 6.00 ม. dia 1 1/2" | D16: 3 | E16: ท่อน
A17: 1.8 | B17: ลวดตาข่ายสี่เหลี่ยมขนมเปียกปูน dia. 3 มม. ขนาดช่อง 38 มม. | D17: 5.25 | E17: ตร.ม.
A18: 1.9 | B18: บุ๊ชสลักติดบานประตู dia. 1-1/2 นิ้ว | D18: 6 | E18: ตัว
A19: 1.1 | B19: กลอนเหล็กและกุญแจ | D19: 2 | E19: ชุด | M19: =SUM(G16:G19) -> 0 | N19: =M19*0.2 -> 0
A20: 1.11 | B20: ฉาบปูนเรียบธรรมดา | D20: 3 | E20: ตร.ม.
A21: 1.12 | B21: ทาสีน้ำพลาสติก | D21: 3 | E21: ตร.ม.
A22: 1.13 | B22: ทาสีน้ำมัน | D22: 2 | E22: ตร.ม.
A23: 1.14 | B23: ไม้แบบหล่อคอนกรีตทั่วไป 80 % พร้อมไม้คร่าว | D23: 1.14 | E23: ตร.ม.
A24: 1.15 | B24: ตะปู | D24: 0.2 | E24: กก.
C25: รวมเงิน (1) ยอดยกไป
C26: รวมเงิน (1) ยอดยกมา
C27: รวมเงิน (1)
B28: 2. เสามุมรั้วต่อ 1 ต้น
A29: 2.1 | B29: ขุดดินหลุมฐานราก/ถมคืน | D29: 1 | E29: ลบ.ม.
A30: 2.2 | B30: ทรายหยาบ,ทรายหยาบรองพื้น | D30: 0.064 | E30: ลบ.ม.
A31: 2.3 | B31: คอนกรีต 1 : 3 : 5 | D31: 0.064 | E31: ลบ.ม.
A32: 2.4 | B32: คอนกรีต 1 : 2 : 4 (ซีเมนต์ไม่น้อยกว่า 320 กก/ลบ.ม.) | D32: 0.204 | E32: ลบ.ม.
A33: 2.5 | B33: เหล็กเสริม | D33: 0.02991 | E33: ตัน
A34: 2.6 | B34: ลวดผูกเหล็ก No 18 | D34: 0.4 | E34: กก.
A35: 2.7 | B35: ฉาบปูนเรียบธรรมดา | D35: 1.5 | E35: ตร.ม.
A36: 2.8 | B36: ทาสีน้ำพลาสติก | D36: 1.5 | E36: ตร.ม.
A37: 2.9 | B37: ไม้แบบหล่อคอนกรีตทั่วไป 80 % พร้อมไม้คร่าว | D37: 0.57 | E37: ตร.ม.
A38: 2.1 | B38: ตะปู | D38: 0.1 | E38: กก.
C40: รวมเงิน (2)
C41: เสามุมรั้วคิดเป็นเงินรวม | D41: 3 | E41: ต้น
C42: รวมเป็นเงิน (1) + (2) | K42: =ROUNDDOWN(J42,-2) -> 0
C43: รวมเงิน (2) ยอดยกไป
C44: รวมเงิน (2) ยอดยกมา
B45: 3. รั้ว, เสารั้วต่อ 10 ช่วงเสา (ยาว 20 ม.)
A46: 3.1 | B46: ขุดดินหลุมฐานราก/ถมคืน | D46: 0.28 | E46: ลบ.ม.
A47: 3.2 | B47: คอนกรีต 1 : 2 : 4 (ซีเมนต์ไม่น้อยกว่า 320 กก/ลบ.ม.) | D47: 0.2 | E47: ลบ.ม.
A48: 3.3 | B48: ลวดหนาม เบอร์ 12 dia 2.64 มม. | D48: 180 | E48: ม.
A49: 3.4 | B49: เสารั้ว คสล. สำเร็จรูป 4 x 4 นิ้ว ยาว 2.50 ม. | D49: 9 | E49: ต้น | K49: พร้อมทาสี
A50: 3.5 | B50: น๊อต dia. 4 มม. | D50: 81 | E50: ตัว
C51: รวมเงิน (3) | K51: ราคา/20 ม.
C52: รั้ว-เสารั้ว คิดเป็นเงินต่อเมตร | K52: ราคา/ ม.
C53: รั้ว-เสารั้ว คิดเป็นเงินรวม | D53: =7+11+4+11 -> 33 | E53: ม. | K53: =ROUNDDOWN(J53,-2) -> 0 | M53: =G53*0.2 -> 0
C58: รวมเงิน
C59: คิดเป็นเงินค่างาน
H61: ลงชื่อ........................................ผู้ประมาณราคา

Sheet 911043
A1: ชื่อโครงการ............................ | C1: =ปร.5!E6 -> ก่อสร้างระบบประปาหมู่บ้าน (ปากน้ำ 3)
A2: งานก่อสร้าง............................................ | C2: การประสานท่อระหว่างระบบ
A3: =ปร.5!B7 -> สถานที่ก่อสร้าง บ้านปากน้ำ หมู่ที่ ๑3 ตำบลทุ่งหลวง อำเภอเวียงสระ จังหวัดสุราษฎร์ธานี
A4: =ปร.5!B9 -> เจ้าของโครงการ เทศบาลตำบลทุ่งหลวง
A5: =ปร.5!B10 -> 0 | H5: =ปร.5!J10 -> เมื่อวันที่ 1 ธันวาคม 2568
K6: หน่วย : บาท
A7: ลำดับ | B7: รายการ | D7: จำนวนหน่วย | F7: ค่าวัสดุ | H7: ค่าแรงงาน | J7: ค่าวัสดุและ | K7: หมายเหตุ
A8: ที่ | F8: ราคาต่อหน่วย | G8: เป็นเงิน | H8: ราคาต่อหน่วย | I8: เป็นเงิน | J8: ค่าแรงงาน
A9: 1 | B9: ท่อเหล็กอาบสังกะสี dia 3" | D9: 1 | E9: ท่อน | F9: 1722.5 | G9: =IF(F9="-","-",D9*F9) -> 1722.5 | H9: 179 | I9: =IF(H9="-","-",H9*D9) -> 179 | J9: =SUM(G9,I9) -> 1901.5 | M9: 0
A10: 2 | B10: ท่อเหล็กอาบสังกะสี dia 3/4" | D10: 0 | E10: ท่อน | F10: 346.39 | G10: =IF(F10="-","-",D10*F10) -> 0 | H10: =60*6 -> 360 | I10: =IF(H10="-","-",H10*D10) -> 0 | J10: =SUM(G10,I10) -> 0
A11: 3 | B11: ข้องอเหล็กอาบสังกะสี 90 ม-ม dia 3" | D11: 0 | E11: ตัว | F11: 216.92 | G11: =IF(F11="-","-",D11*F11) -> 0 | J11: =SUM(G11,I11) -> 0
A12: 4 | B12: ข้องอเหล็กอาบสังกะสี 90 ม-ม dia 3/4" | D12: 0 | E12: ตัว | F12: 15.37 | G12: =IF(F12="-","-",D12*F12) -> 0 | J12: =SUM(G12,I12) -> 0
A13: 5 | B13: ข้องอเหล็กอาบสังกะสี 90 ม-ม dia2 1/2" | D13: 1 | E13: ตัว | F13: 145 | G13: =IF(F13="-","-",D13*F13) -> 145 | J13: =SUM(G13,I13) -> 145 | M13: 0
A14: 6 | B14: ข้อโค้งเหล็กหล่อ 45 หน้าจาน 2 ด้าน dia 3" | D14: 0 | E14: ตัว | F14: 1495 | G14: =IF(F14="-","-",D14*F14) -> 0 | J14: =SUM(G14,I14) -> 0
A15: 7 | B15: ข้อต่อตรงลดเหล็ก dia 3"ลด2 1/2" | D15: 1 | E15: ตัว | F15: 220 | G15: =IF(F15="-","-",D15*F15) -> 220 | J15: =SUM(G15,I15) -> 220 | M15: 0
A16: 8 | B16: สามทางเหล็กอาบสังกะสี dia 3" | D16: 0 | E16: ตัว | F16: 303.05 | G16: =IF(F16="-","-",D16*F16) -> 0 | I16: 150 | J16: =SUM(G16,I16) -> 150
A17: 9 | B17: หน้าจานเกลียวเหล็กหล่อ dia 3" | D17: 0 | E17: ตัว | F17: 352 | G17: =IF(F17="-","-",D17*F17) -> 0 | J17: =SUM(G17,I17) -> 0
A18: 10 | B18: ประตูน้ำเหล็กหล่อบนดิน หน้าจาน dia 3" แบบพวงมาลัย | D18: 0 | E18: ชุด | F18: 6200 | G18: =IF(F18="-","-",D18*F18) -> 0 | J18: =SUM(G18,I18) -> 0
A19: 11 | B19: มาตรวัดน้ำ (ใบพัด 2 ชั้น) dia 3" | D19: 0 | E19: ชุด | F19: 14000 | G19: =IF(F19="-","-",D19*F19) -> 0 | J19: =SUM(G19,I19) -> 0
A20: 12 | B20: ก๊อกน้ำทองเหลือง dia 3/4" | D20: 0 | E20: ตัว | F20: 177 | G20: =IF(F20="-","-",D20*F20) -> 0 | J20: =SUM(G20,I20) -> 0
A21: 13 | B21: ประเก็นยาง dia 3" | D21: 0 | E21: แผ่น | F21: 20 | G21: =IF(F21="-","-",D21*F21) -> 0 | J21: =SUM(G21,I21) -> 0
A22: 14 | B22: น๊อตยึดหน้าจาน | D22: 0 | E22: ตัว | F22: 30 | G22: =IF(F22="-","-",D22*F22) -> 0 | J22: =SUM(G22,I22) -> 0 | N22: =SUM(G10:G22) -> 365 | O22: =N22*0.2 -> 73
A23: 15 | B23: ทำเกลียว | D23: 3 | E23: จุด | F23: - | G23: =IF(F23="-","-",D23*F23) -> - | H23: 40 | I23: =IF(H23="-","-",H23*D23) -> 120 | J23: =SUM(G23,I23) -> 120 | M23: 0
A24: 16 | B24: เทปพันเกลียว | D24: 2 | E24: ม้วน | F24: 30 | G24: =IF(F24="-","-",D24*F24) -> 60 | J24: =SUM(G24,I24) -> 60
A25: 17 | B25: เทพื้น คสล. ขนาด 0.50 x 0.50 x 0.07 ม., | D25: 0 | E25: ลบ.ม. | F25: =2460+476*4+38.73 -> 4402.73 | G25: =D25*F25 -> 0 | H25: =133*4+500 -> 1032 | I25: =D25*H25 -> 0 | J25: =SUM(G25,I25) -> 0 | O25: =SUM(G31)*0.2 -> 743.046
A26: 18 | B26: ท่อ PVC. ยาว 4.00 ม. ชั้น 13.5 dia 2" | D26: 1 | E26: ท่อน | F26: 291.59 | G26: =IF(F26="-","-",D26*F26) -> 291.59 | H26: 41 | I26: =IF(H26="-","-",H26*D26) -> 41 | J26: =SUM(G26,I26) -> 332.59 | L26: =D26*2.98 -> 2.98 | M26: สฎ
A27: 19 | B27: ท่อ PVC. ยาว 4.00 ม. ชั้น 13.5 dia 3" | D27: 1 | E27: ท่อน | F27: 672.9 | G27: =IF(F27="-","-",D27*F27) -> 672.9 | H27: 77 | I27: =IF(H27="-","-",H27*D27) -> 77 | J27: =SUM(G27,I27) -> 749.9 | L27: =D27*2.98 -> 2.98 | M27: สฎ
A28: 20 | B28: ท่อ PVC. ยาว 4.00 ม. ชั้น 13.5 dia 2 1/2" | D28: 1 | E28: ท่อน | F28: 482.24 | G28: =IF(F28="-","-",D28*F28) -> 482.24 | H28: 62 | I28: =IF(H28="-","-",H28*D28) -> 62 | J28: =SUM(G28,I28) -> 544.24 | L28: =D28*2.98 -> 2.98 | M28: สฎ
A29: 21 | B29: ข้อต่อเกลียวนอก PVC. Dia 2" | D29: 1 | E29: อัน | F29: 56 | G29: =D29*F29 -> 56 | I29: =D29*H29 -> 0 | J29: =SUM(G29,I29) -> 56 | L29: =D29*102.6 -> 102.6 | M29: 0 | N29: =3559+534.47 -> 4093.47 | O29: =21.75*6 -> 130.5 | P29: =15000/O29 -> 114.94253 | Q29: =15000/P29 -> 130.5 | S29: =N29+Q29 -> 4223.97
A30: 21 | B30: ข้อต่อเกลียวนอก PVC. Dia 3" | D30: 1 | E30: อัน | F30: 65 | G30: =D30*F30 -> 65 | I30: =D30*H30 -> 0 | J30: =SUM(G30,I30) -> 65 | L30: =D30*102.6 -> 102.6 | M30: 0 | N30: =3559+534.47 -> 4093.47 | O30: =21.75*6 -> 130.5 | P30: =15000/O30 -> 114.94253 | Q30: =15000/P30 -> 130.5 | S30: =N30+Q30 -> 4223.97
C31: รวมเงิน | G31: =SUM(G9:G30) -> 3715.23 | I31: =SUM(I9:I29) -> 629 | J31: =SUM(J9:J30) -> 4344.23 | M31: =G31+I31 -> 4344.23
C32: คิดเป็นเงินค่างาน | J32: =J31 -> 4344.23

Sheet ประสานปากบ่อ
A1: ชื่อโครงการ............................ | C1: =ปร.5!E6 -> ก่อสร้างระบบประปาหมู่บ้าน (ปากน้ำ 3)
A2: งานก่อสร้าง............................................ | C2: การประสานท่อที่ปากบ่อบาดาล
A3: =ปร.5!B7 -> สถานที่ก่อสร้าง บ้านปากน้ำ หมู่ที่ ๑3 ตำบลทุ่งหลวง อำเภอเวียงสระ จังหวัดสุราษฎร์ธานี
A4: =ปร.5!B9 -> เจ้าของโครงการ เทศบาลตำบลทุ่งหลวง
A5: =ปร.5!B10 -> 0 | H5: =ปร.5!J10 -> เมื่อวันที่ 1 ธันวาคม 2568
K6: หน่วย : บาท
A7: ลำดับ | B7: รายการ | D7: จำนวนหน่วย | F7: ค่าวัสดุ | H7: ค่าแรงงาน | J7: ค่าวัสดุและ | K7: หมายเหตุ
A8: ที่ | F8: ราคาต่อหน่วย | G8: เป็นเงิน | H8: ราคาต่อหน่วย | I8: เป็นเงิน | J8: ค่าแรงงาน
A9: 1 | B9: ท่อเหล็กอาบสังกะสี ยาว 6 ม. dia 2" | D9: 1 | E9: ท่อน | F9: 706.54 | G9: =IF(F9="-","-",D9*F9) -> 706.54 | H9: 113 | I9: =D9*H9 -> 113 | J9: =SUM(G9,I9) -> 819.54 | M9: นศ
A10: 2 | B10: ท่อเหล็กอาบสังกะสี ยาว 6 ม. dia 2" | E10: ท่อน | F10: 706.54 | G10: =IF(F10="-","-",D10*F10) -> 0 | J10: =SUM(G10,I10) -> 0
A11: 3 | B11: สามทางเหล็กอาบสังกะสี dia 2" | D11: 1 | E11: ตัว | F11: 165 | G11: =IF(F11="-","-",D11*F11) -> 165 | J11: =SUM(G11,I11) -> 165 | M11: 0
A12: 4 | B12: ข้องอเหล็กอาบสังกะสี 45,90 ม-ม dia 2" | D12: 3 | E12: ตัว | F12: 50.75 | G12: =IF(F12="-","-",D12*F12) -> 152.25 | J12: =SUM(G12,I12) -> 152.25 | M12: 0
A13: 5 | B13: นิปเปิ้ลเหล็กอาบสังกะสี dia 2" | D13: 7 | E13: ตัว | F13: 44 | G13: =IF(F13="-","-",D13*F13) -> 308 | J13: =SUM(G13,I13) -> 308 | M13: 0
A14: 6 | B14: ยูเนียนเหล็กอาบสังกะสี dia 2" | D14: 1 | E14: ตัว | F14: 150 | G14: =IF(F14="-","-",D14*F14) -> 150 | J14: =SUM(G14,I14) -> 150 | M14: 0
A15: 7 | B15: หน้าจานเกลียวเหล็กหล่อ dia 2" | D15: 2 | E15: ตัว | F15: 352 | G15: =IF(F15="-","-",D15*F15) -> 704 | I15: 1500 | J15: =SUM(G15,I15) -> 2204 | M15: 0
A16: 8 | B16: ชุดประกอบปิดปากบ่อ dia 6" (ป้องกันน้ำท่วม) | D16: 1 | E16: ตัว | F16: 3500 | G16: =IF(F16="-","-",D16*F16) -> 3500 | J16: =SUM(G16,I16) -> 3500 | M16: 0
A17: 9 | B17: เช็ควาล์วทองเหลือง dia 2" | D17: 1 | E17: ตัว | F17: 450 | G17: =IF(F17="-","-",D17*F17) -> 450 | J17: =SUM(G17,I17) -> 450 | M17: 0
A18: 10 | B18: ประตูน้ำบอลวาล์ว dia 2" | D18: 2 | E18: ชุด | F18: 580 | G18: =IF(F18="-","-",D18*F18) -> 1160 | J18: =SUM(G18,I18) -> 1160 | M18: 0
A19: 11 | B19: สวิทซ์น้ำไหล dia 2" | D19: 1 | E19: ชุด | F19: 2500 | G19: =IF(F19="-","-",D19*F19) -> 2500 | J19: =SUM(G19,I19) -> 2500 | M19: 0
A20: 12 | B20: มาตรวัดน้ำแบบแม่เหล็ก 2 ชั้น ขนาด dia 2" | D20: 1 | E20: ตัว | F20: 8500 | G20: =IF(F20="-","-",D20*F20) -> 8500 | J20: =SUM(G20,I20) -> 8500 | M20: 0
A21: 13 | B21: ประเก็นยาง dia 2" | D21: 2 | E21: แผ่น | F21: 25 | G21: =IF(F21="-","-",D21*F21) -> 50 | J21: =SUM(G21,I21) -> 50 | M21: 0
A22: 14 | B22: เทปพันเกลียว | D22: 2 | E22: ม้วน | F22: 30 | G22: =IF(F22="-","-",D22*F22) -> 60 | J22: =SUM(G22,I22) -> 60 | M22: 0 | N22: =SUM(G9:G22) -> 18405.79 | O22: =N22*0.2 -> 3681.158
A23: 15 | B23: ทำเกลียว | D23: 4 | E23: จุด | F23: - | G23: =IF(F23="-","-",D23*F23) -> - | H23: 30 | I23: =IF(H23="-","-",H23*D23) -> 120 | J23: =SUM(G23,I23) -> 120 | M23: 0
A24: 16 | B24: อุปกรณ์อื่นๆ | D24: 1 | E24: งาน | F24: 300 | G24: =IF(F24="-","-",D24*F24) -> 300 | J24: =SUM(G24,I24) -> 300 | M24: 0
C26: รวมเงิน | G26: =SUM(G9:G24) -> 18705.79 | I26: =SUM(I9:I24) -> 1733 | J26: =SUM(J9:J24) -> 20438.79 | M26: =G26+I26 -> 20438.79
C27: คิดเป็นเงินค่างาน | J27: =J26 -> 20438.79

Sheet งานดิน
A1: ชื่อโครงการ............................ | C1: =ปร.5!E6 -> ก่อสร้างระบบประปาหมู่บ้าน (ปากน้ำ 3)
A2: งานก่อสร้าง............................................ | C2: งานดิน
A3: =ปร.5!B7 -> สถานที่ก่อสร้าง บ้านปากน้ำ หมู่ที่ ๑3 ตำบลทุ่งหลวง อำเภอเวียงสระ จังหวัดสุราษฎร์ธานี
A4: =ปร.5!B9 -> เจ้าของโครงการ เทศบาลตำบลทุ่งหลวง
A5: =ปร.5!B10 -> 0 | H5: =ปร.5!J10 -> เมื่อวันที่ 1 ธันวาคม 2568
K6: หน่วย : บาท
A7: ลำดับ | B7: รายการ | D7: จำนวนหน่วย | F7: ค่าวัสดุ | H7: ค่าแรงงาน | J7: ค่าวัสดุและ | K7: หมายเหตุ
A8: ที่ | F8: ราคาต่อหน่วย | G8: เป็นเงิน | H8: ราคาต่อหน่วย | I8: เป็นเงิน | J8: ค่าแรงงาน
B9: 1.งานดินถม
A10: 1.1 | B10: ปรับเกลี่ยแต่งสภาพพื้นที่ภายในระบบประปา | E10: ตร.ม. | F10: - | G10: =IF(F10="-","-",D10*F10) -> - | H10: 15 | I10: =IF(H10="-","-",H10*D10) -> 0 | J10: =SUM(G10,I10) -> 0
A11: 1.2 | B11: ดินถมระบบประปา | E11: ลบ.ม. | F11: 160 | G11: =IF(F11="-","-",D11*F11) -> 0 | H11: 46 | I11: =IF(H11="-","-",H11*D11) -> 0 | J11: =SUM(G11,I11) -> 0
C13: รวมเงิน | G13: =SUM(G9:G12) -> 0 | I13: =SUM(I9:I12) -> 0 | J13: =SUM(J9:J12) -> 0 | M13: =G13+I13 -> 0
C14: คิดเป็นเงิน | J14: =ROUNDDOWN(J13,0) -> 0
H16: ลงชื่อ........................................ผู้ประมาณราคา

Sheet ทดสอบดิน
A1: ชื่อโครงการ............................ | C1: =ปร.5!E6 -> ก่อสร้างระบบประปาหมู่บ้าน (ปากน้ำ 3)
A2: งานก่อสร้าง............................................ | C2: ทดสอบความสามารถในการรับน้ำหนักบรรทุกของดิน
A3: =ปร.5!B7 -> สถานที่ก่อสร้าง บ้านปากน้ำ หมู่ที่ ๑3 ตำบลทุ่งหลวง อำเภอเวียงสระ จังหวัดสุราษฎร์ธานี
A4: =ปร.5!B9 -> เจ้าของโครงการ เทศบาลตำบลทุ่งหลวง
A5: =ปร.5!B10 -> 0 | H5: =ปร.5!J10 -> เมื่อวันที่ 1 ธันวาคม 2568
K6: หน่วย : บาท
A7: ลำดับ | B7: รายการ | D7: จำนวนหน่วย | F7: ค่าวัสดุ | H7: ค่าแรงงาน | J7: ค่าวัสดุและ | K7: หมายเหตุ
A8: ที่ | F8: ราคาต่อหน่วย | G8: เป็นเงิน | H8: ราคาต่อหน่วย | I8: เป็นเงิน | J8: ค่าแรงงาน
A9: 1 | B9: ทดสอบดินวิธี Boring Test (SPT.) | D9: 1 | E9: จุด | F9: - | G9: =IF(F9="-","-",D9*F9) -> - | H9: 13500 | I9: =IF(H9="-","-",H9*D9) -> 13500 | J9: =SUM(G9,I9) -> 13500
C13: รวมเงิน | G13: =SUM(G9:G12) -> 0 | I13: =SUM(I9:I12) -> 13500 | J13: =SUM(J9:J12) -> 13500
C14: คิดเป็นเงินค่างาน | J14: =ROUNDDOWN(J13,-2) -> 13500

Sheet ไฟฟ้าใน
A1: ชื่อโครงการ............................ | C1: =ปร.5!E6 -> ก่อสร้างระบบประปาหมู่บ้าน (ปากน้ำ 3)
A2: งานก่อสร้าง............................................ | C2: การประสานระบบไฟฟ้าภายใน
A3: =ปร.5!B7 -> สถานที่ก่อสร้าง บ้านปากน้ำ หมู่ที่ ๑3 ตำบลทุ่งหลวง อำเภอเวียงสระ จังหวัดสุราษฎร์ธานี
A4: =ปร.5!B9 -> เจ้าของโครงการ เทศบาลตำบลทุ่งหลวง
A5: =ปร.5!B10 -> 0 | H5: =ปร.5!J10 -> เมื่อวันที่ 1 ธันวาคม 2568
K6: หน่วย : บาท
A7: ลำดับ | B7: รายการ | D7: จำนวนหน่วย | F7: ค่าวัสดุ | H7: ค่าแรงงาน | J7: ค่าวัสดุและ | K7: หมายเหตุ
A8: ที่ | F8: ราคาต่อหน่วย | G8: เป็นเงิน | H8: ราคาต่อหน่วย | I8: เป็นเงิน | J8: ค่าแรงงาน
B9: ข. ระบบไฟฟ้าภายใน (ผู้รับจ้างดำเนินการ)
A10: 1 | B10: สาย NYY. ขนาด 2x16 sq.mm. | D10: 20 | E10: ม. | F10: 150 | G10: =D10*F10 -> 3000 | H10: 20 | I10: =D10*H10 -> 400 | J10: =SUM(G10,I10) -> 3400
A11: 2 | B11: สาย VCT. ขนาด 2x1.5 sq.mm. | D11: 15 | E11: ม. | F11: 15 | G11: =D11*F11 -> 225 | H11: 10 | I11: =D11*H11 -> 150 | J11: =SUM(G11,I11) -> 375
A12: 3 | B12: สะพานไฟ ขนาด 100 A. พร้อมระบบกราวด์ | D12: 1 | E12: ชุด | F12: 550 | G12: =D12*F12 -> 550 | H12: 150 | I12: =D12*H12 -> 150 | J12: =SUM(G12,I12) -> 700
A13: 4 | B13: ตู้พลาสติกกันฝน ขนาด 300x280x130 มม. | D13: 1 | E13: ชุด | F13: 350 | G13: =D13*F13 -> 350 | H13: 50 | I13: =D13*H13 -> 50 | J13: =SUM(G13,I13) -> 400
A14: 5 | B14: ข้อต่อกันน้ำ(หัวงูเห่า) | D14: 1 | E14: อัน | F14: 150 | G14: =D14*F14 -> 150 | H14: 0 | I14: =D14*H14 -> 0 | J14: =SUM(G14,I14) -> 150
A15: 6 | B15: ตู้เหล็กกันน้ำมีหลังคา(ใส่ตู้ปรับแรงดันเพิ่มไฟฟ้า)ฝา2ชั้น | D15: 0 | E15: ตู้ | F15: 6219 | G15: =D15*F15 -> 0 | H15: 350 | I15: =D15*H15 -> 0 | J15: =SUM(G15,I15) -> 0
B16: ขนาด 640 x 920 x 250 มม.
A17: 7 | B17: คัตเอาท์หลังเต่า 2P 60A | D17: 0 | E17: ตัว | F17: 440 | G17: =D17*F17 -> 0 | H17: 150 | I17: =D17*H17 -> 0 | J17: =SUM(G17,I17) -> 0
A18: 7 | B18: ท่อ PVC. ร้อยสายไฟ(สีเหลือง) dia 3/4" | D18: 15 | E18: เมตร | F18: 8.5 | G18: =D18*F18 -> 127.5 | H18: 10 | I18: =D18*H18 -> 150 | J18: =SUM(G18,I18) -> 277.5
A19: 8 | B19: เสา คสล. ขนาด 5 นิ้ว ยาว 4 เมตร | D19: 1 | E19: ต้น | F19: 600 | G19: =D19*F19 -> 600 | H19: 250 | I19: =D19*H19 -> 250 | J19: =SUM(G19,I19) -> 850
A20: 9 | B20: ท่อร้อยสายไฟ HDPE. ขนาด 40 มม. | D20: 20 | E20: เมตร | F20: 35 | G20: =D20*F20 -> 700 | H20: 20 | I20: =D20*H20 -> 400 | J20: =SUM(G20,I20) -> 1100
A21: 10 | B21: เครื่องปรับแรงดันไฟฟ้าอัตโนมัติ . | D21: 0 | E21: ชุด | F21: 18500 | G21: =D21*F21 -> 0 | H21: 350 | I21: =D21*H21 -> 0 | J21: =SUM(G21,I21) -> 0
B22: ขนาด 15 KVA
C25: รวมเงิน | G25: =SUM(G10:G22) -> 5702.5 | I25: =SUM(I10:I22) -> 1550 | J25: =SUM(G25,I25) -> 7252.5 | N25: =SUM(J10:J22) -> 7252.5 | O25: =G25*0.2 -> 1140.5
C26: คิดเป็นเงินค่างาน | J26: =J25 -> 7252.5

Sheet บ่อบาดาล 
A1: ชื่อโครงการ............................ | C1: =ปร.5!E6 -> ก่อสร้างระบบประปาหมู่บ้าน (ปากน้ำ 3)
A2: งานก่อสร้าง............................................ | C2: บ่อบาดาล PVC. ขนาด ฦ ๖ นิ้ว ความลึก 10๐ เมตร
A3: =ปร.5!B7 -> สถานที่ก่อสร้าง บ้านปากน้ำ หมู่ที่ ๑3 ตำบลทุ่งหลวง อำเภอเวียงสระ จังหวัดสุราษฎร์ธานี
A4: =ปร.5!B9 -> เจ้าของโครงการ เทศบาลตำบลทุ่งหลวง
A5: =ปร.5!B10 -> 0 | H5: =ปร.5!J10 -> เมื่อวันที่ 1 ธันวาคม 2568
K6: หน่วย : บาท
A7: ลำดับ | B7: รายการ | D7: จำนวนหน่วย | F7: ค่าวัสดุ | H7: ค่าแรงงาน | J7: ค่าวัสดุและ | K7: หมายเหตุ
A8: ที่ | F8: ราคาต่อหน่วย | G8: เป็นเงิน | H8: ราคาต่อหน่วย | I8: เป็นเงิน | J8: ค่าแรงงาน
A9: 1 | B9: ท่อกรุบ่อ PVC. ยาว 4.00 ม. ชั้น 13.5 dia 6" | D9: 20 | E9: ท่อน | F9: 2299.07 | G9: =IF(F9="-","-",D9*F9) -> 45981.4 | H9: - | I9: =IF(H9="-","-",H9*D9) -> - | J9: =SUM(G9,I9) -> 45981.4 | L9: สฎ
A10: 2 | B10: ท่อเซาะร่องกรองน้ำ PVC. ยาว 4.00 ม. ชั้น 13.5 dia 6" | D10: 4 | E10: ท่อน | F10: 2499.07 | G10: =IF(F10="-","-",D10*F10) -> 9996.28 | H10: - | I10: =IF(H10="-","-",H10*D10) -> - | J10: =SUM(G10,I10) -> 9996.28 | L10: สฎ+200
A11: 3 | B11: ท่อตกตะกอน PVC. ยาว 4.00 ม. ชั้น 13.5 dia 6" | D11: 1 | E11: ท่อน | F11: =F9 -> 2299.07 | G11: =IF(F11="-","-",D11*F11) -> 2299.07 | H11: - | I11: =IF(H11="-","-",H11*D11) -> - | J11: =SUM(G11,I11) -> 2299.07 | L11: สฎ
A12: 4 | B12: กรวดกรองน้ำ ขนาด 1/4" - 3/8" | D12: 0.8 | E12: ลบ.ม. | F12: 4000 | G12: =IF(F12="-","-",D12*F12) -> 3200 | H12: 450 | I12: =IF(H12="-","-",H12*D12) -> 360 | J12: =SUM(G12,I12) -> 3560 | L12: 0
A13: 5 | B13: โคลนวิทยาศาสตร์ | D13: 5 | E13: กระสอบ | F13: 1000 | G13: =D13*F13 -> 5000 | H13: - | I13: =IF(H13="-","-",H13*D13) -> - | J13: =SUM(G13,I13) -> 5000 | L13: 0
A14: 6 | B14: น้ำมันเชื้อเพลิง(โซล่า) | D14: 0 | E14: ลิตร | F14: 27 | G14: =D14*F14 -> 0 | H14: - | I14: =IF(H14="-","-",H14*D14) -> - | J14: =SUM(G14,I14) -> 0
A15: 7 | B15: ค่าแรงเจาะบ่อบาดาล | D15: 100 | E15: ม. | F15: - | G15: =IF(F15="-","-",D15*F15) -> - | H15: 1200 | I15: =D15*H15 -> 120000 | J15: =SUM(G15,I15) -> 120000 | L15: 0
A16: 8 | B16: ค่าเป่าล้างบ่อบาดาล | D16: 1 | E16: รายการ | F16: - | G16: =IF(F16="-","-",D16*F16) -> - | H16: 5000 | I16: =D16*H16 -> 5000 | J16: =SUM(G16,I16) -> 5000 | L16: 0
A17: 9 | B17: ค่าทดสอบปริมาณน้ำ และวิเคราะห์คุณภาพน้ำดิบ | D17: 1 | E17: รายการ | F17: - | G17: =IF(F17="-","-",D17*F17) -> - | H17: 12000 | I17: =D17*H17 -> 12000 | J17: =SUM(G17,I17) -> 12000 | L17: 0
A18: 10 | B18: เทชานบ่อ คสล. ขนาด 2.00 x 2.00 x 0.10 ม. | D18: 0.4 | E18: ลบ.ม. | F18: 2411.21 | G18: =D18*F18 -> 964.484 | H18: 329 | I18: =D18*H18 -> 131.6 | J18: =SUM(G18,I18) -> 1096.084 | L18: สฎ
A19: 11 | B19: น้ำยาเชื่อมท่อ PVC. ขนาด 500 กรัม | D19: 2 | E19: กระป่อง | F19: 285.52 | G19: =D19*F19 -> 571.04 | H19: - | I19: =IF(H19="-","-",H19*D19) -> - | J19: =SUM(G19,I19) -> 571.04 | L19: กบ
A20: 12 | B20: สกรูเกลียวปล่อย dia 1.5 หุน | D20: 1 | E20: กล่อง | F20: 250 | G20: =D20*F20 -> 250 | H20: - | I20: =IF(H20="-","-",H20*D20) -> - | J20: =SUM(G20,I20) -> 250 | L20: 0
A21: 13 | B21: คอนกรีต 1 : 2 : 4 | D21: 0.05 | E21: ลบ.ม. | F21: =F18 -> 2411.21 | G21: =D21*F21 -> 120.5605 | H21: 329 | I21: =D21*H21 -> 16.45 | J21: =SUM(G21,I21) -> 137.0105 | L21: สฎ
A22: 14 | B22: ดินเหนียวแห้งหรืออิฐดิบ ทุบละเอียดขนาดเล็กกว่า 1 ซม. | D22: 2 | E22: ลบ.ม. | F22: 1000 | G22: =D22*F22 -> 2000 | H22: - | I22: =IF(H22="-","-",H22*D22) -> - | J22: =SUM(G22,I22) -> 2000 | L22: 0
A23: 14 | B23: เหล็กเส้นกลมผิวเรียบ ขนาด ศก .6 มม. | D23: 8.88 | E23: กก. | F23: 23.13 | G23: =D23*F23 -> 205.3944 | H23: 4.9 | I23: =IF(H23="-","-",H23*D23) -> 43.512 | J23: =SUM(G23,I23)-0.01 -> 248.8964 | L23: สฎ
C24: รวมเงิน | G24: =SUM(G9:G23)-0.01 -> 70588.219 | I24: =SUM(I9:I23) -> 137551.56 | J24: =SUM(J9:J23) -> 208139.78
C25: คิดเป็นเงินค่างาน | J25: =J24 -> 208139.78 | M25: =J25/D15 -> 2081.3978

Sheet สบน.10-1007
A1: ชื่อโครงการ............................ | C1: =ปร.5!E6 -> ก่อสร้างระบบประปาหมู่บ้าน (ปากน้ำ 3)
A2: งานก่อสร้าง............................................ | C2: ถังกรองสนิมเหล็ก ขนาด ๗ ลบ.ม./ชม.
A3: =ปร.5!B7 -> สถานที่ก่อสร้าง บ้านปากน้ำ หมู่ที่ ๑3 ตำบลทุ่งหลวง อำเภอเวียงสระ จังหวัดสุราษฎร์ธานี
A4: =ปร.5!B9 -> เจ้าของโครงการ เทศบาลตำบลทุ่งหลวง
A5: =ปร.5!B10 -> 0 | H5: =ปร.5!J10 -> เมื่อวันที่ 1 ธันวาคม 2568
K6: หน่วย : บาท
A7: ลำดับ | B7: รายการ | D7: จำนวนหน่วย | F7: ค่าวัสดุ | H7: ค่าแรงงาน | J7: ค่าวัสดุและ | K7: หมายเหตุ
A8: ที่ | F8: ราคาต่อหน่วย | G8: เป็นเงิน | H8: ราคาต่อหน่วย | I8: เป็นเงิน | J8: ค่าแรงงาน
B9: 1. งานดิน
A10: 1.1 | B10: ขุดดิน ถมดิน | D10: 0.54 | E10: ลบ.ม. | G10: =IF(F10="-","-",D10*F10) -> 0 | H10: 181 | I10: =IF(H10="-","-",H10*D10) -> 97.74 | J10: =SUM(G10,I10) -> 97.74
B11: 2. งานแบบหล่อ
A12: 2.1 | B12: ไม้แบบหล่อคอนกรีตทั่วไป 80 % พร้อมไม้คร่าว | D12: 1.97 | E12: ตร.ม. | F12: 600 | G12: =IF(F12="-","-",D12*F12) -> 1182 | H12: 163 | I12: =IF(H12="-","-",H12*D12) -> 321.11 | J12: =SUM(G12,I12) -> 1503.11 | L12: สฎ
A13: 2.2 | B13: ตะปู | D13: 1.5 | E13: กก. | F13: 46.73 | G13: =IF(F13="-","-",D13*F13) -> 70.095 | H13: - | I13: =IF(H13="-","-",H13*D13) -> - | J13: =SUM(G13,I13) -> 70.095 | L13: สฎ
B14: 3. งานคอนกรีต
A15: 3.1 | B15: คอนกรีต 1 : 2 : 4 | D15: 0.45 | E15: ลบ.ม. | F15: 2411.21 | G15: =IF(F15="-","-",D15*F15) -> 1085.0445 | H15: 329 | I15: =IF(H15="-","-",H15*D15) -> 148.05 | J15: =SUM(G15,I15) -> 1233.0945 | L15: สฎ
B16: 4. งานเหล็ก
A17: 4.1 | B17: เหล็กเส้นกลม dia. 9 มม. (4.99 กก./เส้น) | D17: 0.034 | E17: ตัน | F17: 23.13 | G17: =IF(F17="-","-",D17*F17) -> 0.78642 | H17: 4.9 | I17: =IF(H17="-","-",H17*D17) -> 0.1666 | J17: =SUM(G17,I17)+0.01 -> 0.96302 | L17: สฎ
A18: 4.2 | B18: ลวดผูกเหล็ก No 18 | D18: 0.6 | E18: กก. | F18: 37.58 | G18: =IF(F18="-","-",D18*F18) -> 22.548 | H18: - | I18: =IF(H18="-","-",H18*D18) -> - | J18: =SUM(G18,I18) -> 22.548 | L18: สฎ
B19: 5. งานอื่นๆ
A20: 5.1 | B20: ถังกรองสนิมเหล็ก ขนาด 7 ลบ.ม./ชม. | D20: 1 | E20: ชุด | F20: 45000 | G20: =IF(F20="-","-",D20*F20) -> 45000 | I20: =IF(H20="-","-",H20*D20) -> 0 | J20: =SUM(G20,I20) -> 45000 | K20: พร้อมวัสดุ | L20: 0
B21: (30 กล./ชม.) | K21: อุปกรณ์
B22: อุปกรณ์ระบบท่อน้ำภายนอกถังกรองสนิมเหล็ก
B23: ท่อเหล็กอาบสังกะสี+ข้อต่อยาว6ม. dia 2 1/2" | D23: 1 | E23: ท่อน | F23: 929.91 | G23: =IF(F23="-","-",D23*F23) -> 929.91 | H23: 138 | I23: =IF(H23="-","-",H23*D23) -> 138 | J23: =SUM(G23,I23) -> 1067.91 | L23: นศ
B24: ข้อต่อยีโบลท์ ขนาด dia 2 1/2" | E24: อัน | F24: 150 | G24: =IF(F24="-","-",D24*F24) -> 0 | J24: =SUM(G24,I24) -> 0
B25: ข้องอฉากเหล็ก ขนาด dia 2 1/2" | D25: 6 | E25: อัน | F25: 145 | G25: =IF(F25="-","-",D25*F25) -> 870 | J25: =SUM(G25,I25) -> 870 | L25: 0
B26: ประตูน้ำแบบบอลล์วาล์ว ขนาด dia 2 1/2" | D26: 5 | E26: ชุด | F26: 1500 | G26: =IF(F26="-","-",D26*F26) -> 7500 | H26: 513 | I26: =IF(H26="-","-",H26*D26) -> 2565 | J26: =SUM(G26,I26) -> 10065 | L26: 0
B27: ยูเนี่ยนเหล็ก ขนาด dia 2 1/2" | D27: 3 | E27: อัน | F27: 180 | G27: =IF(F27="-","-",D27*F27) -> 540 | J27: =SUM(G27,I27) -> 540 | L27: 0
B28: นิปเปิ้ลเหล็ก ขนาด dia 2 1/2" | D28: 11 | E28: อัน | F28: 50 | G28: =IF(F28="-","-",D28*F28) -> 550 | J28: =SUM(G28,I28) -> 550 | L28: 0
B29: ข้อต่อสามทางเหล็ก ขนาด 65X65X65 มิลลิเมตร | D29: 4 | E29: อัน | F29: 200 | G29: =IF(F29="-","-",D29*F29) -> 800 | J29: =SUM(G29,I29) -> 800 | L29: 0
B30: อุปกรณ์อื่นๆ | D30: 1 | E30: งาน | F30: 300 | G30: =IF(F30="-","-",D30*F30) -> 300 | J30: =SUM(G30,I30) -> 300
C31: รวมเงิน | G31: =SUM(G10:G30)+0.01 -> 58850.394 | I31: =SUM(I10:I29) -> 3270.0666 | J31: =SUM(J10:J30) -> 62120.461
C32: คิดเป็นเงินค่างาน | J32: =J31 -> 62120.461

Sheet สบจ.10-2015
A1: ชื่อโครงการ............................ | C1: =ปร.5!E6 -> ก่อสร้างระบบประปาหมู่บ้าน (ปากน้ำ 3)
A2: งานก่อสร้าง............................................ | C2: หอถังสูงเหล็ก ทรงรูปถ้วยเชมเปญ ขนาด ๑๕ ลบ.ม. สูง ๒๐ ม.
A3: =ปร.5!B7 -> สถานที่ก่อสร้าง บ้านปากน้ำ หมู่ที่ ๑3 ตำบลทุ่งหลวง อำเภอเวียงสระ จังหวัดสุราษฎร์ธานี
A4: =ปร.5!B9 -> เจ้าของโครงการ เทศบาลตำบลทุ่งหลวง
A5: =ปร.5!B10 -> 0 | H5: =ปร.5!J10 -> เมื่อวันที่ 1 ธันวาคม 2568
K6: หน่วย : บาท
A7: ลำดับ | B7: รายการ | D7: จำนวนหน่วย | F7: ค่าวัสดุ | H7: ค่าแรงงาน | J7: ค่าวัสดุและ | K7: หมายเหตุ
A8: ที่ | F8: ราคาต่อหน่วย | G8: เป็นเงิน | H8: ราคาต่อหน่วย | I8: เป็นเงิน | J8: ค่าแรงงาน
B9: 1. งานดิน
A10: 1.1 | B10: ขุดดิน | D10: 15.36 | E10: ลบ.ม. | F10: - | G10: =IF(F10="-","-",D10*F10) -> - | H10: 181 | I10: =IF(H10="-","-",H10*D10) -> 2780.16 | J10: =SUM(G10,I10) -> 2780.16
A11: 1.2 | B11: ทรายหยาบ | D11: 2.21 | E11: ลบ.ม. | F11: 551.41 | G11: =IF(F11="-","-",D11*F11) -> 1218.6161 | H11: 112 | I11: =IF(H11="-","-",H11*D11) -> 247.52 | J11: =SUM(G11,I11) -> 1466.1361 | L11: สฎ
B12: 2. งานแบบหล่อ
A13: 2.1 | B13: ไม้แบบหล่อคอนกรีตทั่วไป 80 % พร้อมไม้คร่าว | D13: 14.22 | E13: ตร.ม. | F13: 600 | G13: =IF(F13="-","-",D13*F13) -> 8532 | H13: 163 | I13: =IF(H13="-","-",H13*D13) -> 2317.86 | J13: =SUM(G13,I13) -> 10849.86 | L13: สฎ
A14: 2.2 | B14: ตะปู | D14: =D13/4 -> 3.555 | E14: กก. | F14: 46.73 | G14: =IF(F14="-","-",D14*F14)+0.23 -> 166.35515 | H14: - | I14: =IF(H14="-","-",H14*D14) -> - | J14: =SUM(G14,I14) -> 166.35515 | L14: สฎ
B15: 3. งานคอนกรีต
A16: 3.1 | B16: คอนกรีต 1 : 3 : 5 | D16: 1.02 | E16: ลบ.ม. | F16: 2242.99 | G16: =IF(F16="-","-",D16*F16) -> 2287.8498 | H16: 427 | I16: =IF(H16="-","-",H16*D16) -> 435.54 | J16: =SUM(G16,I16) -> 2723.3898 | L16: สฎ 180
A17: 3.2 | B17: คอนกรีต 1 : 2 : 4 (ซีเมนต์ไม่น้อยกว่า 240 กก/ลบ.ม.) | D17: 5.03 | E17: ลบ.ม. | F17: 2411.21 | G17: =IF(F17="-","-",D17*F17) -> 12128.386 | H17: 329 | I17: =IF(H17="-","-",H17*D17) -> 1654.87 | J17: =SUM(G17,I17) -> 13783.256 | L17: สฎ 240
B18: 4. งานเหล็ก
A19: 4.1 | B19: เหล็กเส้นกลม dia. 12 มม. (8.88 กก./เส้น) | D19: 161 | E19: กก. | F19: 23.99 | G19: =IF(F19="-","-",D19*F19) -> 3862.39 | H19: 3.9 | I19: =IF(H19="-","-",H19*D19) -> 627.9 | J19: =SUM(G19,I19) -> 4490.29 | L19: สฎ
A20: 4.2 | B20: เหล็กเส้นกลม dia. 15 มม. (13.87 กก./เส้น) | D20: 142 | E20: กก. | F20: 21.95 | G20: =IF(F20="-","-",D20*F20) -> 3116.9 | H20: 3.9 | I20: =IF(H20="-","-",H20*D20) -> 553.8 | J20: =SUM(G20,I20) -> 3670.7 | L20: สฎ
A21: 4.2 | B21: ลวดผูกเหล็ก No 18 | D21: =(D19+D20)*30/1000 -> 9.09 | E21: กก. | F21: 37.58 | G21: =IF(F21="-","-",D21*F21) -> 341.6022 | H21: - | I21: =IF(H21="-","-",H21*D21) -> - | J21: =SUM(G21,I21) -> 341.6022 | L21: สฎ
B22: 5. ระบบท่อและอุปกรณ์
A23: 5.1 | B23: ท่อเหล็กอาบสังกะสี+ข้อต่อยาว6ม. dia 3" | D23: 1 | E23: ท่อน | F23: 1722.5 | G23: =IF(F23="-","-",D23*F23) -> 1722.5 | H23: 179 | I23: =IF(H23="-","-",H23*D23) -> 179 | J23: =SUM(G23,I23) -> 1901.5 | L23: 0
A24: 5.2 | B24: ท่อเหล็กอาบสังกะสี+ข้อต่อยาว6ม. dia 2" | D24: 0.5 | E24: ท่อน | F24: 706.54 | G24: =IF(F24="-","-",D24*F24) -> 353.27 | H24: 113 | I24: =IF(H24="-","-",H24*D24) -> 56.5 | J24: =SUM(G24,I24) -> 409.77 | L24: นศ
A25: 5.3 | B25: ท่อเหล็กอาบสังกะสี+ข้อต่อยาว6ม. dia 1/2" | D25: 0.5 | E25: ท่อน | F25: 215.89 | G25: =IF(F25="-","-",D25*F25) -> 107.945 | H25: 31 | I25: =IF(H25="-","-",H25*D25) -> 15.5 | J25: =SUM(G25,I25) -> 123.445 | L25: นศ
A26: 5.4 | B26: ท่อน้ำเข้าถัง PVC. ชั้น 13.5 ยาว 4 ม. dia 2" | D26: 5 | E26: ท่อน | F26: 291.59 | G26: =IF(F26="-","-",D26*F26) -> 1457.95 | H26: 41 | I26: =IF(H26="-","-",H26*D26) -> 205 | J26: =SUM(G26,I26) -> 1662.95 | L26: สฎ
A27: 5.5 | B27: ท่อน้ำล้น PVC. ชั้น 13.5 ยาว 4 ม. dia 2" | D27: 5 | E27: ท่อน | F27: 291.59 | G27: =IF(F27="-","-",D27*F27) -> 1457.95 | H27: 41 | I27: =IF(H27="-","-",H27*D27) -> 205 | J27: =SUM(G27,I27) -> 1662.95 | L27: สฎ
A28: 5.6 | B28: ข้องอ 90 เหล็กอาบสังกะสี dia. 3" | D28: 2 | E28: ตัว | F28: 216 | G28: =IF(F28="-","-",D28*F28) -> 432 | J28: =SUM(G28,I28) -> 432 | L28: 0
A29: 5.7 | B29: ข้องอ 90 เหล็กอาบสังกะสี dia. 2" | D29: 4 | E29: ตัว | F29: 80 | G29: =IF(F29="-","-",D29*F29) -> 320 | J29: =SUM(G29,I29) -> 320 | L29: 0
A30: 5.8 | B30: ข้องอ 90 เหล็กอาบสังกะสี dia. 1/2" | E30: ตัว | F30: 11 | G30: =IF(F30="-","-",D30*F30) -> 0 | J30: =SUM(G30,I30) -> 0
A31: 5.9 | B31: สามทาง เหล็กอาบสังกะสี dia. 2" | E31: ตัว | F31: 175 | G31: =IF(F31="-","-",D31*F31) -> 0 | J31: =SUM(G31,I31) -> 0
A32: 5.1 | B32: สามทาง เหล็กอาบสังกะสี dia. 1/2" | D32: 1 | E32: ตัว | F32: 17.76 | G32: =IF(F32="-","-",D32*F32) -> 17.76 | J32: =SUM(G32,I32) -> 17.76 | L32: สฎ
A33: 5.11 | B33: ข้อต่อเกลียวนอก PVC. dia. 3" ชั้น 13.5 | D33: 0 | E33: ตัว | F33: 37 | G33: =IF(F33="-","-",D33*F33) -> 0 | I33: 1500 | J33: =SUM(G33,I33) -> 1500
A34: 5.12 | B34: ข้อต่อเกลียวนอก PVC. dia. 2" ชั้น 13.5 | D34: 0 | E34: ตัว | F34: 14 | G34: =IF(F34="-","-",D34*F34) -> 0 | J34: =SUM(G34,I34) -> 0
A35: 5.13 | B35: ประตูน้ำทองเหลือง dia. 1/2" | D35: 1 | E35: ชุด | F35: 141 | G35: =IF(F35="-","-",D35*F35) -> 141 | J35: =SUM(G35,I35) -> 141 | L35: 0
A36: 5.14 | B36: เทปพันเกลียว | D36: 10 | E36: ม้วน | F36: 30 | G36: =IF(F36="-","-",D36*F36) -> 300 | J36: =SUM(G36,I36) -> 300 | L36: 0
C37: รวมยอดยกไป | G37: =SUM(G10:G36)+0.02 -> 37964.495 | I37: =SUM(I10:I36) -> 10778.65 | J37: =SUM(J10:J36)+0.02 -> 48743.145
C38: รวมยอดยกมา | G38: =G37 -> 37964.495 | I38: =I37 -> 10778.65 | J38: =SUM(G38,I38) -> 48743.145
A39: 5.15 | B39: ประตูน้ำทองเหลือง dia. 3" | D39: 1 | E39: ชุด | F39: 2414 | G39: =IF(F39="-","-",D39*F39) -> 2414 | J39: =SUM(G39,I39) -> 2414 | L39: 0 | M39: =SUM(G34:G39) -> 78783.989 | N39: =M39*0.2 -> 15756.798
A40: 5.16 | B40: ประตูน้ำทองเหลือง dia. 2" | D40: 1 | E40: ชุด | F40: 796 | G40: =IF(F40="-","-",D40*F40) -> 796 | J40: =SUM(G40,I40) -> 796 | L40: 0 | M40: =SUM(G35:G40) -> 79579.989 | N40: =M40*0.2 -> 15915.998
A41: 5.17 | B41: เพรชเชอร์สวิทซ์ พร้อมเกย์วัดแรงดัน | D41: 1 | E41: ชุด | F41: 3500 | G41: =IF(F41="-","-",D41*F41) -> 3500 | H41: 250 | I41: =IF(H41="-","-",H41*D41) -> 250 | J41: =SUM(G41,I41) -> 3750 | L41: 0
A42: 5.18 | B42: นิปเปิ้ลเหล็กอาบสังกะสี dia. 3" | D42: 2 | E42: ชุด | F42: 276 | G42: =IF(F42="-","-",D42*F42) -> 552 | J42: =SUM(G42,I42) -> 552 | L42: 0
A43: 5.19 | B43: นิปเปิ้ลเหล็กอาบสังกะสี dia. 2" | D43: 2 | E43: ชุด | F43: 88 | G43: =IF(F43="-","-",D43*F43) -> 176 | J43: =SUM(G43,I43) -> 176 | L43: 0
A44: 5.2 | B44: นิปเปิ้ลเหล็กอาบสังกะสี dia. 1/2" | D44: 2 | E44: ชุด | F44: 16 | G44: =IF(F44="-","-",D44*F44) -> 32 | J44: =SUM(G44,I44) -> 32 | L44: 0
A45: 5.21 | B45: ยูเนียนเหล็กอาบสังกะสี dia 1/2"x1/4" | E45: ชุด | F45: 684 | G45: =IF(F45="-","-",D45*F45) -> 0 | J45: =SUM(G45,I45) -> 0
A46: 5.22 | B46: ยูเนียนเหล็กอาบสังกะสี dia 2" | D46: 1 | E46: ชุด | F46: 276 | G46: =IF(F46="-","-",D46*F46) -> 276 | J46: =SUM(G46,I46) -> 276 | L46: 0
A47: 5.23 | B47: ยูเนียนเหล็กอาบสังกะสี dia 3" | D47: 1 | E47: ชุด | F47: 300 | G47: =IF(F47="-","-",D47*F47) -> 300 | J47: =SUM(G47,I47) -> 300 | L47: 0
A48: 5.24 | B48: เช็ควาล์วทองเหลือง dia 2" | D48: 1 | E48: ตัว | F48: 450 | G48: =IF(F48="-","-",D48*F48) -> 450 | J48: =SUM(G48,I48) -> 450 | L48: 0
A49: 5.25 | B49: อุปกรณ์อื่นๆ | D49: 1 | E49: งาน | F49: 500 | G49: =IF(F49="-","-",D49*F49) -> 500 | J49: =SUM(G49,I49) -> 500
B50: 6. งานปูนฉาบ, ตบแต่ง
A51: 6.1 | B51: ='[3]งานผิวผนัง-ผิวพื้น'!$B$2 -> ฉาบปูนเรียบธรรมดา | D51: 1.88 | E51: ตร.ม. | F51: 55 | G51: =IF(F51="-","-",D51*F51) -> 103.4 | H51: 96 | I51: =IF(H51="-","-",H51*D51) -> 180.48 | J51: =SUM(G51,I51) -> 283.88 | L51: 0
B52: 7. งานทาสี
A53: 7.1 | B53: =[3]งานทาสี!$B$2 -> ทาสีน้ำพลาสติก | D53: 1.26 | E53: ตร.ม. | F53: 35 | G53: =IF(F53="-","-",D53*F53) -> 44.1 | H53: 35 | I53: =IF(H53="-","-",H53*D53) -> 44.1 | J53: =SUM(G53,I53) -> 88.2 | L53: 0
A54: 7.2 | B54: =[3]งานทาสี!$B$3 -> ทาสีน้ำมัน | D54: 2 | E54: ตร.ม. | F54: 45 | G54: =IF(F54="-","-",D54*F54) -> 90 | H54: 39 | I54: =IF(H54="-","-",H54*D54) -> 78 | J54: =SUM(G54,I54) -> 168 | L54: 0
B55: 8. งานฐานราก
A56: 8.1 | B56: เสาเข็ม คอร. ขนาด [/] 0.20 x 0.20 x 6.00 ม. | D56: 16 | E56: ต้น | F56: 1200 | G56: =IF(F56="-","-",D56*F56) -> 19200 | H56: 420 | I56: =IF(H56="-","-",H56*D56) -> 6720 | J56: =SUM(G56,I56) -> 25920 | M56: =2056*6/10 -> 1233.6 | N56: จ.สุราษฎร์ธานี
B57: รับน้ำหนักบรรทุกได้ไม่น้อยกว่า 4.0 ตัน/ต้น | M57: =1937*6/10 -> 1162.2 | N57: จ.ชุมพร
A58: 8.2 | B58: สกัดหัวเสาเข็ม คอร. | D58: 16 | E58: ต้น | G58: =IF(F58="-","-",D58*F58) -> 0 | H58: 180 | I58: =IF(H58="-","-",H58*D58) -> 2880 | J58: =SUM(G58,I58) -> 2880
A59: 8.3 | B59: ค่าเคลื่อนย้ายปั้นจั่น | D59: 1 | E59: เหมา | H59: 10000 | I59: =IF(H59="-","-",H59*D59) -> 10000 | J59: =SUM(G59,I59) -> 10000
B60: 9. งานอื่นๆ
A61: 9.1 | B61: หอถังเหล็ก ทรงรูปถ้วยเชมเปญ ขนาด 15 ลบ.ม. สูง 20 ม. | D61: 1 | E61: ชุด | F61: 220000 | G61: =IF(F61="-","-",D61*F61) -> 220000 | H61: 0 | I61: =IF(H61="-","-",H61*D61) -> 0 | J61: =SUM(G61,I61) -> 220000 | L61: 0
A62: 9.2 | B62: เสาล่อฟ้าและอุปกรณ์พร้อมติดตั้ง | D62: 1 | E62: ชุด | F62: 2500 | G62: =IF(F62="-","-",D62*F62) -> 2500 | H62: 500 | I62: =IF(H62="-","-",H62*D62) -> 500 | J62: =SUM(G62,I62) -> 3000 | L62: 0
A63: 9.3 | B63: ตู้ควบคุมชนิดติดตั้งภายนอกมีหมวกกันฝนสาด | D63: 1 | E63: ชุด | F63: 1000 | G63: =IF(F63="-","-",D63*F63) -> 1000 | H63: 0 | I63: =IF(H63="-","-",H63*D63) -> 0 | J63: =SUM(G63,I63) -> 1000 | L63: 0
A64: 9.4 | B64: ข้อความตัวอักษรด้วยสีสะท้อนแสง | D64: 1 | E64: รายการ | F64: 1000 | G64: =IF(F64="-","-",D64*F64) -> 1000 | H64: 500 | I64: =IF(H64="-","-",H64*D64) -> 500 | J64: =SUM(G64,I64) -> 1500 | L64: 0
C66: รวมเงิน | G66: =SUM(G38:G64) -> 290897.99 | I66: =SUM(I38:I64) -> 31931.23 | J66: =SUM(J38:J64) -> 322829.22 | N66: =G66*0.2 -> 58179.599
C67: คิดเป็นเงินค่างาน | J67: =J66 -> 322829.22

Sheet ท่อส่งน้ำดิบ
A1: ชื่อโครงการ............................ | C1: =ปร.5!E6 -> ก่อสร้างระบบประปาหมู่บ้าน (ปากน้ำ 3)
A2: งานก่อสร้าง............................................ | C2: ระบบท่อส่งน้ำดิบ
A3: =ปร.5!B7 -> สถานที่ก่อสร้าง บ้านปากน้ำ หมู่ที่ ๑3 ตำบลทุ่งหลวง อำเภอเวียงสระ จังหวัดสุราษฎร์ธานี
A4: =ปร.5!B9 -> เจ้าของโครงการ เทศบาลตำบลทุ่งหลวง
A5: =ปร.5!B10 -> 0 | H5: =ปร.5!J10 -> เมื่อวันที่ 1 ธันวาคม 2568
K6: หน่วย : บาท
A7: ลำดับ | B7: รายการ | D7: จำนวนหน่วย | F7: ค่าวัสดุ | H7: ค่าแรงงาน | J7: ค่าวัสดุและ | K7: หมายเหตุ
A8: ที่ | F8: ราคาต่อหน่วย | G8: เป็นเงิน | H8: ราคาต่อหน่วย | I8: เป็นเงิน | J8: ค่าแรงงาน
B9: 1. การเดินท่อส่งน้ำดิบจากปากบ่อบาดาลไปยังที่ตั้งระบบประปา
A10: 1.1 | B10: =[1]GS.!$B$9 -> ท่อเหล็กอาบสังกะสี+ข้อต่อยาว6ม. dia 3" | D10: 0 | E10: ท่อน | F10: 2015 | G10: =IF(F10="-","-",D10*F10) -> 0 | H10: 150 | I10: =IF(H10="-","-",D10*H10) -> 0 | J10: =SUM(G10,I10) -> 0
A11: 1.2 | B11: =[1]GS.!$B$7 -> ท่อเหล็กอาบสังกะสี+ข้อต่อยาว6ม. dia 2" | D11: 1 | E11: ท่อน | F11: 706.54 | G11: =IF(F11="-","-",D11*F11) -> 706.54 | H11: 113 | I11: =IF(H11="-","-",D11*H11) -> 113 | J11: =SUM(G11,I11) -> 819.54 | M11: นศ
A12: 1.3 | B12: =[1]GS.!$B$64 -> ข้อโค้งเหล็กอาบสังกะสี 90 ม-ม dia 3" | D12: 0 | E12: ตัว | F12: 426 | G12: =IF(F12="-","-",D12*F12) -> 0 | H12: - | I12: - | J12: =SUM(G12,I12) -> 0
A13: 1.4 | B13: =[1]GS.!$B$62 -> ข้อโค้งเหล็กอาบสังกะสี 90 ม-ม dia 2" | D13: 0 | E13: ตัว | F13: 146 | G13: =IF(F13="-","-",D13*F13) -> 0 | H13: - | I13: - | J13: =SUM(G13,I13) -> 0
A14: 1.5 | B14: ท่อ PVC.ยาว 4.00 ม. ชั้น 13.5 dia 2" | E14: ท่อน | F14: 247.66 | G14: =IF(F14="-","-",D14*F14) -> 0 | H14: 41 | I14: =IF(H14="-","-",D14*H14) -> 0 | J14: =SUM(G14,I14) -> 0 | M14: =D14*6.26 -> 0
A15: 1.6 | B15: อุปกรณ์ประปา ได้แก่ น้ำยาเชื่อมท่อ,ข้องอ,ข้อโค้ง และอื่นๆ ที่จำเป็น | D15: 1 | E15: รายการ | F15: 100 | G15: =IF(F15="-","-",D15*F15) -> 100 | J15: =SUM(G15,I15) -> 100
B16: 2. เสารับท่อส่งน้ำดิบ
A17: 2.1 | B17: {='[1]อื่น ๆ'!$B$53:$B$54} -> สายยางอ่อน dia. 1/2 " | D17: 0 | E17: ม. | F17: 10 | G17: =IF(F17="-","-",D17*F17) -> 0 | H17: - | I17: - | J17: =SUM(G17,I17) -> 0
A18: 2.2 | B18: เสารับท่อส่งน้ำดิบ ด้านทางดูดน้ำ | D18: 0 | E18: ช่วง | F18: 3600 | G18: =IF(F18="-","-",D18*F18) -> 0 | H18: 1000 | I18: =IF(H18="-","-",H18*D18) -> 0 | J18: =SUM(G18,I18) -> 0
B19: 3. อุปกรณ์อื่น ๆ
A20: 3.1 | B20: ประตูน้ำระบายอากาศ ขนาด 1/2 นิ้ว | D20: 0 | E20: ชุด | F20: 1900 | G20: =IF(F20="-","-",D20*F20) -> 0 | H20: 50 | I20: =IF(H20="-","-",H20*D20) -> 0 | J20: =SUM(G20,I20) -> 0
C23: รวมเงิน | G23: =SUM(G9:G22) -> 806.54 | I23: =SUM(I9:I22) -> 113 | J23: =SUM(J9:J22) -> 919.54 | M23: =SUM(M10:M14) -> 0
C24: คิดเป็นเงินค่างาน | J24: =J23 -> 919.54

Sheet ท่อจ่ายน้ำ
A1: ชื่อโครงการ............................ | C1: =ปร.5!E6 -> ก่อสร้างระบบประปาหมู่บ้าน (ปากน้ำ 3)
A2: งานก่อสร้าง............................................ | C2: ระบบท่อจ่ายน้ำประปา
A3: =ปร.5!B7 -> สถานที่ก่อสร้าง บ้านปากน้ำ หมู่ที่ ๑3 ตำบลทุ่งหลวง อำเภอเวียงสระ จังหวัดสุราษฎร์ธานี
A4: =ปร.5!B9 -> เจ้าของโครงการ เทศบาลตำบลทุ่งหลวง
H5: =ปร.5!J10 -> เมื่อวันที่ 1 ธันวาคม 2568
K6: หน่วย : บาท
A7: ลำดับ | B7: รายการ | D7: จำนวนหน่วย | F7: ค่าวัสดุ | H7: ค่าแรงงาน | J7: ค่าวัสดุและ | K7: หมายเหตุ
A8: ที่ | F8: ราคาต่อหน่วย | G8: เป็นเงิน | H8: ราคาต่อหน่วย | I8: เป็นเงิน | J8: ค่าแรงงาน
A9: 1 | B9: ท่อ PVC. ยาว 4.00 ม. ชั้น 8.5 dia 4" | D9: 0 | E9: ท่อน | F9: 598 | G9: =IF(F9="-","-",D9*F9) -> 0 | H9: 160 | I9: =IF(H9="-","-",H9*D9) -> 0 | J9: =SUM(G9,I9) -> 0 | L9: =D9*10.17 -> 0
A10: 2 | B10: ท่อ PVC. ยาว 4.00 ม. ชั้น 8.5 dia 3" | D10: 0 | E10: ท่อน | F10: 369 | G10: =IF(F10="-","-",D10*F10) -> 0 | H10: 120 | I10: =IF(H10="-","-",H10*D10) -> 0 | J10: =SUM(G10,I10) -> 0 | L10: =D10*6.26 -> 0
A11: 3 | B11: ท่อ PVC. ยาว 4.00 ม. ชั้น 8.5 dia 2" | D11: 25 | E11: ท่อน | F11: 161.68 | G11: =IF(F11="-","-",D11*F11) -> 4042 | H11: 41 | I11: =IF(H11="-","-",H11*D11) -> 1025 | J11: =SUM(G11,I11) -> 5067 | L11: =D11*2.98 -> 74.5 | M11: นศ
A12: 4 | B12: น้ำยาเชื่อมท่อ PVC. ขนาด 1,000 กรัม | D12: 1 | E12: กระป๋อง | F12: 420 | G12: =IF(F12="-","-",D12*F12) -> 420 | H12: 0 | I12: =IF(H12="-","-",H12*D12) -> 0 | J12: =SUM(G12,I12) -> 420 | L12: =D12*1 -> 1 | M12: 0
A13: 5 | B13: อุปกรณ์ประปา ได้แก่ ประตูน้ำ,ข้องอ,ข้อโค้ง และอื่นๆ ที่จำเป็น | D13: 1 | E13: รายการ | F13: =SUM(G8:G12)*0.05 -> 223.1 | G13: =IF(F13="-","-",D13*F13) -> 223.1 | H13: 0 | I13: =IF(H13="-","-",H13*D13) -> 0 | J13: =SUM(G13,I13) -> 223.1 | L13: =F13/100 -> 2.231
A14: 6 | B14: ข้อต่อลดPVC. Dia 2 1/2"ลด 2" | D14: 1 | E14: อัน | F14: 125 | G14: =IF(F14="-","-",D14*F14) -> 125 | H14: 0 | I14: =IF(H14="-","-",H14*D14) -> 0 | J14: =SUM(G14,I14) -> 125 | M14: 0
A15: 7 | B15: หน้าจานเกลียว PVC. Dia 2" | E15: อัน | F15: 120 | G15: =D15*F15 -> 0 | H15: 0 | I15: =IF(H15="-","-",H15*D15) -> 0 | J15: =SUM(G15,I15) -> 0 | L15: =D15*121.8 -> 0 | N15: =4224+691.94 -> 4915.94 | O15: =28.23*6 -> 169.38 | P15: =15000/O15 -> 88.558271 | Q15: =15000/P15 -> 169.38 | R15: บาท | S15: =N15+Q15 -> 5085.32
A16: 8 | B16: ข้อต่อเกลียวนอก PVC. Dia 2" | E16: อัน | F16: 56 | G16: =D16*F16 -> 0 | H16: 0 | I16: =D16*H16 -> 0 | J16: =SUM(G16,I16) -> 0 | L16: =D16*102.6 -> 0 | N16: =3559+534.47 -> 4093.47 | O16: =21.75*6 -> 130.5 | P16: =15000/O16 -> 114.94253 | Q16: =15000/P16 -> 130.5 | S16: =N16+Q16 -> 4223.97
A17: 9 | B17: มาตรวัดน้ำ (2ชั้น แม่เหล็ก) Dia 2" | E17: ตัว | F17: 8500 | G17: =D17*F17 -> 0 | H17: 250 | I17: =D17*H17 -> 0 | J17: =SUM(G17,I17) -> 0 | L17: =D17*75 -> 0 | N17: =2616+236.93 -> 2852.93 | O17: =16.06*6 -> 96.36 | P17: =15000/O17 -> 155.66625 | Q17: =15000/P17 -> 96.36 | S17: =N17+Q17 -> 2949.29
A18: 10 | B18: ท่อเหล็กอาบสังกะสี+ข้อต่อ ยาว6 ม. Dia 3" | E18: ท่อน | F18: 2015 | G18: =D18*F18 -> 0 | H18: 150 | I18: =D18*H18 -> 0 | J18: =SUM(G18,I18) -> 0 | L18: =D18*51.24 -> 0 | N18: =1795+144.42 -> 1939.42 | O18: =11.27*6 -> 67.62 | P18: =15000/O18 -> 221.82786 | Q18: =15000/P18 -> 67.62 | S18: =N18+Q18 -> 2007.04
A19: 11 | B19: สามทาง PVC. Dia 2" ลด 1/ 2" | D19: 2 | E19: อัน | F19: 35 | G19: =D19*F19 -> 70 | H19: 0 | I19: =D19*H19 -> 0 | J19: =SUM(G19,I19) -> 70 | L19: 0
A20: 12 | B20: ท่อเหล็กอาบสังกะสี+ข้อต่อ ยาว6 ม. Dia 2" | D20: 0 | E20: ท่อน | F20: 1213 | G20: =D20*F20 -> 0 | H20: 100 | I20: =D20*H20 -> 0 | J20: =SUM(G20,I20) -> 0 | L20: =D20*30.6 -> 0 | N20: =1120+61.19 -> 1181.19 | O20: =5.43*6 -> 32.58 | P20: =15000/O20 -> 460.40516 | Q20: =15000/P20 -> 32.58 | S20: =N20+Q20 -> 1213.77
A21: 13 | B21: สามทาง PVC. Dia 2" ชั้น 13.5 | D21: 1 | E21: อัน | F21: 50.7 | G21: =D21*F21 -> 50.7 | H21: 0 | I21: =D21*H21 -> 0 | J21: =SUM(G21,I21) -> 50.7 | L21: สฎ
A22: 14 | B22: ท่อ PVC. ยาว 4.00 ม. ชั้น 13.5 dia1/ 2" | D22: 1 | E22: ท่อน | F22: 291.59 | G22: =IF(F22="-","-",D22*F22) -> 291.59 | H22: 0 | I22: =IF(H22="-","-",H22*D22) -> 0 | J22: =SUM(G22,I22) -> 291.59 | L22: สฎ
A23: 15 | B23: ข้องอ 90 PVC. dia1/ 2" | D23: 2 | E23: อัน | F23: 4.67 | G23: =IF(F23="-","-",D23*F23) -> 9.34 | H23: 0 | I23: =IF(H23="-","-",H23*D23) -> 0 | J23: =SUM(G23,I23) -> 9.34
A24: 16 | B24: ฝาปิด PVC. dia1/ 2" | D24: 2 | E24: อัน | F24: 5 | G24: =IF(F24="-","-",D24*F24) -> 10 | H24: 0 | I24: =IF(H24="-","-",H24*D24) -> 0 | J24: =SUM(G24,I24) -> 10
A25: 17 | B25: ผ่าคอนกรีตพร้อมซ่อมแซม | E25: ม. | F25: 310 | G25: =D25*F25 -> 0 | H25: 100 | I25: =D25*H25 -> 0 | J25: =SUM(G25,I25) -> 0 | L25: =D25*121.6/6 -> 0
A26: 18 | B26: ประตูน้ำทองเหลือง dia 4" พร้อมบ่อครอบ | D26: 0 | E26: ชุด | F26: 7085 | G26: =D26*F26 -> 0 | H26: 400 | I26: =D26*H26 -> 0 | J26: =SUM(G26,I26) -> 0 | L26: =D26*40 -> 0 | N26: 4656 | O26: =0.8*2.8*(55+82+330+89) -> 1245.44 | P26: =(24*2)+(0.75*0.75*0.05*3200) -> 138 | Q26: =66+66+445+1252 -> 1829 | R26: =SUM(N26:Q26) -> 7868.44 | S26: =N26+Q26+450+150 -> 7085
A27: 19 | B27: ประตูน้ำทองเหลือง dia 3" พร้อมบ่อครอบ | D27: 0 | E27: ชุด | F27: 4422 | G27: =IF(F27="-","-",D27*F27) -> 0 | H27: 300 | I27: =D27*H27 -> 0 | J27: =SUM(G27,I27) -> 0 | L27: =D27*30 -> 0 | N27: 2796 | O27: =O26 -> 1245.44 | P27: =P26 -> 138 | Q27: =33+33+276+684 -> 1026 | R27: =SUM(N27:Q27) -> 5205.44 | S27: =N27+Q27+450+150 -> 4422
A28: 20 | B28: ประตูน้ำทองเหลือง dia 2" พร้อมบ่อครอบ | E28: ชุด | F28: 1910 | G28: =IF(F28="-","-",D28*F28) -> 0 | H28: 200 | I28: =D28*H28 -> 0 | J28: =SUM(G28,I28) -> 0 | L28: =D28*20 -> 0 | N28: 922 | O28: =O26 -> 1245.44 | P28: =P26 -> 138 | Q28: =12+12+88+276 -> 388 | R28: =SUM(N28:Q28) -> 2693.44 | S28: =N28+Q28+450+150 -> 1910
A29: 21 | B29: ประตูน้ำบอลวาล์ว dia 2" | D29: 2 | E29: ชุด | F29: 580 | G29: =IF(F29="-","-",D29*F29) -> 1160 | H29: 0 | I29: 0 | J29: =SUM(G29,I29) -> 1160 | L29: 0
A30: 22 | B30: ข้องอ 45 PVC. Dia 2" | D30: 8 | E30: อัน | F30: 35.99 | G30: =IF(F30="-","-",D30*F30) -> 287.92 | H30: 0 | I30: 0 | J30: =SUM(G30,I30) -> 287.92 | L30: งอ 90 2นิ้ว สฎ
A31: 23 | B31: เทปพันเกลียว | E31: ม้วน | F31: 30 | G31: =IF(F31="-","-",D31*F31) -> 0 | H31: 0 | I31: =D31*H31 -> 0 | J31: =SUM(G31,I31) -> 0 | L31: =D31*0.02 -> 0
A32: 24 | B32: อุปกรณ์ อื่นๆ | D32: 1 | E32: งาน | F32: 300 | G32: =IF(F32="-","-",D32*F32) -> 300 | H32: 0 | I32: 0 | J32: =SUM(G32,I32) -> 300 | L32: =D32*40 -> 40 | N32: =N26 -> 4656 | O32: 1400 | P32: =(28*1.8)+(0.8*0.8*0.15*3200) -> 357.6 | Q32: =(40*23)+(F17/5)+(28*5)+(425*5)+50+2350+650 -> 7935 | R32: =SUM(N32:Q32) -> 14348.6
C33: รวมเงิน | G33: =SUM(G9:G32) -> 6989.65 | I33: =SUM(I9:I32) -> 1025 | J33: =SUM(J9:J32) -> 8014.65 | L33: =SUM(L9:L32) -> 117.731 | M33: =G33*0.2 -> 1397.93
C34: คิดเป็นเงินค่างาน | J34: =J33 -> 8014.65 | L34: =G33+I33 -> 8014.65

Sheet เครื่องสูบน้ำบาดาล
A1: ชื่อโครงการ............................ | C1: =ปร.5!E6 -> ก่อสร้างระบบประปาหมู่บ้าน (ปากน้ำ 3)
A2: งานก่อสร้าง............................................ | C2: จัดหาและติดตั้งเครื่องสูบน้ำบาดาลพร้อมอุปกรณ์ควบคุม | I2: รายการเลขที่ | J2: 13
A3: =ปร.5!B7 -> สถานที่ก่อสร้าง บ้านปากน้ำ หมู่ที่ ๑3 ตำบลทุ่งหลวง อำเภอเวียงสระ จังหวัดสุราษฎร์ธานี | I3: แบบเลขที่ | J3: รายการฯ เฉพาะแห่ง
A4: =ปร.5!B9 -> เจ้าของโครงการ เทศบาลตำบลทุ่งหลวง
A5: =ปร.5!B10 -> 0 | H5: =ปร.5!J10 -> เมื่อวันที่ 1 ธันวาคม 2568
K6: หน่วย : บาท
A7: ลำดับ | B7: รายการ | D7: จำนวนหน่วย | F7: ค่าวัสดุ | H7: ค่าแรงงาน | J7: ค่าวัสดุและ | K7: หมายเหตุ
A8: ที่ | F8: ราคาต่อหน่วย | G8: เป็นเงิน | H8: ราคาต่อหน่วย | I8: เป็นเงิน | J8: ค่าแรงงาน
A9: 1 | B9: เครื่องสูบน้ำบาดาลแบบ submersible | D9: 1 | E9: เครื่อง | F9: 22500 | G9: =IF(F9="-","-",D9*F9) -> 22500 | H9: - | I9: =IF(H9="-","-",H9*D9) -> - | J9: =SUM(G9,I9) -> 22500
B10: ขนาด 2 แรงม้า 14 ใบพัด
C12: รวมเงิน (1) | G12: =SUM(G8:G10) -> 22500 | I12: =SUM(I8:I10) -> 0 | J12: =SUM(J8:J10) -> 22500
C13: คิดเป็นเงิน | G13: =G12 -> 22500 | I13: =I12 -> 0 | J13: =J12 -> 22500
A14: 2 | B14: ค่าแรงติดตั้งเครื่องสูบน้ำ | D14: 1 | E14: เครื่อง | F14: - | G14: =IF(F14="-","-",D14*F14) -> - | H14: 1000 | I14: =IF(H14="-","-",H14*D14) -> 1000 | J14: =SUM(G14,I14) -> 1000
A15: 3 | B15: ตู้ควบคุมเครื่องสูบน้ำบาดาล แบบ 2 ชั้น | D15: 1 | E15: ตู้ | F15: 9500 | G15: =IF(F15="-","-",D15*F15) -> 9500 | H15: 500 | I15: =IF(H15="-","-",H15*D15) -> 500 | J15: =SUM(G15,I15) -> 10000
B16: ขนาด 2 แรงม้า
A17: 4 | B17: ท่อ PVC. ยาว 4.00 ม. ชั้น 13.5 dia 2" | D17: 72 | E17: ม. | F17: 72.9 | G17: =IF(F17="-","-",D17*F17) -> 5248.8 | H17: 41 | I17: =IF(H17="-","-",H17*D17) -> 2952 | J17: =SUM(G17,I17) -> 8200.8 | L17: 291.59/4 สฎ
A18: 5 | B18: สายไฟฟ้า ชนิด VCT ขนาด 3 x 2.5 ตร.มม. | D18: 72 | E18: ม. | F18: 63 | G18: =IF(F18="-","-",D18*F18) -> 4536 | H18: 20 | I18: =IF(H18="-","-",H18*D18) -> 1440 | J18: =SUM(G18,I18) -> 5976
A19: 6 | B19: ลวดสลิงแขวนเครื่องสูบน้ำ ศก.3/8 หรือ | D19: 72 | E19: ม. | F19: 20 | G19: =IF(F19="-","-",D19*F19) -> 1440 | J19: =SUM(G19,I19) -> 1440
B20: หรือเชือก ศก. 5/8 นิ้ว
A21: 7 | B21: อุปกรณ์อื่นๆ ประสานระบบ | D21: 1 | E21: รายการ | F21: 200 | G21: =IF(F21="-","-",D21*F21) -> 200 | J21: =SUM(G21,I21) -> 200
C24: รวมเงิน (2+3+4+5) | G24: =SUM(G14:G23) -> 20924.8 | I24: =SUM(I14:I23) -> 5892 | J24: =SUM(J14:J23) -> 26816.8
C25: รวมเงิน (1+2+3+4+5) | G25: =G12+G24 -> 43424.8 | I25: =I24 -> 5892 | J25: =G25+I25 -> 49316.8
C26: คิดเป็นเงินทั้งสิ้น (1+2+3+4+5) | J26: =J25 -> 49316.8

Sheet ไฟฟ้า
A1: ประมาณราคาค่าก่อสร้าง | C1: การประสานระบบไฟฟ้า
A2: ='แบบ ปร.6'!$A$2 -> สถานที่ก่อสร้าง | F2: แบบเลขที่ | G2: รายการฯ เฉพาะแห่ง | I2: รายการเลขที่
A3: ฝ่ายประมาณราคา | C3: ='แบบ ปร.6'!$A$4 -> สำนักบริหารจัดการน้ำ กรมทรัพยากรน้ำ
A4: ประมาณการโดย | F4: เมื่อวันที่ | G4: ='แบบ ปร.6'!$C$5 -> 37950
A6: ลำดับที่ | B6: รายการ | D6: จำนวนหน่วย | F6: ค่าวัสดุ | H6: ค่าแรง | J6: ค่าวัสดุและ | K6: หมายเหตุ
F7: ราคาต่อหน่วย | G7: เป็นเงิน | H7: ราคาต่อหน่วย | I7: เป็นเงิน | J7: ค่าแรงงาน
B8: ก. ระบบไฟฟ้าภายนอก (การไฟฟ้าฯ ดำเนินการ)
A9: 1 | B9: ขยายเขตแรงต่ำ | D9: 0 | E9: รายการ | F9: 0 | G9: =IF(F9="-","-",D9*F9) -> 0 | H9: 0 | I9: =IF(H9="-","-",H9*D9) -> 0 | J9: =SUM(G9,I9) -> 0
B10: [ ] ปักเสา คอร. ยาว.....ม. (8,9 ม.) จำนวน....ต้น ระยะทาง.....ม.
B11: [ ] พาดสาย..............ม.
A12: 2 | B12: ขยายเขตแรงสูง (ภายนอก-ภายใน) | D12: 1 | E12: รายการ | F12: 0 | G12: 0 | H12: 107837 | I12: =IF(H12="-","-",H12*D12) -> 107837 | J12: =SUM(G12,I12) -> 107837
B13: [ ] ปักเสา คอร. ยาว....ม. (12,14 ม.) จำนวน....ต้น ระยะทาง.....ม.
B14: [ ] ติดตั้งหม้อแปลง 1 เฟส ขนาด.........KVA.
B15: [ ] ติดตั้งหม้อแปลง 3 เฟส ขนาด.........KVA.
B16: [ ] แผนกคาปาชิเตอร์
A17: 3 | B17: ติดตั้งมิเตอร์ขนาด 1 เฟส 10 แอมป์ | D17: 1 | E17: รายการ | F17: 0 | G17: =IF(F17="-","-",D17*F17) -> 0 | H17: 4658 | I17: =IF(H17="-","-",H17*D17) -> 4658 | J17: =SUM(G17,I17) -> 4658
C22: รวมเงิน | G22: =SUM(G8:G21) -> 0 | I22: =SUM(I8:I21) -> 112495 | J22: =SUM(J8:J21) -> 112495
C23: คิดเป็นเงิน | G23: =ROUNDDOWN(SUM(G22),0) -> 0 | I23: =ROUNDDOWN(SUM(I22),0) -> 112495 | J23: =SUM(G23,I23) -> 112495
A24: ประมาณราคาค่าก่อสร้าง | C24: การประสานระบบไฟฟ้า
A25: ='แบบ ปร.6'!$A$2 -> สถานที่ก่อสร้าง | F25: แบบเลขที่ | G25: รายการฯ เฉพาะแห่ง | I25: รายการเลขที่
A26: ฝ่ายประมาณราคา | C26: ='แบบ ปร.6'!$A$4 -> สำนักบริหารจัดการน้ำ กรมทรัพยากรน้ำ
A27: ประมาณการโดย | F27: เมื่อวันที่ | G27: ='แบบ ปร.6'!$C$5 -> 37950
A29: ลำดับที่ | B29: รายการ | D29: จำนวนหน่วย | F29: ค่าวัสดุ | H29: ค่าแรง | J29: ค่าวัสดุและ | K29: หมายเหตุ
F30: ราคาต่อหน่วย | G30: เป็นเงิน | H30: ราคาต่อหน่วย | I30: เป็นเงิน | J30: ค่าแรงงาน
B31: ข. ระบบไฟฟ้าภายใน (ผู้รับจ้างดำเนินการ)
A32: 1 | B32: {=[1]งานไฟฟ้า!$B$6:$B$10} -> เสาไฟฟ้า คอร. ยาวไม่น้อยกว่า 8.00 ม. | D32: 1 | E32: {=[1]งานไฟฟ้า!$C$6:$D$10} -> ต้น | F32: 1500 | G32: =IF(F32="-","-",D32*F32) -> 1500 | H32: {=[1]งานไฟฟ้า!$E$6:$E$10} -> 500 | I32: =IF(H32="-","-",H32*D32) -> 500 | J32: =SUM(G32,I32) -> 2000
A33: 2 | B33: สายไฟฟ้าอลูมิเนียมหุ้มฉนวน พื้นที่หน้าตัดไม่น้อยกว่า 25 ตร.มม. | D33: 40 | E33: ม. | F33: 25 | G33: =IF(F33="-","-",D33*F33) -> 1000 | H33: - | I33: =IF(H33="-","-",H33*D33) -> - | J33: =SUM(G33,I33) -> 1000
A34: 3 | B34: แผงควบคุมไฟฟ้าในโรงสูบน้ำ | D34: 1 | E34: ชุด | F34: 2000 | G34: =IF(F34="-","-",D34*F34) -> 2000 | H34: 200 | I34: =IF(H34="-","-",H34*D34) -> 200 | J34: =SUM(G34,I34) -> 2200
A35: 4 | B35: อุปกรณ์โยงยึดสายไฟฟ้า | D35: 2 | E35: รายการ | F35: 1750 | G35: =IF(F35="-","-",D35*F35) -> 3500 | H35: - | I35: =IF(H35="-","-",H35*D35) -> - | J35: =SUM(G35,I35) -> 3500
A36: 5 | B36: สวิทซ์ลูกลอยอัตโนมัติ | D36: 3 | E36: ชุด | F36: 1200 | G36: =IF(F36="-","-",D36*F36) -> 3600 | H36: 200 | I36: =IF(H36="-","-",H36*D36) -> 600 | J36: =SUM(G36,I36) -> 4200
C38: รวมเงิน | G38: =SUM(G32:G37) -> 11600 | I38: =SUM(I32:I37) -> 1300 | J38: =SUM(J32:J37) -> 12900
C39: คิดเป็นเงินค่างาน | J39: =ROUNDDOWN(J38,0) -> 12900
A41: ประมาณราคาโดย………………………………………………………………. | F41: ตรวจ | G41: ………..…………………………………………...………….
B42: (………………………………………………………………) | G42: (………………………………………………………………)
A44: ตรวจ…………………………………………..…..………………. | F44: เห็นชอบ | G44: ………..…………………………………………...………….
B45: (………………………………………………………………) | G45: (………………………………………………………………)

Sheet เครื่องมือฯประปา
A1: ชื่อโครงการ............................ | C1: =ปร.5!E6 -> ก่อสร้างระบบประปาหมู่บ้าน (ปากน้ำ 3)
A2: งานก่อสร้าง............................................ | C2: จัดหาและส่งมอบเครื่องมือประจำการประปา | I2: รายการเลขที่ | J2: 14
A3: =ปร.5!B7 -> สถานที่ก่อสร้าง บ้านปากน้ำ หมู่ที่ ๑3 ตำบลทุ่งหลวง อำเภอเวียงสระ จังหวัดสุราษฎร์ธานี | I3: แบบเลขที่ | J3: รายการฯ เฉพาะแห่ง
A4: =ปร.5!B9 -> เจ้าของโครงการ เทศบาลตำบลทุ่งหลวง
A5: =ปร.5!B10 -> 0 | H5: =ปร.5!J10 -> เมื่อวันที่ 1 ธันวาคม 2568
K6: หน่วย : บาท
A7: ลำดับ | B7: รายการ | D7: จำนวนหน่วย | F7: ค่าวัสดุ | H7: ค่าแรงงาน | J7: ค่าวัสดุและ | K7: หมายเหตุ
A8: ที่ | F8: ราคาต่อหน่วย | G8: เป็นเงิน | H8: ราคาต่อหน่วย | I8: เป็นเงิน | J8: ค่าแรงงาน
A9: 1 | B9: ประแจคอม้า ขนาด 24" | D9: 2 | E9: ตัว
A10: 2 | B10: ประแจเลื่อน ขนาด 10" | D10: 1 | E10: ตัว
A11: 3 | B11: เลื่อยตัดเหล็ก 1 อัน พร้อมใบเลื่อย 1 โหล ขนาด 12" | D11: 1 | E11: ชุด
A12: 4 | B12: คีมล๊อกขนาด 10" ของไวส์กริป(vise clip) | D12: 1 | E12: อัน
B13: หรือเทียบเท่า
A14: 5 | B14: ไขควงลองไฟ | D14: 1 | E14: อัน
A15: 6 | B15: ไขควงปากแฉก ขนาด 4" | D15: 1 | E15: อัน
A16: 7 | B16: ไขควงปากแบน ขนาด 4" | D16: 1 | E16: อัน
A17: 8 | B17: ค้อนหัวกลม ขนาดหนัก 2 ปอนด์ | D17: 1 | E17: อัน
A18: 9 | B18: ตลับเมตรวัดระยะยาว 5.00 ม. ตัวตลับทำด้วย | D18: 1 | E18: อัน
B19: โลหะไม่เป็นสนิม ชนิดมีสปริงรั้งกลับ
A20: 10 | B20: ตู้เหล็กบานเปิดคู่พร้อมขาตั้ง ขนาด 45 x 90 x | D20: 1 | E20: ตู้
B21: 180 ซม. ฑ ไม่เกิน 0.05 ม. หรือตู้เหล็กบาน
B22: เลื่อนทึบ ขนาด 46.5" x 16" x 34.5"
A23: 11 | B23: คลิ๊ปแอมป์ วัดกระแสได้ไม่น้อยกว่า 600 แอมป์ | D23: 1 | E23: ตัว
B24: ปรับช่วงการวัดกระแสได้ไม่น้อยกว่า 5 ช่วง
B25: (Range) หรือดิจิตอล วัดความต้านทานกระแส
B26: ไฟฟ้า - แรงดันไฟฟ้าได้ไม่น้อยกว่า 600 โวลท์
C28: รวมเงิน
C29: คิดเป็นเงิน
H32: ลงชื่อ........................................ผู้ประมาณราคา

Sheet กรด-ด่าง
A1: ชื่อโครงการ............................ | C1: =ปร.5!E6 -> ก่อสร้างระบบประปาหมู่บ้าน (ปากน้ำ 3)
A2: งานก่อสร้าง............................................ | C2: จัดหาและส่งมอบเครื่องมือตรวจวัด | I2: รายการเลขที่ | J2: 15
A3: =ปร.5!B7 -> สถานที่ก่อสร้าง บ้านปากน้ำ หมู่ที่ ๑3 ตำบลทุ่งหลวง อำเภอเวียงสระ จังหวัดสุราษฎร์ธานี | I3: แบบเลขที่ | J3: รายการฯ เฉพาะแห่ง
A4: =ปร.5!B9 -> เจ้าของโครงการ เทศบาลตำบลทุ่งหลวง
A5: =ปร.5!B10 -> 0 | H5: =ปร.5!J10 -> เมื่อวันที่ 1 ธันวาคม 2568
K6: หน่วย : บาท
A7: ลำดับ | B7: รายการ | D7: จำนวนหน่วย | F7: ค่าวัสดุ | H7: ค่าแรงงาน | J7: ค่าวัสดุและ | K7: หมายเหตุ
A8: ที่ | F8: ราคาต่อหน่วย | G8: เป็นเงิน | H8: ราคาต่อหน่วย | I8: เป็นเงิน | J8: ค่าแรงงาน
A9: 1 | B9: เครื่องมือตรวจวัดความเป็นกรด-ด่างในน้ำ | D9: 1 | E9: ชุด
A10: 2 | B10: เครื่องมือตรวจวัดสารละลายเหล็กในน้ำ | D10: 1 | E10: ชุด
C13: รวมเงิน
C14: คิดเป็นเงิน
H16: ลงชื่อ........................................ผู้ประมาณราคา

Sheet ไฟฟ้านอก
A1: ชื่อโครงการ............................ | C1: =ปร.5!E6 -> ก่อสร้างระบบประปาหมู่บ้าน (ปากน้ำ 3)
A2: งานก่อสร้าง............................................ | C2: การประสานระบบไฟฟ้าภายนอก
A3: =ปร.5!B7 -> สถานที่ก่อสร้าง บ้านปากน้ำ หมู่ที่ ๑3 ตำบลทุ่งหลวง อำเภอเวียงสระ จังหวัดสุราษฎร์ธานี
A4: =ปร.5!B9 -> เจ้าของโครงการ เทศบาลตำบลทุ่งหลวง
A5: =ปร.5!B10 -> 0 | H5: =ปร.5!J10 -> เมื่อวันที่ 1 ธันวาคม 2568
K6: หน่วย : บาท
A7: ลำดับ | B7: รายการ | D7: จำนวนหน่วย | F7: ค่าวัสดุ | H7: ค่าแรงงาน | J7: ค่าวัสดุและ | K7: หมายเหตุ
A8: ที่ | F8: ราคาต่อหน่วย | G8: เป็นเงิน | H8: ราคาต่อหน่วย | I8: เป็นเงิน | J8: ค่าแรงงาน
B9: ก.ระบบไฟฟ้าภายนอก (การไฟฟ้าฯ ดำเนินการ)
A10: 1 | B10: ขยายเขตแรงต่ำ
B11: [ ] ปักเสา คอร. ยาว 8.00 ม. จำนวน 2 ต้น | E11: งาน | F11: 0 | G11: =D11*F11 -> 0 | H11: 0 | I11: =D11*H11 -> 0 | J11: =SUM(G11,I11) -> 0 | O11: กม.ละ 400,000 บาท
B12: พร้อมพาดสายไฟฟ้าอูมิเนียมหุ้มฉนวน ขนาด
B13: 50 ตร.ม. จำนวน 2 เส้น
A14: 2 | B14: ขยายเขตแรงสูง | O14: กม.ละ 1,000,000 บาท
B15: [ ] ปักเสา คอร. ยาว…12.00...ม. (12, 14 ม.) | D15: 0 | E15: ต้น | F15: 3500 | G15: =D15*F15 -> 0 | H15: 1000 | I15: =D15*H15 -> 0 | J15: =SUM(G15,I15) -> 0
B16: รวมเป็นระยะทางทั้งหมด.............ม. | D16: 0 | E16: ม. | F16: 500 | G16: =D16*F16 -> 0 | H16: 1000 | I16: =D16*H16 -> 0 | J16: =SUM(G16,I16) -> 0
B17: [ ] ติดตั้งหม้อแปลง 1 เฟส ขนาด....30.…KVA | D17: 0 | E17: ชุด | G17: =D17*F17 -> 0 | H17: 120000 | I17: =D17*H17 -> 0 | J17: =SUM(G17,I17) -> 0
A18: 3 | B18: ติดตั้งมิเตอร์ขนาด 1 เฟส 15 แอมป์ | D18: 1 | E18: รายการ | F18: 750 | G18: =D18*F18 -> 750 | H18: 0 | I18: =D18*H18 -> 0 | J18: =SUM(G18,I18) -> 750
B19: ค่าธรรมเนียมต่างๆ
B20: ค่าประกันการใช้ไฟฟ้า
N22: =SUM(J11:J19) -> 750
C23: รวมเงิน | G23: =SUM(G10:G20) -> 750 | I23: =SUM(I11:I20) -> 0 | J23: =SUM(G23,I23) -> 750
C24: คิดเป็นเงินค่างาน | J24: =ROUNDDOWN(J23,0) -> 750

Sheet FACTOR F
A1: หน้าที่ 1/12
A2: ตาราง Factor F งานก่อสร้างอาคาร
B4: เงินล่วงหน้าจ่าย | D4: 0 | E4: % | F4: ดอกเบี้ยเงินกู้ | I4: 6 | J4: % ต่อปี
B5: เงินประกันผลงานหัก | D5: 0 | E5: % | F5: ค่าภาษีมูลค่าเพิ่ม(VAT) | I5: 7 | J5: %
C7: ค่าใช้จ่ายในการดำเนินงานก่อสร้าง | I7: Factor F
A8: ค่างาน (ทุน) | C8: % | G8: รวมในรูป | H8: ภาษีมูลค่าเพิ่ม
A9: ล้านบาท | C9: ค่า | D9: ค่า | E9: ค่า | F9: รวม | G9: Factor | H9: (VAT)
C10: อำนวยการ | D10: ดอกเบี้ย | E10: กำไร | F10: ค่าใช้จ่าย
A11: < | B11: 0.5 | C11: 15.6878 | D11: ='[4]ดอกเบี้ย,กำไร'!G12 -> 1 | E11: ='[4]ดอกเบี้ย,กำไร'!G48 -> 5.5 | F11: =(C11+D11+E11) -> 22.1878 | G11: =1+(F11/100) -> 1.221878 | H11: =1+($I$5/100) -> 1.07 | I11: =ROUND((G11*H11),4) -> 1.3074
B12: 1 | C12: 15.4672 | D12: ='[4]ดอกเบี้ย,กำไร'!G13 -> 1 | E12: ='[4]ดอกเบี้ย,กำไร'!G49 -> 5.5 | F12: =(C12+D12+E12) -> 21.9672 | G12: =1+(F12/100) -> 1.219672 | H12: =1+($I$5/100) -> 1.07 | I12: =ROUND((G12*H12),4) -> 1.305 | K12: =ปร.5!J29+'ปร.5 (2)'!J22 -> 697625.98 | L12: =I12-I13 -> 0.0015
B13: 2 | C13: 15.3236 | D13: ='[4]ดอกเบี้ย,กำไร'!G14 -> 1 | E13: ='[4]ดอกเบี้ย,กำไร'!G50 -> 5.5 | F13: =(C13+D13+E13) -> 21.8236 | G13: =1+(F13/100) -> 1.218236 | H13: =1+($I$5/100) -> 1.07 | I13: =ROUND((G13*H13),4) -> 1.3035 | K13: =K12-1000000 -> -302374.02 | L13: =K13*L12/1000000 -> -0.00045356104
B14: 5 | C14: 15.0257 | D14: ='[4]ดอกเบี้ย,กำไร'!G15 -> 1 | E14: ='[4]ดอกเบี้ย,กำไร'!G51 -> 5.5 | F14: =(C14+D14+E14) -> 21.5257 | G14: =1+(F14/100) -> 1.215257 | H14: =1+($I$5/100) -> 1.07 | I14: =ROUND((G14*H14),4) -> 1.3003 | L14: =I12-L13 -> 1.3054536
B15: 10 | C15: 14.9669 | D15: ='[4]ดอกเบี้ย,กำไร'!G16 -> 1 | E15: ='[4]ดอกเบี้ย,กำไร'!G52 -> 5 | F15: =(C15+D15+E15) -> 20.9669 | G15: =1+(F15/100) -> 1.209669 | H15: =1+($I$5/100) -> 1.07 | I15: =ROUND((G15*H15),4) -> 1.2943
B16: 15 | C16: 11.7015 | D16: ='[4]ดอกเบี้ย,กำไร'!G17 -> 1 | E16: ='[4]ดอกเบี้ย,กำไร'!G53 -> 5 | F16: =(C16+D16+E16) -> 17.7015 | G16: =1+(F16/100) -> 1.177015 | H16: =1+($I$5/100) -> 1.07 | I16: =ROUND((G16*H16),4) -> 1.2594
B17: 20 | C17: 10.99 | D17: ='[4]ดอกเบี้ย,กำไร'!G18 -> 1 | E17: ='[4]ดอกเบี้ย,กำไร'!G54 -> 5 | F17: =(C17+D17+E17) -> 16.99 | G17: =1+(F17/100) -> 1.1699 | H17: =1+($I$5/100) -> 1.07 | I17: =ROUND((G17*H17),4) -> 1.2518
B18: 25 | C18: 8.9691 | D18: ='[4]ดอกเบี้ย,กำไร'!G19 -> 1 | E18: ='[4]ดอกเบี้ย,กำไร'!G55 -> 4.5 | F18: =(C18+D18+E18) -> 14.4691 | G18: =1+(F18/100) -> 1.144691 | H18: =1+($I$5/100) -> 1.07 | I18: =ROUND((G18*H18),4) -> 1.2248
B19: 30 | C19: 8.1867 | D19: ='[4]ดอกเบี้ย,กำไร'!G20 -> 1 | E19: ='[4]ดอกเบี้ย,กำไร'!G56 -> 4.5 | F19: =(C19+D19+E19) -> 13.6867 | G19: =1+(F19/100) -> 1.136867 | H19: =1+($I$5/100) -> 1.07 | I19: =ROUND((G19*H19),4) -> 1.2164
B20: =B19+10 -> 40 | C20: 8.1502 | D20: ='[4]ดอกเบี้ย,กำไร'!G21 -> 1 | E20: ='[4]ดอกเบี้ย,กำไร'!G57 -> 4.5 | F20: =(C20+D20+E20) -> 13.6502 | G20: =1+(F20/100) -> 1.136502 | H20: =1+($I$5/100) -> 1.07 | I20: =ROUND((G20*H20),4) -> 1.2161
B21: =B20+10 -> 50 | C21: 8.1389 | D21: ='[4]ดอกเบี้ย,กำไร'!G22 -> 1 | E21: ='[4]ดอกเบี้ย,กำไร'!G58 -> 4.5 | F21: =(C21+D21+E21) -> 13.6389 | G21: =1+(F21/100) -> 1.136389 | H21: =1+($I$5/100) -> 1.07 | I21: =ROUND((G21*H21),4) -> 1.2159
B22: =B21+10 -> 60 | C22: 7.7222 | D22: ='[4]ดอกเบี้ย,กำไร'!G23 -> 1 | E22: ='[4]ดอกเบี้ย,กำไร'!G59 -> 4 | F22: =(C22+D22+E22) -> 12.7222 | G22: =1+(F22/100) -> 1.127222 | H22: =1+($I$5/100) -> 1.07 | I22: =ROUND((G22*H22),4) -> 1.2061
B23: =B22+10 -> 70 | C23: 7.6191 | D23: ='[4]ดอกเบี้ย,กำไร'!G24 -> 1 | E23: ='[4]ดอกเบี้ย,กำไร'!G60 -> 4 | F23: =(C23+D23+E23) -> 12.6191 | G23: =1+(F23/100) -> 1.126191 | H23: =1+($I$5/100) -> 1.07 | I23: =ROUND((G23*H23),4) -> 1.205
B24: =B23+10 -> 80 | C24: 7.6191 | D24: ='[4]ดอกเบี้ย,กำไร'!G25 -> 1 | E24: ='[4]ดอกเบี้ย,กำไร'!G61 -> 4 | F24: =(C24+D24+E24) -> 12.6191 | G24: =1+(F24/100) -> 1.126191 | H24: =1+($I$5/100) -> 1.07 | I24: =ROUND((G24*H24),4) -> 1.205
B25: =B24+10 -> 90 | C25: 7.6108 | D25: ='[4]ดอกเบี้ย,กำไร'!G26 -> 1 | E25: ='[4]ดอกเบี้ย,กำไร'!G62 -> 4 | F25: =(C25+D25+E25) -> 12.6108 | G25: =1+(F25/100) -> 1.126108 | H25: =1+($I$5/100) -> 1.07 | I25: =ROUND((G25*H25),4) -> 1.2049
B26: =B25+10 -> 100 | C26: 7.6108 | D26: ='[4]ดอกเบี้ย,กำไร'!G27 -> 1 | E26: ='[4]ดอกเบี้ย,กำไร'!G63 -> 4 | F26: =(C26+D26+E26) -> 12.6108 | G26: =1+(F26/100) -> 1.126108 | H26: =1+($I$5/100) -> 1.07 | I26: =ROUND((G26*H26),4) -> 1.2049
B27: 150 | C27: 7.3615 | D27: ='[4]ดอกเบี้ย,กำไร'!G28 -> 1 | E27: ='[4]ดอกเบี้ย,กำไร'!G64 -> 4 | F27: =(C27+D27+E27) -> 12.3615 | G27: =1+(F27/100) -> 1.123615 | H27: =1+($I$5/100) -> 1.07 | I27: =ROUND((G27*H27),4) -> 1.2023
B28: 200 | C28: 7.3632 | D28: ='[4]ดอกเบี้ย,กำไร'!G29 -> 1 | E28: ='[4]ดอกเบี้ย,กำไร'!G65 -> 4 | F28: =(C28+D28+E28) -> 12.3632 | G28: =1+(F28/100) -> 1.123632 | H28: =1+($I$5/100) -> 1.07 | I28: =ROUND((G28*H28),4) -> 1.2023
B29: 250 | C29: 7.2751 | D29: ='[4]ดอกเบี้ย,กำไร'!G30 -> 1 | E29: ='[4]ดอกเบี้ย,กำไร'!G66 -> 4 | F29: =(C29+D29+E29) -> 12.2751 | G29: =1+(F29/100) -> 1.122751 | H29: =1+($I$5/100) -> 1.07 | I29: =ROUND((G29*H29),4) -> 1.2013
B30: 300 | C30: 7.1959 | D30: ='[4]ดอกเบี้ย,กำไร'!G31 -> 1 | E30: ='[4]ดอกเบี้ย,กำไร'!G67 -> 3.5 | F30: =(C30+D30+E30) -> 11.6959 | G30: =1+(F30/100) -> 1.116959 | H30: =1+($I$5/100) -> 1.07 | I30: =ROUND((G30*H30),4) -> 1.1951
B31: 350 | C31: 6.3974 | D31: ='[4]ดอกเบี้ย,กำไร'!G32 -> 1 | E31: ='[4]ดอกเบี้ย,กำไร'!G68 -> 3.5 | F31: =(C31+D31+E31) -> 10.8974 | G31: =1+(F31/100) -> 1.108974 | H31: =1+($I$5/100) -> 1.07 | I31: =ROUND((G31*H31),4) -> 1.1866
B32: 400 | C32: 6.322 | D32: ='[4]ดอกเบี้ย,กำไร'!G33 -> 1 | E32: ='[4]ดอกเบี้ย,กำไร'!G69 -> 3.5 | F32: =(C32+D32+E32) -> 10.822 | G32: =1+(F32/100) -> 1.10822 | H32: =1+($I$5/100) -> 1.07 | I32: =ROUND((G32*H32),4) -> 1.1858
B33: 500 | C33: 6.2743 | D33: ='[4]ดอกเบี้ย,กำไร'!G34 -> 1 | E33: ='[4]ดอกเบี้ย,กำไร'!G70 -> 3.5 | F33: =(C33+D33+E33) -> 10.7743 | G33: =1+(F33/100) -> 1.107743 | H33: =1+($I$5/100) -> 1.07 | I33: =ROUND((G33*H33),4) -> 1.1853
A34: > | B34: 500 | C34: 5.6692 | D34: ='[4]ดอกเบี้ย,กำไร'!G35 -> 1 | E34: ='[4]ดอกเบี้ย,กำไร'!G71 -> 3.5 | F34: =(C34+D34+E34) -> 10.1692 | G34: =1+(F34/100) -> 1.101692 | H34: =1+($I$5/100) -> 1.07 | I34: =ROUND((G34*H34),4) -> 1.1788
A35: หมายเหตุ กรณีค่างานอยู่ระหว่างช่วงของค่างานต้นทุนที่กำหนด ให้เทียบอัตราส่วนเพื่อหาค่า FACTOR F | I35: ต.ค. 2544
A37: หน้าที่ 2
A39: หลักเกณฑ์การใช้ตาราง Factor F
A40: 1 | B40: กรณีค่างานอยู่ระหว่างช่วงของค่างานต้นทุนที่กำหนด ให้เทียบอัตราส่วนเพื่อหา Factor F
A41: 2 | B41: งานทาง,งานสะพานและ/หรือท่อเหลี่ยม ให้แยกค่างานต้นทุนและใช้ Factor F ของงานทาง,งานสะพานและท่อเหลี่ยม
A42: 4 | B42: ตาราง Factor F นี้ใช้ได้กับค่าน้ำมันเชื้อเพลิงทุกราคา แต่จะแปรเปลี่ยนตามอัตราดอกเบี้ยเงินกู้ธนาคารพาณิชย์และ
B43: อัตราการจ่ายเงินล่วงหน้า และอัตราการหักเงินประกันผลงาน และอัตราภาษีมูลค่าเพิ่ม
A44: 5 | B44: อัตราดอกเบี้ยเงินกู้เป็นอัตราดอกเบี้ยขั้นต่ำในการกู้สำหรับลูกค้าชั้นดี (MLR) และใช้อัตราของธนาคารกรุงไทย จำกัด
B45: (มหาชน) ฃึ่งสำนักงานปลัดสำนักนายกรัฐมนตรีจะเป็นผู้แจ้งเวียนให้ส่วนราชการทราบและนำไปใช้
A47: การคำนวณค่างานก่อสร้างอาคารในงานจ้างเหมาก่อสร้าง
B48: ในงานจ้างเหมาก่อสร้างอาคาร ค่างานจะคิดเป็นราคาต่อหน่วยของลักษณะงานต่างๆ และค่างานทั้งโครงการได้จาก
A49: การคำนวณหาปริมาณงานแต่ละลักษณะงาน แล้วคูณด้วยค่างานต่อหน่วย เมื่อรวมค่างานแต่ละลัษณะงานเข้าด้วยกัน ก็จะ
A50: ได้ต้นทุนของค่างานทั้งโครงการ แต่ในงานจ้างเหมาผู้รับจ้างต้องมีค่าใช้จ่าย ด้านอำนวยการทั้งในสำนักงานใหญ่ และสำนัก
A51: งานสนาม นอกจากนี้ยังมีค่าใช้จ่ายด้านดอกเบี้ย ค่าความเสี่ยงต่อความเสียหายจากภัยธรรมชาติหรืออุบัติภัย และภาษีต่างๆ
A52: ที่ต้องจ่ายให้แก่รัฐจากเงินที่ได้จากการก่อสร้างนี้
B53: สภาพภูมิอากาศของภาคต่างๆ ของประเทศ มีผลกระทบต่อค่าใช้จ่ายต่างๆ ดังกล่าวข้างต้น ในพื้นที่ที่มีฝนตกชุก หรือมี
A54: ช่วงเวลาฤดูฝนยาวนานกว่าภาคอื่นๆ จะมีขั่วโมงการทำงานก่อสร้างต่อปีน้อยกว่าพื้นที่แล้งกว่ามีผลทำให้ค่าอำนวยการต่างๆ
A55: สูงขึ้นและยังกระทบถีงค่าครอบครองเครื่องจักร โดยเฉพาะค่าเสื่อมราคาเครื่องจักรจะสูงกว่าเครื่องจักรที่ทำงานในพื้นที่ที่แล้ง
A56: กว่า
A57: ค่าใช้จ่ายในการดำเนินโครงการก่อสร้าง ประกอบด้วย
B58: 1 | C58: ค่าอำนวยการ
B59: 2 | C59: ดอกเบี้ย
B60: 3 | C60: กำไร
B61: 4 | C61: ภาษี
B62: 1. ค่าอำนวยการ | D62: ประกอบด้วย
B63: 1.1 | C63: ค่าใช้จ่ายในขั้นตอนการทำสัญญา
C64: 1.1.1 ค่าธรรมเนียมหนังสือค้ำประกันสัญญา(Performance Bond)
C65: 1.1.2 ค่าธรรมเนียมหนังสือค้ำประกันผลงานก่อสร้าง 2 ปี
C66: 1.1.3 ค่าอากรแสตมป์ติดสัญญา
C67: 1.1.4 ค่าเงินสมทบกองทุนทดแทนและกองทุนประกันสังคม
B68: 1.2 | C68: ค่าใช้จ่ายสำนักงานสนาม ที่พักเจ้าหน้าที่และยานพาหนะ
B69: 1.3 | C69: ค่าใช้จ่ายบุคคลากรและค่าใช้จ่ายสำนักงานใหญ่
B70: 1.4 | C70: ค่าธรรมเนียมประกันภัยโครงการ
A72: หน้าที่ 3
B74: 2. การคิดค่าดอกเบี้ย
B75: คำนวณจากอัตราดอกเบี้ยเงินกู้ขั้นต่ำ ( MLR ) ของธนาคารกรุงไทย จำกัด ( มหาชน ) ซึ่งสำนักงานปลัดสำนักนายก
A76: รัฐมนตรี จะเป็นผู้แจ้งเวียนอัตราดอกเบี้ดังกล่าวให้หน่วยราชการทราบ
B77: เนื่องจาก การดำเนินการก่อสร้างต้องใช้วงเงินลงทุนสูงมาก บางครั้งจำเป็นต้องกู้ยืมจากสถาบันการเงิน เพื่อมาใช้
A78: หมุนเวียนในงานก่อสร้าง แม้ว่าทางราชการจะมีการจ่ายเงินล่วงหน้าให้แก่ผู้รับจ้าง เพื่อใช้หมุนเวียนในการเตรียมงานก่อสร้าง
A79: จำนวนร้อยละ 10 ของค่างานทั้งโครงการแล้วก็ตาม เงินจำนวนนี้จะพอเพียงสำหรับการเตรียมการเบื้องต้น และจัดหาวัสดุมา
A80: ใช้ก่อสร้างได้เพียงบางส่วนเท่านั้น นอกจากนี้เงินจ่ายล่วงหน้าจะถูกหักคืนทุกงวดที่ทางราชการจ่ายค่างาน และยังมีการหักเงิน
A81: ประกันผลงานจากค่างานที่จ่ายให้อีกด้วย ดังนั้นจึงยังคงต้องมีการกู้ยืมเงินมาใช้หมุนเวียน
B82: โดยทั่วไปดอกเบี้ยจะคิดให้สำหรับระยะเวลาประมาณ 3 เดือนหรือ 1/4 ของปี เพราะในการทำงานผู้รับจ้างต้องจัดหา
A83: วัสดุล่วงหน้าและภายหลังส่งมอบงานแต่ละงวดแล้วยังต้องรอขั้นตอนการเบิกจ่ายค่างานอีก
B85: 3. การคิดกำไร
B86: อัตรากำไรกำหนดโดยใช้อัตรากำไรทางธุรกิจ ( Financial Profit ) คือกำไรเชิงธุรกิจ ( Excess Profit ) หมายถึงส่วนที่
A87: สูงกว่าอัตราดอกเบี้ยเงินฝากประจำ ฃึ่งจะต้องมีค่าเพียงพอที่จะดึงดูดผู้ลงทุนให้สนใจมาลงทุน
B89: 4. การคิดค่าภาษี
B90: ภาษีที่ผู้รับจ้างจะต้องจ่ายคือ ภาษีมูลค่าเพิ่ม ( VAT ) ในอัตราปัจจุบันโดยหัก ณ ที่จ่าย

Sheet  อำนวยการ 1
A1: หน้าที่ 4 | L1: หน้าที่ 7 | W1: หน้าที่ 20 | AH1: หน้าที่ 33
A3: 1. ค่าอำนวยการ | L3: 1.2 ค่าใช้จ่ายเกี่ยวกับสำนักงานสนาม,ที่พักคนงานและโรงงานฯ (งานก่อสร้างอาคาร) | W3: 1.3 ค่าใช้จ่ายเกี่ยวกับการบริหารโครงการและบุคคลากร(งานก่อสร้างอาคาร) | AH3: 1.4 ค่าใช้จ่ายในการประกันภัยโครงการ
M4: 1.2.1 กรณีค่างานลงทุนไม่เกิน | P4: 0.5 | Q4: ล้านบาท | S4: ระยะเวลา | T4: =E10 -> 6 | U4: เดือน | X4: 1.3.1 กรณีค่างานลงทุนไม่เกิน | AA4: 0.5 | AB4: ล้านบาท | AD4: ระยะเวลา | AE4: =E10 -> 6 | AF4: เดือน | AI4: ประกอบด้วย
A5: 1.1 ค่าใช้จ่ายขั้นตอนในการทำสัญญา (งานก่อสร้างอาคาร) | L5: ลำดับที่ | M5: ประเภท | Q5: หน่วย | R5: จำนวน | S5: อัตราเฉลี่ยค่าใช้จ่าย | U5: รวมคิดเป็นค่าใช้จ่าย | W5: ลำดับที่ | X5: ประเภท | AB5: หน่วย | AC5: จำนวน | AD5: อัตราค่าใช้จ่าย(เงินเดือน) | AF5: รวมค่าใช้จ่าย(เงินเดือน) | AI5: 1.4.1 ค่าธรรมเนียมในการประกันภัยโครงการ | AM5: 0.25 | AN5: % ของค่างาน
A6: 1.1.1 ค่าธรรมเนียมธนาคารหนังสือค้ำประกันสัญญา | S6: % /โครงการ | U6: บาท/เดือน | AD6: บาท/หน่วย | AF6: บาท/เดือน | AI6: 1.4.2 ค่าความเสี่ยงภัยที่ไม่ครอบคลุมอยู่ในการประกันภัย และค่าความเสี่ยงจาก
A7: วงเงินค้ำประกัน | C7: 5 | D7: % ของค่างาน | F7: อัตราค่าธรรมเนียมหนังสือค้ำ | H7: 2.5 | I7: % ของวงเงินค้ำประกัน | L7: 1 | M7: ค่าเอกสารสิ่งพิมพ์และด้านธุรการ | W7: 1 | X7: บุคคลากร | AI7: การผันแปรของอัตราแลกเปลี่ยนเงินตราและอัตราเงินเฟ้อ | AM7: 0.05 | AN7: % ของค่างาน
A8: ค่างานลงทุน | C8: วงเงินค้ำประกัน | E8: ระยะเวลา | F8: ค่าธรรมเนียม | H8: ค่าธรรมเนียมเป็นร้อยละของค่างาน | L8: 1.1 | M8: ค่าใช้จ่ายในการพิมพ์แบบเพิ่มเติม,ทำSHOP DRAWING ฯ | Q8: งาน | R8: 1 | T8: 0.3285 | V8: =((($P$4*1000000)*T8)/100)/$T$4 -> 273.75 | W8: 1.1 | X8: ผู้จัดการ | AB8: คน | AC8: 0 | AE8: 0 | AG8: =(AC8*AE8) -> 0 | AI8: รวมค่าใช้จ่ายในการประกันภัยโครงการ | AM8: 0.3 | AN8: % ของค่างาน
A9: ล้านบาท | C9: ล้านบาท | E9: เดือน | F9: บาท | H9: % | L9: 1.2 | M9: ค่าใช้จ่ายในการส่งตัวอย่างวัสดุทดสอบ,หนังสือรับรอง | Q9: งาน | R9: 1 | T9: 0.8573 | V9: =((($P$4*1000000)*T9)/100)/$T$4 -> 714.41667 | W9: 1.2 | X9: วิศวกรโครงการ | AB9: คน | AC9: 0 | AE9: 0 | AG9: =(AC9*AE9) -> 0
A10: < | B10: ='FACTOR F'!B11 -> 0.5 | D10: =ROUND((B10*$C$7)/100,4) -> 0.025 | E10: 6 | G10: =(((D10*1000000)*$H$7/100)*E10/12) -> 312.5 | J10: =ROUND((G10*100)/(B10*1000000),4) -> 0.0625 | L10: 1.3 | M10: ค่าใช้จ่ายการจัดเตรียมเอกสารต่างๆ ระหว่างก่อสร้าง | Q10: งาน | R10: 1 | T10: 0.01 | V10: =((($P$4*1000000)*T10)/100)/$T$4 -> 8.3333333 | W10: 1.3 | X10: วิศวกร | AB10: คน | AC10: 0 | AE10: 0 | AG10: =(AC10*AE10) -> 0
B11: ='FACTOR F'!B12 -> 1 | D11: =ROUND((B11*$C$7)/100,4) -> 0.05 | E11: 6 | G11: =(D11*1000000)*($H$7/100)*(E11/12) -> 625 | J11: =ROUND((G11*100)/(B11*1000000),4) -> 0.0625 | L11: 1.4 | M11: ค่ารักษาความสะอาดและขนขยะระหว่างก่อสร้าง | Q11: งาน | R11: 1 | T11: 0.3432 | V11: =((($P$4*1000000)*T11)/100)/$T$4 -> 286 | W11: 1.4 | X11: สถาปนิก | AB11: คน | AC11: 0 | AE11: 0 | AG11: =(AC11*AE11) -> 0
B12: ='FACTOR F'!B13 -> 2 | D12: =ROUND((B12*$C$7)/100,4) -> 0.1 | E12: 9 | G12: =(D12*1000000)*($H$7/100)*(E12/12) -> 1875 | J12: =ROUND((G12*100)/(B12*1000000),4) -> 0.0938 | L12: 2 | M12: อาคาร,ค่าสาธารณูปโถคและอื่นๆ | T12: 0 | V12: =((($P$4*1000000)*T12)/100)/$T$4 -> 0 | W12: 1.5 | X12: ช่างควบคุมงาน(โฟร์แมน) | AB12: คน | AC12: 1 | AE12: 8000 | AG12: =(AC12*AE12) -> 8000
B13: ='FACTOR F'!B14 -> 5 | D13: =ROUND((B13*$C$7)/100,4) -> 0.25 | E13: 12 | G13: =(D13*1000000)*($H$7/100)*(E13/12) -> 6250 | J13: =ROUND((G13*100)/(B13*1000000),4) -> 0.125 | L13: 2.1 | M13: ค่าก่อสร้างที่พักคนงาน,สำนักงาน,โรงงาน,โรงเก็บวัสดุ | Q13: งาน | R13: 1 | T13: 3.1983 | V13: =((($P$4*1000000)*T13)/100)/$T$4 -> 2665.25 | W13: 1.6 | X13: เสมียน | AB13: คน | AC13: 0 | AE13: 0 | AG13: =(AC13*AE13) -> 0
B14: ='FACTOR F'!B15 -> 10 | D14: =ROUND((B14*$C$7)/100,4) -> 0.5 | E14: 15 | G14: =(D14*1000000)*($H$7/100)*(E14/12) -> 15625 | J14: =ROUND((G14*100)/(B14*1000000),4) -> 0.1563 | L14: 2.2 | M14: ค่าสารธณูปโภค,น้ำ,ไฟ,สื่อสารชั่วคราว | Q14: งาน | R14: 1 | T14: 2.1528 | V14: =((($P$4*1000000)*T14)/100)/$T$4 -> 1794 | W14: 1.7 | X14: หัวหน้าช่าง | AB14: คน | AC14: 0 | AE14: 0 | AG14: =(AC14*AE14) -> 0
B15: ='FACTOR F'!B16 -> 15 | D15: =ROUND((B15*$C$7)/100,4) -> 0.75 | E15: 15 | G15: =(D15*1000000)*($H$7/100)*(E15/12) -> 23437.5 | J15: =ROUND((G15*100)/(B15*1000000),4) -> 0.1563 | L15: 2.3 | M15: ค่าอุปกรณ์ความปลอดภัย,หมวก,ถุงมือ,ถังดับเพลิงฯ | Q15: งาน | R15: 1 | T15: 0.0243 | V15: =((($P$4*1000000)*T15)/100)/$T$4 -> 20.25 | W15: 1.8 | X15: คนคุมเครื่องจักร | AB15: คน | AC15: 0 | AE15: 0 | AG15: =(AC15*AE15) -> 0
B16: ='FACTOR F'!B17 -> 20 | D16: =ROUND((B16*$C$7)/100,4) -> 1 | E16: 16 | G16: =(D16*1000000)*($H$7/100)*(E16/12) -> 33333.333 | J16: =ROUND((G16*100)/(B16*1000000),4) -> 0.1667 | L16: 2.4 | M16: ค่าทำป้ายชื่องาน,ป้ายสัญญาณเตือนภัยต่างๆ ฯลฯ | Q16: งาน | R16: 1 | T16: 0.2313 | V16: =((($P$4*1000000)*T16)/100)/$T$4 -> 192.75 | W16: 1.9 | X16: เจ้าหน้าที่ความปลอดภัย | AB16: คน | AC16: 0 | AE16: 0 | AG16: =(AC16*AE16) -> 0
B17: ='FACTOR F'!B18 -> 25 | D17: =ROUND((B17*$C$7)/100,4) -> 1.25 | E17: 16 | G17: =(D17*1000000)*($H$7/100)*(E17/12) -> 41666.667 | J17: =ROUND((G17*100)/(B17*1000000),4) -> 0.1667 | T17: 0 | V17: =((($P$4*1000000)*T17)/100)/$T$4 -> 0
B18: ='FACTOR F'!B19 -> 30 | D18: =ROUND((B18*$C$7)/100,4) -> 1.5 | E18: 17 | G18: =(D18*1000000)*($H$7/100)*(E18/12) -> 53125 | J18: =ROUND((G18*100)/(B18*1000000),4) -> 0.1771 | T18: 0 | V18: =((($P$4*1000000)*T18)/100)/$T$4 -> 0
B19: ='FACTOR F'!B20 -> 40 | D19: =ROUND((B19*$C$7)/100,4) -> 2 | E19: 17 | G19: =(D19*1000000)*($H$7/100)*(E19/12) -> 70833.333 | J19: =ROUND((G19*100)/(B19*1000000),4) -> 0.1771 | L19: รวม | V19: =SUM(V8:V18) -> 5954.75 | W19: รวม คิดให้ 50 % โดยเฉลี่ยจากการทำงานหลายโครงการ | AG19: =SUM(AG8:AG18)/2 -> 4000
B20: ='FACTOR F'!B21 -> 50 | D20: =ROUND((B20*$C$7)/100,4) -> 2.5 | E20: 18 | G20: =(D20*1000000)*($H$7/100)*(E20/12) -> 93750 | J20: =ROUND((G20*100)/(B20*1000000),4) -> 0.1875
B21: ='FACTOR F'!B22 -> 60 | D21: =ROUND((B21*$C$7)/100,4) -> 3 | E21: 18 | G21: =(D21*1000000)*($H$7/100)*(E21/12) -> 112500 | J21: =ROUND((G21*100)/(B21*1000000),4) -> 0.1875 | M21: 1.2.2 กรณีค่างานลงทุนไม่เกิน | P21: 1 | Q21: ล้านบาท | S21: ระยะเวลา | T21: =E11 -> 6 | U21: เดือน | X21: 1.3.2 กรณีค่างานลงทุนไม่เกิน | AA21: 1 | AB21: ล้านบาท | AD21: ระยะเวลา | AE21: =E11 -> 6 | AF21: เดือน
B22: ='FACTOR F'!B23 -> 70 | D22: =ROUND((B22*$C$7)/100,4) -> 3.5 | E22: 20 | G22: =(D22*1000000)*($H$7/100)*(E22/12) -> 145833.33 | J22: =ROUND((G22*100)/(B22*1000000),4) -> 0.2083 | L22: ลำดับที่ | M22: ประเภท | Q22: หน่วย | R22: จำนวน | S22: อัตราเฉลี่ยค่าใช้จ่าย | U22: รวมคิดเป็นค่าใช้จ่าย | W22: ลำดับที่ | X22: ประเภท | AB22: หน่วย | AC22: จำนวน | AD22: อัตราค่าใช้จ่าย(เงินเดือน) | AF22: รวมค่าใช้จ่าย(เงินเดือน)
B23: ='FACTOR F'!B24 -> 80 | D23: =ROUND((B23*$C$7)/100,4) -> 4 | E23: 20 | G23: =(D23*1000000)*($H$7/100)*(E23/12) -> 166666.67 | J23: =ROUND((G23*100)/(B23*1000000),4) -> 0.2083 | S23: % /โครงการ | U23: บาท/เดือน | AD23: บาท/หน่วย | AF23: บาท/เดือน
B24: ='FACTOR F'!B25 -> 90 | D24: =ROUND((B24*$C$7)/100,4) -> 4.5 | E24: 20 | G24: =(D24*1000000)*($H$7/100)*(E24/12) -> 187500 | J24: =ROUND((G24*100)/(B24*1000000),4) -> 0.2083 | L24: 1 | M24: ค่าเอกสารสิ่งพิมพ์และด้านธุรการ | W24: 1 | X24: บุคคลากร
B25: ='FACTOR F'!B26 -> 100 | D25: =ROUND((B25*$C$7)/100,4) -> 5 | E25: 20 | G25: =(D25*1000000)*($H$7/100)*(E25/12) -> 208333.33 | J25: =ROUND((G25*100)/(B25*1000000),4) -> 0.2083 | L25: 1.1 | M25: ค่าใช้จ่ายในการพิมพ์แบบเพิ่มเติม,ทำSHOP DRAWING ฯ | Q25: งาน | R25: 1 | T25: 0.3285 | V25: =((($P$21*1000000)*T25)/100)/$T$21 -> 547.5 | W25: 1.1 | X25: ผู้จัดการ | AB25: คน | AC25: 0 | AE25: 0 | AG25: =(AC25*AE25) -> 0
B26: ='FACTOR F'!B27 -> 150 | D26: =ROUND((B26*$C$7)/100,4) -> 7.5 | E26: 22 | G26: =(D26*1000000)*($H$7/100)*(E26/12) -> 343750 | J26: =ROUND((G26*100)/(B26*1000000),4) -> 0.2292 | L26: 1.2 | M26: ค่าใช้จ่ายในการส่งตัวอย่างวัสดุทดสอบ,หนังสือรับรอง | Q26: งาน | R26: 1 | T26: 0.8573 | V26: =((($P$21*1000000)*T26)/100)/$T$21 -> 1428.8333 | W26: 1.2 | X26: วิศวกรโครงการ | AB26: คน | AC26: 0 | AE26: 0 | AG26: =(AC26*AE26) -> 0
B27: ='FACTOR F'!B28 -> 200 | D27: =ROUND((B27*$C$7)/100,4) -> 10 | E27: 24 | G27: =(D27*1000000)*($H$7/100)*(E27/12) -> 500000 | J27: =ROUND((G27*100)/(B27*1000000),4) -> 0.25 | L27: 1.3 | M27: ค่าใช้จ่ายการจัดเตรียมเอกสารต่างๆ ระหว่างก่อสร้าง | Q27: งาน | R27: 1 | T27: 0.01 | V27: =((($P$21*1000000)*T27)/100)/$T$21 -> 16.666667 | W27: 1.3 | X27: วิศวกร | AB27: คน | AC27: 0 | AE27: 0 | AG27: =(AC27*AE27) -> 0
B28: ='FACTOR F'!B29 -> 250 | D28: =ROUND((B28*$C$7)/100,4) -> 12.5 | E28: 28 | G28: =(D28*1000000)*($H$7/100)*(E28/12) -> 729166.67 | J28: =ROUND((G28*100)/(B28*1000000),4) -> 0.2917 | L28: 1.4 | M28: ค่ารักษาความสะอาดและขนขยะระหว่างก่อสร้าง | Q28: งาน | R28: 1 | T28: 0.3432 | V28: =((($P$21*1000000)*T28)/100)/$T$21 -> 572 | W28: 1.4 | X28: สถาปนิก | AB28: คน | AC28: 0 | AE28: 0 | AG28: =(AC28*AE28) -> 0
B29: ='FACTOR F'!B30 -> 300 | D29: =ROUND((B29*$C$7)/100,4) -> 15 | E29: 30 | G29: =(D29*1000000)*($H$7/100)*(E29/12) -> 937500 | J29: =ROUND((G29*100)/(B29*1000000),4) -> 0.3125 | L29: 2 | M29: อาคาร,ค่าสาธารณูปโถคและอื่นๆ | T29: 0 | V29: =((($P$21*1000000)*T29)/100)/$T$21 -> 0 | W29: 1.5 | X29: ช่างควบคุมงาน(โฟร์แมน) | AB29: คน | AC29: 1 | AE29: 8000 | AG29: =(AC29*AE29) -> 8000
B30: ='FACTOR F'!B31 -> 350 | D30: =ROUND((B30*$C$7)/100,4) -> 17.5 | E30: 32 | G30: =(D30*1000000)*($H$7/100)*(E30/12) -> 1166666.7 | J30: =ROUND((G30*100)/(B30*1000000),4) -> 0.3333 | L30: 2.1 | M30: ค่าก่อสร้างที่พักคนงาน,สำนักงาน,โรงงาน,โรงเก็บวัสดุ | Q30: งาน | R30: 1 | T30: 3.1983 | V30: =((($P$21*1000000)*T30)/100)/$T$21 -> 5330.5 | W30: 1.6 | X30: เสมียน | AB30: คน | AC30: 1 | AE30: 5000 | AG30: =(AC30*AE30) -> 5000
B31: ='FACTOR F'!B32 -> 400 | D31: =ROUND((B31*$C$7)/100,4) -> 20 | E31: 36 | G31: =(D31*1000000)*($H$7/100)*(E31/12) -> 1500000 | J31: =ROUND((G31*100)/(B31*1000000),4) -> 0.375 | L31: 2.2 | M31: ค่าสารธณูปโภค,น้ำ,ไฟ,สื่อสารชั่วคราว | Q31: งาน | R31: 1 | T31: 2.1528 | V31: =((($P$21*1000000)*T31)/100)/$T$21 -> 3588 | W31: 1.7 | X31: หัวหน้าช่าง | AB31: คน | AC31: 0 | AE31: 0 | AG31: =(AC31*AE31) -> 0
B32: ='FACTOR F'!B33 -> 500 | D32: =ROUND((B32*$C$7)/100,4) -> 25 | E32: 36 | G32: =(D32*1000000)*($H$7/100)*(E32/12) -> 1875000 | J32: =ROUND((G32*100)/(B32*1000000),4) -> 0.375 | L32: 2.3 | M32: ค่าอุปกรณ์ความปลอดภัย,หมวก,ถุงมือ,ถังดับเพลิงฯ | Q32: งาน | R32: 1 | T32: 0.0243 | V32: =((($P$21*1000000)*T32)/100)/$T$21 -> 40.5 | W32: 1.8 | X32: คนคุมเครื่องจักร | AB32: คน | AC32: 0 | AE32: 0 | AG32: =(AC32*AE32) -> 0
A33: ='FACTOR F'!A34 -> > | B33: 1000 | D33: =ROUND((B33*$C$7)/100,4) -> 50 | E33: 40 | G33: =(D33*1000000)*($H$7/100)*(E33/12) -> 4166666.7 | J33: =ROUND((G33*100)/(B33*1000000),4) -> 0.4167 | L33: 2.4 | M33: ค่าทำป้ายชื่องาน,ป้ายสัญญาณเตือนภัยต่างๆ ฯลฯ | Q33: งาน | R33: 1 | T33: 0.2313 | V33: =((($P$21*1000000)*T33)/100)/$T$21 -> 385.5 | W33: 1.9 | X33: เจ้าหน้าที่ความปลอดภัย | AB33: คน | AC33: 0 | AE33: 0 | AG33: =(AC33*AE33) -> 0
T34: 0 | V34: =((($P$21*1000000)*T34)/100)/$T$21 -> 0
T35: 0 | V35: =((($P$21*1000000)*T35)/100)/$T$21 -> 0 | X35: รวม | AG35: =SUM(AG25:AG34) -> 13000
L36: รวม | V36: =SUM(V25:V35) -> 11909.5 | W36: รวม คิดให้ 50 % โดยเฉลี่ยจากการทำงานหลายโครงการ | AG36: =AG35/2 -> 6500
A37: หน้าที่ 5 | L37: หน้าที่ 8 | W37: หน้าที่ 21 | AH37: หน้าที่ 34
A39: 1.1.2 ค่าธรรมเนียมธนาคารหนังสือค้ำประกันผลงานก่อสร้าง | M39: 1.2.3 กรณีค่างานลงทุนไม่เกิน | P39: 2 | Q39: ล้านบาท | S39: ระยะเวลา | T39: =E12 -> 9 | U39: เดือน | X39: 1.3.3 กรณีค่างานลงทุนไม่เกิน | AA39: 2 | AB39: ล้านบาท | AD39: ระยะเวลา | AE39: =E12 -> 9 | AF39: เดือน | AH39: รวมค่าใช้จ่ายตามข้อ 1.1 -1.4
A40: วงเงินค้ำประกัน | C40: 5 | D40: % ของค่างาน | G40: ระยะเวลา | H40: 2 | I40: ปี | L40: ลำดับที่ | M40: ประเภท | Q40: หน่วย | R40: จำนวน | S40: อัตราเฉลี่ยค่าใช้จ่าย | U40: รวมคิดเป็นค่าใช้จ่าย | W40: ลำดับที่ | X40: ประเภท | AB40: หน่วย | AC40: จำนวน | AD40: อัตราค่าใช้จ่าย(เงินเดือน) | AF40: รวมค่าใช้จ่าย(เงินเดือน) | AH40: ค่างาน ( ทุน ) | AJ40: รวมค่าใช้จ่ายข้อ 1.1 | AK40: รวมค่าใช้จ่ายข้อ 1.2 | AL40: รวมค่าใช้จ่ายข้อ 1.3 | AM40: รวมค่าใช้จ่ายข้อ 1.4 | AN40: รวมค่าใช้จ่ายทั้งหมด
A41: อัตราค่าธรรมเนียม | C41: 2.5 | D41: % ต่อปี | G41: ค่าธรรมเนียม | H41: =ROUND(((($C$40/100)*$C$41/100)*2*100),4) -> 0.25 | I41: % ของค่างาน | S41: % /โครงการ | U41: บาท/เดือน | AD41: บาท/หน่วย | AF41: บาท/เดือน | AH41: ล้านบาท | AJ41: % | AK41: % | AL41: % | AM41: % | AN41: %
L42: 1 | M42: ค่าเอกสารสิ่งพิมพ์และด้านธุรการ | W42: 1 | X42: บุคคลากร | AH42: < | AI42: =B10 -> 0.5 | AJ42: =J78 -> 0.6705 | AK42: =U439 -> 7.1458 | AL42: =AG439 -> 3.3 | AM42: =$AM$8 -> 0.3 | AN42: =ROUND(AJ42+AK42+AL42+AM42,4) -> 11.4163
B43: 1.1.3 ค่าอากรแสตมป์ติดสัญญา | L43: 1.1 | M43: ค่าใช้จ่ายในการพิมพ์แบบเพิ่มเติม,ทำSHOP DRAWING ฯ | Q43: งาน | R43: 1 | T43: 0.3285 | V43: =((($P$39*1000000)*T43)/100)/$T$39 -> 730 | W43: 1.1 | X43: ผู้จัดการ | AB43: คน | AC43: 0 | AE43: 0 | AG43: =(AC43*AE43) -> 0 | AI43: =B11 -> 1 | AJ43: =J79 -> 0.6705 | AK43: =U440 -> 7.1457 | AL43: =AG440 -> 3.3 | AM43: =$AM$8 -> 0.3 | AN43: =ROUND(AJ43+AK43+AL43+AM43,4) -> 11.4162
F44: ค่าอากรแสตมป์ | H44: 0.1 | I44: % ของค่างาน | L44: 1.2 | M44: ค่าใช้จ่ายในการส่งตัวอย่างวัสดุทดสอบ,หนังสือรับรอง | Q44: งาน | R44: 1 | T44: 0.8573 | V44: =((($P$39*1000000)*T44)/100)/$T$39 -> 1905.1111 | W44: 1.2 | X44: วิศวกรโครงการ | AB44: คน | AC44: 0 | AE44: 0 | AG44: =(AC44*AE44) -> 0 | AI44: =B12 -> 2 | AJ44: =J80 -> 0.7018 | AK44: =U441 -> 6.9707 | AL44: =AG441 -> 3.3 | AM44: =$AM$8 -> 0.3 | AN44: =ROUND(AJ44+AK44+AL44+AM44,4) -> 11.2725
L45: 1.3 | M45: ค่าใช้จ่ายการจัดเตรียมเอกสารต่างๆ ระหว่างก่อสร้าง | Q45: งาน | R45: 1 | T45: 0.01 | V45: =((($P$39*1000000)*T45)/100)/$T$39 -> 22.222222 | W45: 1.3 | X45: วิศวกร | AB45: คน | AC45: 0 | AE45: 0 | AG45: =(AC45*AE45) -> 0 | AI45: =B13 -> 5 | AJ45: =J81 -> 0.733 | AK45: =U442 -> 6.8832 | AL45: =AG442 -> 3.3 | AM45: =$AM$8 -> 0.3 | AN45: =ROUND(AJ45+AK45+AL45+AM45,4) -> 11.2162
A46: 1.1.4 เงินสมทบกองทุนเงินทดแทน กองทุนประกันสังคม และค่าอากรแสตมป์ติดสัญญา | L46: 1.4 | M46: ค่ารักษาความสะอาดและขนขยะระหว่างก่อสร้าง | Q46: งาน | R46: 1 | T46: 0.3432 | V46: =((($P$39*1000000)*T46)/100)/$T$39 -> 762.66667 | W46: 1.4 | X46: สถาปนิก | AB46: คน | AC46: 0 | AE46: 0 | AG46: =(AC46*AE46) -> 0 | AI46: =B14 -> 10 | AJ46: =J82 -> 0.7643 | AK46: =U443 -> 6.6894 | AL46: =AG443 -> 3.3 | AM46: =$AM$8 -> 0.3 | AN46: =ROUND(AJ46+AK46+AL46+AM46,4) -> 11.0537
B47: 1.1.4.1 เงินสมทบกองทุนเงินทดแทน | E47: 0.51 | F47: % ของค่าแรงงาน | L47: 2 | M47: อาคาร,ค่าสาธารณูปโถคและอื่นๆ | T47: 0 | V47: =((($P$39*1000000)*T47)/100)/$T$39 -> 0 | W47: 1.5 | X47: ช่างควบคุมงาน(โฟร์แมน) | AB47: คน | AC47: 1 | AE47: 8000 | AG47: =(AC47*AE47) -> 8000 | AI47: =B15 -> 15 | AJ47: =J83 -> 0.7643 | AK47: =U444 -> 2.9352 | AL47: =AG445 -> 3.4475 | AM47: =$AM$8 -> 0.3 | AN47: =ROUND(AJ47+AK47+AL47+AM47,4) -> 7.447
C48: ค่าแรงงาน | E48: 0.3 | F48: % ของค่างาน | L48: 2.1 | M48: ค่าก่อสร้างที่พักคนงาน,สำนักงาน,โรงงาน,โรงเก็บวัสดุ | Q48: งาน | R48: 1 | T48: 3.0233 | V48: =((($P$39*1000000)*T48)/100)/$T$39 -> 6718.4444 | W48: 1.6 | X48: เสมียน | AB48: คน | AC48: 1 | AE48: 5000 | AG48: =(AC48*AE48) -> 5000 | AI48: =B16 -> 20 | AJ48: =J84 -> 0.7747 | AK48: =U445 -> 2.9221 | AL48: =AG446 -> 3.4475 | AM48: =$AM$8 -> 0.3 | AN48: =ROUND(AJ48+AK48+AL48+AM48,4) -> 7.4443
C49: เงินสมทบ | D49: 0.51*0.30 | F49: =ROUND(($E$47*$E$48),4) -> 0.153 | G49: % ของค่างาน | L49: 2.2 | M49: ค่าสารธณูปโภค,น้ำ,ไฟ,สื่อสารชั่วคราว | Q49: งาน | R49: 1 | T49: 2.1528 | V49: =((($P$39*1000000)*T49)/100)/$T$39 -> 4784 | W49: 1.7 | X49: หัวหน้าช่าง | AB49: คน | AC49: 0 | AE49: 0 | AG49: =(AC49*AE49) -> 0 | AI49: =B17 -> 25 | AJ49: =J85 -> 0.7747 | AK49: =U446 -> 2.9004 | AL49: =AG447 -> 3.4475 | AM49: =$AM$8 -> 0.3 | AN49: =ROUND(AJ49+AK49+AL49+AM49,4) -> 7.4226
L50: 2.3 | M50: ค่าอุปกรณ์ความปลอดภัย,หมวก,ถุงมือ,ถังดับเพลิงฯ | Q50: งาน | R50: 1 | T50: 0.0243 | V50: =((($P$39*1000000)*T50)/100)/$T$39 -> 54 | W50: 1.8 | X50: คนคุมเครื่องจักร | AB50: คน | AC50: 0 | AE50: 0 | AG50: =(AC50*AE50) -> 0 | AI50: =B18 -> 30 | AJ50: =J86 -> 0.7851 | AK50: =U447 -> 2.5682 | AL50: =AG449 -> 3.2365 | AM50: =$AM$8 -> 0.3 | AN50: =ROUND(AJ50+AK50+AL50+AM50,4) -> 6.8898
B51: 1.1.4.2 เงินสมทบกองทุนประกันสังคม | E51: 0.35 | F51: % ของค่าแรงงาน | L51: 2.4 | M51: ค่าทำป้ายชื่องาน,ป้ายสัญญาณเตือนภัยต่างๆ ฯลฯ | Q51: งาน | R51: 1 | T51: 0.2313 | V51: =((($P$39*1000000)*T51)/100)/$T$39 -> 514 | W51: 1.9 | X51: เจ้าหน้าที่ความปลอดภัย | AB51: คน | AC51: 0 | AE51: 0 | AG51: =(AC51*AE51) -> 0 | AI51: =B19 -> 40 | AJ51: =J87 -> 0.7851 | AK51: =U448 -> 2.3441 | AL51: =AG450 -> 3.2365 | AM51: =$AM$8 -> 0.3 | AN51: =ROUND(AJ51+AK51+AL51+AM51,4) -> 6.6657
C52: ค่าแรงงาน | E52: 0.3 | F52: % ของค่าแรงงาน | T52: 0 | V52: =((($P$39*1000000)*T52)/100)/$T$39 -> 0 | AI52: =B20 -> 50 | AJ52: =J88 -> 0.7955 | AK52: =U449 -> 2.3338 | AL52: =AG451 -> 3.2365 | AM52: =$AM$8 -> 0.3 | AN52: =ROUND(AJ52+AK52+AL52+AM52,4) -> 6.6658
C53: เงินสมทบ | D53: 0.35*0.30 | F53: =ROUND(($E$51*$E$52),4) -> 0.105 | G53: % ของค่างาน | T53: 0 | V53: =((($P$39*1000000)*T53)/100)/$T$39 -> 0 | X53: รวม | AG53: =SUM(AG43:AG52) -> 13000 | AI53: =B21 -> 60 | AJ53: =J89 -> 0.7955 | AK53: =U450 -> 2.1118 | AL53: =AG453 -> 3.0471 | AM53: =$AM$8 -> 0.3 | AN53: =ROUND(AJ53+AK53+AL53+AM53,4) -> 6.2544
L54: รวม | V54: =SUM(V43:V53) -> 15490.444 | W54: รวม คิดให้ 50 % โดยเฉลี่ยจากการทำงานหลายโครงการ | AG54: =AG53/2 -> 6500 | AI54: =B22 -> 70 | AJ54: =J90 -> 0.8163 | AK54: =U451 -> 2.0791 | AL54: =AG454 -> 3.0471 | AM54: =$AM$8 -> 0.3 | AN54: =ROUND(AJ54+AK54+AL54+AM54,4) -> 6.2425
B55: รวมค่าใช้จ่ายเงินสมทบกองทุนทดแทน และประกันสังคม | H55: =ROUND(($F$49+$F$53),4) -> 0.258 | I55: % ของค่างาน | AI55: =B23 -> 80 | AJ55: =J91 -> 0.8163 | AK55: =U452 -> 2.0791 | AL55: =AG455 -> 3.0471 | AM55: =$AM$8 -> 0.3 | AN55: =ROUND(AJ55+AK55+AL55+AM55,4) -> 6.2425
M56: 1.2.4 กรณีค่างานลงทุนไม่เกิน | P56: 5 | Q56: ล้านบาท | S56: ระยะเวลา | T56: =E13 -> 12 | U56: เดือน | X56: 1.3.4 กรณีค่างานลงทุนไม่เกิน | AA56: 5 | AB56: ล้านบาท | AD56: ระยะเวลา | AE56: =E13 -> 12 | AF56: เดือน | AI56: =B24 -> 90 | AJ56: =J92 -> 0.8163 | AK56: =U453 -> 1.8445 | AL56: =AG456 -> 3.0471 | AM56: =$AM$8 -> 0.3 | AN56: =ROUND(AJ56+AK56+AL56+AM56,4) -> 6.0079
L57: ลำดับที่ | M57: ประเภท | Q57: หน่วย | R57: จำนวน | S57: อัตราเฉลี่ยค่าใช้จ่าย | U57: รวมคิดเป็นค่าใช้จ่าย | W57: ลำดับที่ | X57: ประเภท | AB57: หน่วย | AC57: จำนวน | AD57: อัตราค่าใช้จ่าย(เงินเดือน) | AF57: รวมค่าใช้จ่าย(เงินเดือน) | AI57: =B25 -> 100 | AJ57: =J93 -> 0.8163 | AK57: =U454 -> 1.8445 | AL57: =AG457 -> 3.0471 | AM57: =$AM$8 -> 0.3 | AN57: =ROUND(AJ57+AK57+AL57+AM57,4) -> 6.0079
S58: % /โครงการ | U58: บาท/เดือน | AD58: บาท/หน่วย | AF58: บาท/เดือน | AI58: =B26 -> 150 | AJ58: =J94 -> 0.8372 | AK58: =U455 -> 1.7204 | AL58: =AG459 -> 3.149 | AM58: =$AM$8 -> 0.3 | AN58: =ROUND(AJ58+AK58+AL58+AM58,4) -> 6.0066
L59: 1 | M59: ค่าเอกสารสิ่งพิมพ์และด้านธุรการ | W59: 1 | X59: บุคคลากร | AI59: =B27 -> 200 | AJ59: =J95 -> 0.858 | AK59: =U456 -> 1.6981 | AL59: =AG460 -> 3.149 | AM59: =$AM$8 -> 0.3 | AN59: =ROUND(AJ59+AK59+AL59+AM59,4) -> 6.0051
L60: 1.1 | M60: ค่าใช้จ่ายในการพิมพ์แบบเพิ่มเติม,ทำSHOP DRAWING ฯ | Q60: งาน | R60: 1 | T60: 0.3285 | V60: =((($P$56*1000000)*T60)/100)/$T$56 -> 1368.75 | W60: 1.1 | X60: ผู้จัดการ | AB60: คน | AC60: 0 | AE60: 0 | AG60: =(AC60*AE60) -> 0 | AI60: =B28 -> 250 | AJ60: =J96 -> 0.8997 | AK60: =U457 -> 1.4141 | AL60: =AG461 -> 3.149 | AM60: =$AM$8 -> 0.3 | AN60: =ROUND(AJ60+AK60+AL60+AM60,4) -> 5.7628
L61: 1.2 | M61: ค่าใช้จ่ายในการส่งตัวอย่างวัสดุทดสอบ,หนังสือรับรอง | Q61: งาน | R61: 1 | T61: 0.8573 | V61: =((($P$56*1000000)*T61)/100)/$T$56 -> 3572.0833 | W61: 1.2 | X61: วิศวกรโครงการ | AB61: คน | AC61: 0 | AE61: 0 | AG61: =(AC61*AE61) -> 0 | AI61: =B29 -> 300 | AJ61: =J97 -> 0.9205 | AK61: =U458 -> 1.3937 | AL61: =AG462 -> 3.149 | AM61: =$AM$8 -> 0.3 | AN61: =ROUND(AJ61+AK61+AL61+AM61,4) -> 5.7632
L62: 1.3 | M62: ค่าใช้จ่ายการจัดเตรียมเอกสารต่างๆ ระหว่างก่อสร้าง | Q62: งาน | R62: 1 | T62: 0.01 | V62: =((($P$56*1000000)*T62)/100)/$T$56 -> 41.666667 | W62: 1.3 | X62: วิศวกร | AB62: คน | AC62: 1 | AE62: 12000 | AG62: =(AC62*AE62) -> 12000 | AI62: =B30 -> 350 | AJ62: =J98 -> 0.9413 | AK62: =U459 -> 1.3547 | AL62: =AG464 -> 3.0925 | AM62: =$AM$8 -> 0.3 | AN62: =ROUND(AJ62+AK62+AL62+AM62,4) -> 5.6885
L63: 1.4 | M63: ค่ารักษาความสะอาดและขนขยะระหว่างก่อสร้าง | Q63: งาน | R63: 1 | T63: 0.3432 | V63: =((($P$56*1000000)*T63)/100)/$T$56 -> 1430 | W63: 1.4 | X63: สถาปนิก | AB63: คน | AC63: 0 | AE63: 0 | AG63: =(AC63*AE63) -> 0 | AI63: =B31 -> 400 | AJ63: =J99 -> 0.983 | AK63: =U460 -> 1.2932 | AL63: =AG465 -> 3.0925 | AM63: =$AM$8 -> 0.3 | AN63: =ROUND(AJ63+AK63+AL63+AM63,4) -> 5.6687
L64: 2 | M64: อาคาร,ค่าสาธารณูปโถคและอื่นๆ | T64: 0 | V64: =((($P$56*1000000)*T64)/100)/$T$56 -> 0 | W64: 1.5 | X64: ช่างควบคุมงาน(โฟร์แมน) | AB64: คน | AC64: 1 | AE64: 8000 | AG64: =(AC64*AE64) -> 8000 | AI64: =B32 -> 500 | AJ64: =J100 -> 0.983 | AK64: =U461 -> 1.2932 | AL64: =AG466 -> 3.0925 | AM64: =$AM$8 -> 0.3 | AN64: =ROUND(AJ64+AK64+AL64+AM64,4) -> 5.6687
L65: 2.1 | M65: ค่าก่อสร้างที่พักคนงาน,สำนักงาน,โรงงาน,โรงเก็บวัสดุ | Q65: งาน | R65: 1 | T65: 2.9358 | V65: =((($P$56*1000000)*T65)/100)/$T$56 -> 12232.5 | W65: 1.6 | X65: เสมียน | AB65: คน | AC65: 1 | AE65: 5000 | AG65: =(AC65*AE65) -> 5000 | AH65: =A33 -> > | AI65: =B33 -> 1000 | AJ65: =J101 -> 1.0247 | AK65: =U462 -> 1.1931 | AL65: =AG468 -> 2.5424 | AM65: =$AM$8 -> 0.3 | AN65: =ROUND(AJ65+AK65+AL65+AM65,4) -> 5.0602
L66: 2.2 | M66: ค่าสารธณูปโภค,น้ำ,ไฟ,สื่อสารชั่วคราว | Q66: งาน | R66: 1 | T66: 2.1528 | V66: =((($P$56*1000000)*T66)/100)/$T$56 -> 8970 | W66: 1.7 | X66: หัวหน้าช่าง | AB66: คน | AC66: 0 | AE66: 0 | AG66: =(AC66*AE66) -> 0
L67: 2.3 | M67: ค่าอุปกรณ์ความปลอดภัย,หมวก,ถุงมือ,ถังดับเพลิงฯ | Q67: งาน | R67: 1 | T67: 0.0243 | V67: =((($P$56*1000000)*T67)/100)/$T$56 -> 101.25 | W67: 1.8 | X67: คนคุมเครื่องจักร | AB67: คน | AC67: 0 | AE67: 0 | AG67: =(AC67*AE67) -> 0
L68: 2.4 | M68: ค่าทำป้ายชื่องาน,ป้ายสัญญาณเตือนภัยต่างๆ ฯลฯ | Q68: งาน | R68: 1 | T68: 0.2313 | V68: =((($P$56*1000000)*T68)/100)/$T$56 -> 963.75 | W68: 1.9 | X68: เจ้าหน้าที่ความปลอดภัย | AB68: คน | AC68: 0 | AE68: 0 | AG68: =(AC68*AE68) -> 0
T69: 0 | V69: =((($P$56*1000000)*T69)/100)/$T$56 -> 0
T70: 0 | V70: =((($P$56*1000000)*T70)/100)/$T$56 -> 0 | X70: รวม | AG70: =SUM(AG60:AG69) -> 25000
L71: รวม | V71: =SUM(V60:V70) -> 28680 | W71: รวม คิดให้ 50 % โดยเฉลี่ยจากการทำงานหลายโครงการ | AG71: =AG70/2 -> 12500
A73: หน้าที่ 6 | L73: หน้าที่ 9 | W73: หน้าที่ 22
A75: รวมค่าใช้จ่ายตามข้อ 1.1 | M75: 1.2.5 กรณีค่างานลงทุนไม่เกิน | P75: 10 | Q75: ล้านบาท | S75: ระยะเวลา | T75: =E14 -> 15 | U75: เดือน | X75: 1.3.5 กรณีค่างานลงทุนไม่เกิน | AA75: 10 | AB75: ล้านบาท | AD75: ระยะเวลา | AE75: =E14 -> 15 | AF75: เดือน
A76: ค่างาน ( ทุน ) | C76: ข้อ 1.1.1 | E76: ข้อ 1.1.2 | G76: ข้อ 1.1.3 | H76: ข้อ 1.1.4 | J76: รวม | L76: ลำดับที่ | M76: ประเภท | Q76: หน่วย | R76: จำนวน | S76: อัตราเฉลี่ยค่าใช้จ่าย | U76: รวมคิดเป็นค่าใช้จ่าย | W76: ลำดับที่ | X76: ประเภท | AB76: หน่วย | AC76: จำนวน | AD76: อัตราค่าใช้จ่าย(เงินเดือน) | AF76: รวมค่าใช้จ่าย(เงินเดือน)
A77: ล้านบาท | C77: ค้ำประกันสัญญา% | E77: ค้ำประกันผลงาน% | G77: ค่าอากร% | H77: กองทุนทดแทน+ประกันสังคม% | J77: % | S77: % /โครงการ | U77: บาท/เดือน | AD77: บาท/หน่วย | AF77: บาท/เดือน
A78: < | B78: =B10 -> 0.5 | D78: =J10 -> 0.0625 | F78: =$H$41 -> 0.25 | G78: =$H$44 -> 0.1 | I78: =$H$55 -> 0.258 | J78: =ROUND((D78+F78+G78+I78),4) -> 0.6705 | L78: 1 | M78: ค่าเอกสารสิ่งพิมพ์และด้านธุรการ | W78: 1 | X78: บุคคลากร
B79: =B11 -> 1 | D79: =J11 -> 0.0625 | F79: =$H$41 -> 0.25 | G79: =$H$44 -> 0.1 | I79: =$H$55 -> 0.258 | J79: =ROUND((D79+F79+G79+I79),4) -> 0.6705 | L79: 1.1 | M79: ค่าใช้จ่ายในการพิมพ์แบบเพิ่มเติม,ทำSHOP DRAWING ฯ | Q79: งาน | R79: 1 | T79: 0.3285 | V79: =((($P$75*1000000)*T79)/100)/$T$75 -> 2190 | W79: 1.1 | X79: ผู้จัดการ | AB79: คน | AC79: 0 | AE79: 0 | AG79: =(AC79*AE79) -> 0
B80: =B12 -> 2 | D80: =J12 -> 0.0938 | F80: =$H$41 -> 0.25 | G80: =$H$44 -> 0.1 | I80: =$H$55 -> 0.258 | J80: =ROUND((D80+F80+G80+I80),4) -> 0.7018 | L80: 1.2 | M80: ค่าใช้จ่ายในการส่งตัวอย่างวัสดุทดสอบ,หนังสือรับรอง | Q80: งาน | R80: 1 | T80: 0.8573 | V80: =((($P$75*1000000)*T80)/100)/$T$75 -> 5715.3333 | W80: 1.2 | X80: วิศวกรโครงการ | AB80: คน | AC80: 0 | AE80: 0 | AG80: =(AC80*AE80) -> 0
B81: =B13 -> 5 | D81: =J13 -> 0.125 | F81: =$H$41 -> 0.25 | G81: =$H$44 -> 0.1 | I81: =$H$55 -> 0.258 | J81: =ROUND((D81+F81+G81+I81),4) -> 0.733 | L81: 1.3 | M81: ค่าใช้จ่ายการจัดเตรียมเอกสารต่างๆ ระหว่างก่อสร้าง | Q81: งาน | R81: 1 | T81: 0.01 | V81: =((($P$75*1000000)*T81)/100)/$T$75 -> 66.666667 | W81: 1.3 | X81: วิศวกร | AB81: คน | AC81: 1 | AE81: 12000 | AG81: =(AC81*AE81) -> 12000
B82: =B14 -> 10 | D82: =J14 -> 0.1563 | F82: =$H$41 -> 0.25 | G82: =$H$44 -> 0.1 | I82: =$H$55 -> 0.258 | J82: =ROUND((D82+F82+G82+I82),4) -> 0.7643 | L82: 1.4 | M82: ค่ารักษาความสะอาดและขนขยะระหว่างก่อสร้าง | Q82: งาน | R82: 1 | T82: 0.3432 | V82: =((($P$75*1000000)*T82)/100)/$T$75 -> 2288 | W82: 1.4 | X82: สถาปนิก | AB82: คน | AC82: 0 | AE82: 0 | AG82: =(AC82*AE82) -> 0
B83: =B15 -> 15 | D83: =J15 -> 0.1563 | F83: =$H$41 -> 0.25 | G83: =$H$44 -> 0.1 | I83: =$H$55 -> 0.258 | J83: =ROUND((D83+F83+G83+I83),4) -> 0.7643 | L83: 2 | M83: อาคาร,ค่าสาธารณูปโถคและอื่นๆ | T83: 0 | V83: =((($P$75*1000000)*T83)/100)/$T$75 -> 0 | W83: 1.5 | X83: ช่างควบคุมงาน(โฟร์แมน) | AB83: คน | AC83: 1 | AE83: 8000 | AG83: =(AC83*AE83) -> 8000
B84: =B16 -> 20 | D84: =J16 -> 0.1667 | F84: =$H$41 -> 0.25 | G84: =$H$44 -> 0.1 | I84: =$H$55 -> 0.258 | J84: =ROUND((D84+F84+G84+I84),4) -> 0.7747 | L84: 2.1 | M84: ค่าก่อสร้างที่พักคนงาน,สำนักงาน,โรงงาน,โรงเก็บวัสดุ | Q84: งาน | R84: 1 | T84: 2.8833 | V84: =((($P$75*1000000)*T84)/100)/$T$75 -> 19222 | W84: 1.6 | X84: เสมียน | AB84: คน | AC84: 1 | AE84: 5000 | AG84: =(AC84*AE84) -> 5000
B85: =B17 -> 25 | D85: =J17 -> 0.1667 | F85: =$H$41 -> 0.25 | G85: =$H$44 -> 0.1 | I85: =$H$55 -> 0.258 | J85: =ROUND((D85+F85+G85+I85),4) -> 0.7747 | L85: 2.2 | M85: ค่าสารธณูปโภค,น้ำ,ไฟ,สื่อสารชั่วคราว | Q85: งาน | R85: 1 | T85: 2.1528 | V85: =((($P$75*1000000)*T85)/100)/$T$75 -> 14352 | W85: 1.7 | X85: หัวหน้าช่าง | AB85: คน | AC85: 0 | AE85: 0 | AG85: =(AC85*AE85) -> 0
B86: =B18 -> 30 | D86: =J18 -> 0.1771 | F86: =$H$41 -> 0.25 | G86: =$H$44 -> 0.1 | I86: =$H$55 -> 0.258 | J86: =ROUND((D86+F86+G86+I86),4) -> 0.7851 | L86: 2.3 | M86: ค่าอุปกรณ์ความปลอดภัย,หมวก,ถุงมือ,ถังดับเพลิงฯ | Q86: งาน | R86: 1 | T86: 0.0243 | V86: =((($P$75*1000000)*T86)/100)/$T$75 -> 162 | W86: 1.8 | X86: คนคุมเครื่องจักร | AB86: คน | AC86: 0 | AE86: 0 | AG86: =(AC86*AE86) -> 0
B87: =B19 -> 40 | D87: =J19 -> 0.1771 | F87: =$H$41 -> 0.25 | G87: =$H$44 -> 0.1 | I87: =$H$55 -> 0.258 | J87: =ROUND((D87+F87+G87+I87),4) -> 0.7851 | L87: 2.4 | M87: ค่าทำป้ายชื่องาน,ป้ายสัญญาณเตือนภัยต่างๆ ฯลฯ | Q87: งาน | R87: 1 | T87: 0.09 | V87: =((($P$75*1000000)*T87)/100)/$T$75 -> 600 | W87: 1.9 | X87: เจ้าหน้าที่ความปลอดภัย | AB87: คน | AC87: 0 | AE87: 0 | AG87: =(AC87*AE87) -> 0
B88: =B20 -> 50 | D88: =J20 -> 0.1875 | F88: =$H$41 -> 0.25 | G88: =$H$44 -> 0.1 | I88: =$H$55 -> 0.258 | J88: =ROUND((D88+F88+G88+I88),4) -> 0.7955 | T88: 0 | V88: =((($P$75*1000000)*T88)/100)/$T$75 -> 0
B89: =B21 -> 60 | D89: =J21 -> 0.1875 | F89: =$H$41 -> 0.25 | G89: =$H$44 -> 0.1 | I89: =$H$55 -> 0.258 | J89: =ROUND((D89+F89+G89+I89),4) -> 0.7955 | T89: 0 | V89: =((($P$75*1000000)*T89)/100)/$T$75 -> 0 | X89: รวม | AG89: =SUM(AG79:AG88) -> 25000
B90: =B22 -> 70 | D90: =J22 -> 0.2083 | F90: =$H$41 -> 0.25 | G90: =$H$44 -> 0.1 | I90: =$H$55 -> 0.258 | J90: =ROUND((D90+F90+G90+I90),4) -> 0.8163 | L90: รวม | V90: =SUM(V79:V89) -> 44596 | W90: รวม คิดให้ 50 % โดยเฉลี่ยจากการทำงานหลายโครงการ | AG90: =AG89/2 -> 12500
B91: =B23 -> 80 | D91: =J23 -> 0.2083 | F91: =$H$41 -> 0.25 | G91: =$H$44 -> 0.1 | I91: =$H$55 -> 0.258 | J91: =ROUND((D91+F91+G91+I91),4) -> 0.8163
B92: =B24 -> 90 | D92: =J24 -> 0.2083 | F92: =$H$41 -> 0.25 | G92: =$H$44 -> 0.1 | I92: =$H$55 -> 0.258 | J92: =ROUND((D92+F92+G92+I92),4) -> 0.8163 | M92: 1.2.6 กรณีค่างานลงทุนไม่เกิน | P92: 15 | Q92: ล้านบาท | S92: ระยะเวลา | T92: =E15 -> 15 | U92: เดือน | X92: 1.3.6 กรณีค่างานลงทุนไม่เกิน | AA92: 15 | AB92: ล้านบาท | AC92: =E15 -> 15 | AD92: ระยะเวลา | AE92: =E15 -> 15 | AF92: เดือน
B93: =B25 -> 100 | D93: =J25 -> 0.2083 | F93: =$H$41 -> 0.25 | G93: =$H$44 -> 0.1 | I93: =$H$55 -> 0.258 | J93: =ROUND((D93+F93+G93+I93),4) -> 0.8163 | L93: ลำดับที่ | M93: ประเภท | Q93: หน่วย | R93: จำนวน | S93: อัตราเฉลี่ยค่าใช้จ่าย | U93: รวมคิดเป็นค่าใช้จ่าย | W93: ลำดับที่ | X93: ประเภท | AB93: หน่วย | AC93: จำนวน | AD93: อัตราค่าใช้จ่าย(เงินเดือน) | AF93: รวมค่าใช้จ่าย(เงินเดือน)
B94: =B26 -> 150 | D94: =J26 -> 0.2292 | F94: =$H$41 -> 0.25 | G94: =$H$44 -> 0.1 | I94: =$H$55 -> 0.258 | J94: =ROUND((D94+F94+G94+I94),4) -> 0.8372 | S94: % /โครงการ | U94: บาท/เดือน | AD94: บาท/หน่วย | AF94: บาท/เดือน
B95: =B27 -> 200 | D95: =J27 -> 0.25 | F95: =$H$41 -> 0.25 | G95: =$H$44 -> 0.1 | I95: =$H$55 -> 0.258 | J95: =ROUND((D95+F95+G95+I95),4) -> 0.858 | L95: 1 | M95: ค่าเอกสารสิ่งพิมพ์และด้านธุรการ | W95: 1 | X95: บุคคลากร
B96: =B28 -> 250 | D96: =J28 -> 0.2917 | F96: =$H$41 -> 0.25 | G96: =$H$44 -> 0.1 | I96: =$H$55 -> 0.258 | J96: =ROUND((D96+F96+G96+I96),4) -> 0.8997 | L96: 1.1 | M96: ค่าใช้จ่ายในการพิมพ์แบบเพิ่มเติม,ทำSHOP DRAWING ฯ | Q96: งาน | R96: 1 | T96: 0.0811 | V96: =((($P$92*1000000)*T96)/100)/$T$92 -> 811 | W96: 1.1 | X96: ผู้จัดการ | AB96: คน | AC96: 0 | AE96: 0 | AG96: =(AC96*AE96) -> 0
B97: =B29 -> 300 | D97: =J29 -> 0.3125 | F97: =$H$41 -> 0.25 | G97: =$H$44 -> 0.1 | I97: =$H$55 -> 0.258 | J97: =ROUND((D97+F97+G97+I97),4) -> 0.9205 | L97: 1.2 | M97: ค่าใช้จ่ายในการส่งตัวอย่างวัสดุทดสอบ,หนังสือรับรอง | Q97: งาน | R97: 1 | T97: 0.8573 | V97: =((($P$92*1000000)*T97)/100)/$T$92 -> 8573 | W97: 1.2 | X97: วิศวกรโครงการ | AB97: คน | AC97: 0 | AE97: 0 | AG97: =(AC97*AE97) -> 0
B98: =B30 -> 350 | D98: =J30 -> 0.3333 | F98: =$H$41 -> 0.25 | G98: =$H$44 -> 0.1 | I98: =$H$55 -> 0.258 | J98: =ROUND((D98+F98+G98+I98),4) -> 0.9413 | L98: 1.3 | M98: ค่าใช้จ่ายการจัดเตรียมเอกสารต่างๆ ระหว่างก่อสร้าง | Q98: งาน | R98: 1 | T98: 0.01 | V98: =((($P$92*1000000)*T98)/100)/$T$92 -> 100 | W98: 1.3 | X98: วิศวกร | AB98: คน | AC98: 1 | AE98: 15000 | AG98: =(AC98*AE98) -> 15000
B99: =B31 -> 400 | D99: =J31 -> 0.375 | F99: =$H$41 -> 0.25 | G99: =$H$44 -> 0.1 | I99: =$H$55 -> 0.258 | J99: =ROUND((D99+F99+G99+I99),4) -> 0.983 | L99: 1.4 | M99: ค่ารักษาความสะอาดและขนขยะระหว่างก่อสร้าง | Q99: งาน | R99: 1 | T99: 0.1281 | V99: =((($P$92*1000000)*T99)/100)/$T$92 -> 1281 | W99: 1.4 | X99: สถาปนิก | AB99: คน | AC99: 0 | AE99: 0 | AG99: =(AC99*AE99) -> 0
B100: =B32 -> 500 | D100: =J32 -> 0.375 | F100: =$H$41 -> 0.25 | G100: =$H$44 -> 0.1 | I100: =$H$55 -> 0.258 | J100: =ROUND((D100+F100+G100+I100),4) -> 0.983 | L100: 2 | M100: อาคาร,ค่าสาธารณูปโถคและอื่นๆ | T100: 0 | V100: =((($P$92*1000000)*T100)/100)/$T$92 -> 0 | W100: 1.5 | X100: ช่างควบคุมงาน(โฟร์แมน) | AB100: คน | AC100: 1 | AE100: 8000 | AG100: =(AC100*AE100) -> 8000
A101: > | B101: =B33 -> 1000 | D101: =J33 -> 0.4167 | F101: =$H$41 -> 0.25 | G101: =$H$44 -> 0.1 | I101: =$H$55 -> 0.258 | J101: =ROUND((D101+F101+G101+I101),4) -> 1.0247 | L101: 2.1 | M101: ค่าก่อสร้างที่พักคนงาน,สำนักงาน,โรงงาน,โรงเก็บวัสดุ | Q101: งาน | R101: 1 | T101: 0.4694 | V101: =((($P$92*1000000)*T101)/100)/$T$92 -> 4694 | W101: 1.6 | X101: เสมียน | AB101: คน | AC101: 1 | AE101: 6000 | AG101: =(AC101*AE101) -> 6000
L102: 2.2 | M102: ค่าสารธณูปโภค,น้ำ,ไฟ,สื่อสารชั่วคราว | Q102: งาน | R102: 1 | T102: 1.2928 | V102: =((($P$92*1000000)*T102)/100)/$T$92 -> 12928 | W102: 1.7 | X102: หัวหน้าช่าง | AB102: คน | AC102: 1 | AE102: 6000 | AG102: =(AC102*AE102) -> 6000
L103: 2.3 | M103: ค่าอุปกรณ์ความปลอดภัย,หมวก,ถุงมือ,ถังดับเพลิงฯ | Q103: งาน | R103: 1 | T103: 0.0243 | V103: =((($P$92*1000000)*T103)/100)/$T$92 -> 243 | W103: 1.8 | X103: คนคุมเครื่องจักร | AB103: คน | AC103: 0 | AE103: 0 | AG103: =(AC103*AE103) -> 0
L104: 2.4 | M104: ค่าทำป้ายชื่องาน,ป้ายสัญญาณเตือนภัยต่างๆ ฯลฯ | Q104: งาน | R104: 1 | T104: 0.0722 | V104: =((($P$92*1000000)*T104)/100)/$T$92 -> 722 | W104: 1.9 | X104: เจ้าหน้าที่ความปลอดภัย | AB104: คน | AC104: 0 | AE104: 0 | AG104: =(AC104*AE104) -> 0
...

Sheet ดอกเบี้ย,กำไร
A1: หน้าที่ 35
A3: 2. ดอกเบี้ย
B5: ดอกเบี้ยเงินกู้ | D5: ='FACTOR F'!I4 -> 6 | E5: % ต่อปี | G5: เงินจ่ายล่วงหน้า | H5: ='FACTOR F'!D4 -> 0 | I5: % ของค่างาน
B6: ระยะเวลาการเบิกจ่าย | D6: 3 | E6: เดือน | G6: หักเงินประกันผลงาน | H6: ='FACTOR F'!D5 -> 0 | I6: % ของค่างาน
B7: สูตร | C7: I = i/12*[r/100+(T+(D-1)*a/100-(a+r)/100*(T+1)/2-(D-1)]
A9: ค่างาน(ทุน) | C9: ระยะเวลา | D9: เงินจ่าย | E9: หักเงินประกัน | F9: อัตรา | G9: จำนวนดอกเบี้ยต่อ | H9: หมายเหตุ
D10: ล่วงหน้า | E10: ผลงาน | F10: ดอกเบี้ยเงินกู้ | G10: ค่างาน ( ทุน )
A11: ล้านบาท | C11: เดือน | D11: % | E11: % | F11: % ต่อปี | G11: %
A12: < | B12: ='FACTOR F'!B11 -> 0.5 | C12: =' อำนวยการ 1'!E10 -> 6 | D12: =$H$5 -> 0 | E12: =$H$6 -> 0 | F12: =$D$5 -> 6 | G12: =-F12/12*(E12/100+(C12+$D$6-1)*D12/100-(D12+E12)/100*(C12+1)/2-($D$6-1)) -> 1
B13: ='FACTOR F'!B12 -> 1 | C13: =' อำนวยการ 1'!E11 -> 6 | D13: =$H$5 -> 0 | E13: =$H$6 -> 0 | F13: =$D$5 -> 6 | G13: =-F13/12*(E13/100+(C13+$D$6-1)*D13/100-(D13+E13)/100*(C13+1)/2-($D$6-1)) -> 1 | H13: เมื่อ
B14: ='FACTOR F'!B13 -> 2 | C14: =' อำนวยการ 1'!E12 -> 9 | D14: =$H$5 -> 0 | E14: =$H$6 -> 0 | F14: =$D$5 -> 6 | G14: =-F14/12*(E14/100+(C14+$D$6-1)*D14/100-(D14+E14)/100*(C14+1)/2-($D$6-1)) -> 1 | H14: I = | I14: ดอกเบี้ยรวมทั้งโครงการ(%)
B15: ='FACTOR F'!B14 -> 5 | C15: =' อำนวยการ 1'!E13 -> 12 | D15: =$H$5 -> 0 | E15: =$H$6 -> 0 | F15: =$D$5 -> 6 | G15: =-F15/12*(E15/100+(C15+$D$6-1)*D15/100-(D15+E15)/100*(C15+1)/2-($D$6-1)) -> 1 | H15: T = | I15: ระยะเวลา(เดือน)
B16: ='FACTOR F'!B15 -> 10 | C16: =' อำนวยการ 1'!E14 -> 15 | D16: =$H$5 -> 0 | E16: =$H$6 -> 0 | F16: =$D$5 -> 6 | G16: =-F16/12*(E16/100+(C16+$D$6-1)*D16/100-(D16+E16)/100*(C16+1)/2-($D$6-1)) -> 1 | H16: D = | I16: ช่วงเวลาการรับเงิน(เดือน)
B17: ='FACTOR F'!B16 -> 15 | C17: =' อำนวยการ 1'!E15 -> 15 | D17: =$H$5 -> 0 | E17: =$H$6 -> 0 | F17: =$D$5 -> 6 | G17: =-F17/12*(E17/100+(C17+$D$6-1)*D17/100-(D17+E17)/100*(C17+1)/2-($D$6-1)) -> 1 | H17: a = | I17: อัตราเงินล่วงหน้าจ่าย(%)
B18: ='FACTOR F'!B17 -> 20 | C18: =' อำนวยการ 1'!E16 -> 16 | D18: =$H$5 -> 0 | E18: =$H$6 -> 0 | F18: =$D$5 -> 6 | G18: =-F18/12*(E18/100+(C18+$D$6-1)*D18/100-(D18+E18)/100*(C18+1)/2-($D$6-1)) -> 1 | H18: i = | I18: อัตราดอกเบี้ยเงินกู้ต่อปี(%)
B19: ='FACTOR F'!B18 -> 25 | C19: =' อำนวยการ 1'!E17 -> 16 | D19: =$H$5 -> 0 | E19: =$H$6 -> 0 | F19: =$D$5 -> 6 | G19: =-F19/12*(E19/100+(C19+$D$6-1)*D19/100-(D19+E19)/100*(C19+1)/2-($D$6-1)) -> 1 | H19: r = | I19: อัตราเงินประกันผลงาน(%)
B20: ='FACTOR F'!B19 -> 30 | C20: =' อำนวยการ 1'!E18 -> 17 | D20: =$H$5 -> 0 | E20: =$H$6 -> 0 | F20: =$D$5 -> 6 | G20: =-F20/12*(E20/100+(C20+$D$6-1)*D20/100-(D20+E20)/100*(C20+1)/2-($D$6-1)) -> 1
B21: ='FACTOR F'!B20 -> 40 | C21: =' อำนวยการ 1'!E19 -> 17 | D21: =$H$5 -> 0 | E21: =$H$6 -> 0 | F21: =$D$5 -> 6 | G21: =-F21/12*(E21/100+(C21+$D$6-1)*D21/100-(D21+E21)/100*(C21+1)/2-($D$6-1)) -> 1
B22: ='FACTOR F'!B21 -> 50 | C22: =' อำนวยการ 1'!E20 -> 18 | D22: =$H$5 -> 0 | E22: =$H$6 -> 0 | F22: =$D$5 -> 6 | G22: =-F22/12*(E22/100+(C22+$D$6-1)*D22/100-(D22+E22)/100*(C22+1)/2-($D$6-1)) -> 1
B23: ='FACTOR F'!B22 -> 60 | C23: =' อำนวยการ 1'!E21 -> 18 | D23: =$H$5 -> 0 | E23: =$H$6 -> 0 | F23: =$D$5 -> 6 | G23: =-F23/12*(E23/100+(C23+$D$6-1)*D23/100-(D23+E23)/100*(C23+1)/2-($D$6-1)) -> 1
B24: ='FACTOR F'!B23 -> 70 | C24: =' อำนวยการ 1'!E22 -> 20 | D24: =$H$5 -> 0 | E24: =$H$6 -> 0 | F24: =$D$5 -> 6 | G24: =-F24/12*(E24/100+(C24+$D$6-1)*D24/100-(D24+E24)/100*(C24+1)/2-($D$6-1)) -> 1
B25: ='FACTOR F'!B24 -> 80 | C25: =' อำนวยการ 1'!E23 -> 20 | D25: =$H$5 -> 0 | E25: =$H$6 -> 0 | F25: =$D$5 -> 6 | G25: =-F25/12*(E25/100+(C25+$D$6-1)*D25/100-(D25+E25)/100*(C25+1)/2-($D$6-1)) -> 1
B26: ='FACTOR F'!B25 -> 90 | C26: =' อำนวยการ 1'!E24 -> 20 | D26: =$H$5 -> 0 | E26: =$H$6 -> 0 | F26: =$D$5 -> 6 | G26: =-F26/12*(E26/100+(C26+$D$6-1)*D26/100-(D26+E26)/100*(C26+1)/2-($D$6-1)) -> 1
B27: ='FACTOR F'!B26 -> 100 | C27: =' อำนวยการ 1'!E25 -> 20 | D27: =$H$5 -> 0 | E27: =$H$6 -> 0 | F27: =$D$5 -> 6 | G27: =-F27/12*(E27/100+(C27+$D$6-1)*D27/100-(D27+E27)/100*(C27+1)/2-($D$6-1)) -> 1
B28: ='FACTOR F'!B27 -> 150 | C28: =' อำนวยการ 1'!E26 -> 22 | D28: =$H$5 -> 0 | E28: =$H$6 -> 0 | F28: =$D$5 -> 6 | G28: =-F28/12*(E28/100+(C28+$D$6-1)*D28/100-(D28+E28)/100*(C28+1)/2-($D$6-1)) -> 1
B29: ='FACTOR F'!B28 -> 200 | C29: =' อำนวยการ 1'!E27 -> 24 | D29: =$H$5 -> 0 | E29: =$H$6 -> 0 | F29: =$D$5 -> 6 | G29: =-F29/12*(E29/100+(C29+$D$6-1)*D29/100-(D29+E29)/100*(C29+1)/2-($D$6-1)) -> 1
B30: ='FACTOR F'!B29 -> 250 | C30: =' อำนวยการ 1'!E28 -> 28 | D30: =$H$5 -> 0 | E30: =$H$6 -> 0 | F30: =$D$5 -> 6 | G30: =-F30/12*(E30/100+(C30+$D$6-1)*D30/100-(D30+E30)/100*(C30+1)/2-($D$6-1)) -> 1
B31: ='FACTOR F'!B30 -> 300 | C31: =' อำนวยการ 1'!E29 -> 30 | D31: =$H$5 -> 0 | E31: =$H$6 -> 0 | F31: =$D$5 -> 6 | G31: =-F31/12*(E31/100+(C31+$D$6-1)*D31/100-(D31+E31)/100*(C31+1)/2-($D$6-1)) -> 1
... B34: ='FACTOR F'!B33 -> 500 | C34: =' อำนวยการ 1'!E32 -> 36 | D34: =$H$5 -> 0 | E34: =$H$6 -> 0 | F34: =$D$5 -> 6 | G34: =-F34/12*(E34/100+(C34+$D$6-1)*D34/100-(D34+E34)/100*(C34+1)/2-($D$6-1)) -> 1
A35: > | B35: ='FACTOR F'!B34 -> 500 | C35: =' อำนวยการ 1'!E33 -> 40 | D35: =$H$5 -> 0 | E35: =$H$6 -> 0 | F35: =$D$5 -> 6 | G35: =-F35/12*(E35/100+(C35+$D$6-1)*D35/100-(D35+E35)/100*(C35+1)/2-($D$6-1)) -> 1
A39: หน้าที่ 36
A41: 3. กำไร
B43: ดอกเบี้ยเงินฝากประจำ 12 เดือน สำหรับนิติบุคคล | F43: 0 | G43: %(ยกเลิก)
B44: ระยะเวลาการเบิกจ่ายค่างาน | F44: 0 | G44: เดือน(ยกเลิก)
A46: ค่างาน ( ทุน ) | C46: กำไรปกติ | E46: กำไรเชิงธุรกิจ | G46: รวมกำไร | I46: หมายเหตุ
A47: ล้านบาท | C47: % | E47: % | G47: %
A48: < | B48: ='FACTOR F'!B11 -> 0.5 | C48: =$F$43/4 -> 0 | E48: 5.5 | G48: =C48+E48 -> 5.5
B49: ='FACTOR F'!B12 -> 1 | C49: =$F$43/4 -> 0 | E49: 5.5 | G49: =C49+E49 -> 5.5
B50: ='FACTOR F'!B13 -> 2 | C50: =$F$43/4 -> 0 | E50: 5.5 | G50: =C50+E50 -> 5.5
B51: ='FACTOR F'!B14 -> 5 | C51: =$F$43/4 -> 0 | E51: 5.5 | G51: =C51+E51 -> 5.5
B52: ='FACTOR F'!B15 -> 10 | C52: =$F$43/4 -> 0 | E52: 5 | G52: =C52+E52 -> 5
B53: ='FACTOR F'!B16 -> 15 | C53: =$F$43/4 -> 0 | E53: 5 | G53: =C53+E53 -> 5
B54: ='FACTOR F'!B17 -> 20 | C54: =$F$43/4 -> 0 | E54: 5 | G54: =C54+E54 -> 5
B55: ='FACTOR F'!B18 -> 25 | C55: =$F$43/4 -> 0 | E55: 4.5 | G55: =C55+E55 -> 4.5
B56: ='FACTOR F'!B19 -> 30 | C56: =$F$43/4 -> 0 | E56: 4.5 | G56: =C56+E56 -> 4.5
B57: ='FACTOR F'!B20 -> 40 | C57: =$F$43/4 -> 0 | E57: 4.5 | G57: =C57+E57 -> 4.5
B58: ='FACTOR F'!B21 -> 50 | C58: =$F$43/4 -> 0 | E58: 4.5 | G58: =C58+E58 -> 4.5
B59: ='FACTOR F'!B22 -> 60 | C59: =$F$43/4 -> 0 | E59: 4 | G59: =C59+E59 -> 4
B60: ='FACTOR F'!B23 -> 70 | C60: =$F$43/4 -> 0 | E60: 4 | G60: =C60+E60 -> 4
... B70: ='FACTOR F'!B33 -> 500 | C70: =$F$43/4 -> 0 | E70: 3.5 | G70: =C70+E70 -> 3.5
A71: > | B71: ='FACTOR F'!B34 -> 500 | C71: =$F$43/4 -> 0 | E71: 3.5 | G71: =C71+E71 -> 3.5

Sheet Sheet1
